Workbook

Sheet Lap. Bulan 1 
A1: LAPORAN PERKARA LALU LINTAS (TILANG) / PERKARA PIDANA CEPAT (TIPIRING)
A2: BULAN JANUARI 2021
A4: NO. | B4: TANGGAL SIDANG | C4: NO. PERKARA | F4: KESATUAN | J4: JUMLAH BERKAS | K4: JUMLAH DENDA | L4: JUMLAH BIAYA PERKARA | M4: KET. BEBAS | N4: HAKIM | O4: PANITERA PENGGANTI | P4: TGL PENYERAHAN KEJAKSAAN
F6: A | G6: B | H6: C | I6: D
A7: 1 | B7: 44204 | C7: =SUM('Tgl. 08.01.2021'!C5) -> 1 | D7: S/D | E7: =SUM('Tgl. 08.01.2021'!C19) -> 15 | F7: 15 | G7: - | H7: - | I7: - | J7: =SUM(F7:I7) -> 15 | K7: =SUM('Tgl. 08.01.2021'!L21) -> 2785000 | L7: =SUM(J7*1000)-(M7*1000) -> 15000 | M7: 0 | N7: NI PUTU SRI INDAYANI,S.H.,M.H. | O7: ANDAYANI,S.H. | P7: 44204
A8: 2 | B8: 44211 | C8: =SUM('Tgl. 15.01.2021'!C5) -> 16 | D8: S/D | E8: =SUM('Tgl. 15.01.2021'!C12) -> 23 | F8: 8 | G8: - | H8: - | I8: - | J8: =SUM(F8:I8) -> 8 | K8: =SUM('Tgl. 15.01.2021'!L14) -> 1842000 | L8: =SUM(J8*1000)-(M8*1000) -> 8000 | M8: 0 | N8: M. YUSUF KARIM,S.H.,M.Hum | O8: BURHANUDDIN,S.H.,M.H. | P8: 44211
A9: 3 | B9: 44218 | C9: =SUM('Tgl. 22.01.2021'!C5) -> 24 | D9: S/D | E9: =SUM('Tgl. 22.01.2021'!C6) -> 25 | F9: 2 | G9: - | H9: - | I9: - | J9: =SUM(F9:I9) -> 2 | K9: =SUM('Tgl. 22.01.2021'!L8) -> 698000 | L9: =SUM(J9*1000)-(M9*1000) -> 2000 | M9: 0 | N9: RIYANTO ALOYSIUS,S.H.,M.H. | O9: ALID BURHAN,S.H. | P9: 44218
A10: 4 | B10: 44225 | C10: =SUM('Tgl. 29.01.2021'!C5) -> 26 | D10: S/D | E10: =SUM('Tgl. 29.01.2021'!C8) -> 29 | F10: 4 | G10: - | H10: - | I10: - | J10: =SUM(F10:I10) -> 4 | K10: =SUM('Tgl. 29.01.2021'!L10) -> 596000 | L10: =SUM(J10*1000)-(M10*1000) -> 4000 | M10: 0 | N10: RUSDIYANTO LOLEH,SH.,M.H. | O10: HJ. BONGKO DAENG | P10: 44225
A11: JUMLAH KESELURUHAN : | F11: =SUM(F7:F10) -> 29 | G11: =SUM(G7:G10) -> 0 | H11: =SUM(H7:H10) -> 0 | I11: =SUM(I7:I10) -> 0 | J11: =SUM(J7:J10) -> 29 | K11: =SUM(K7:K10) -> 5921000 | L11: =SUM(L7:L10) -> 29000 | M11: =SUM(M7:M10) -> 0
A12: KETERANGAN :
A13: A= POLRESTABES | E13: C= PJR
A14: B= PELABUHAN | E14: D= DITLANTAS
A16: TIPIRING | C16: : | D16: N I H I L

Sheet Tgl. 08.01.2021
A1: PENGADILAN NEGERI MAKASSAR
A2: TANGGAL 08.11.2021
D3: P O L R E S T A B E S
A4: NO. | B4: NO. BULAN | C4: NO. REG | D4: NAMA TERDAKWA/ TERPIDANA | E4: ALAMAT TERDAKWA/ TERPIDANA | F4: PASAL YANG DILANGGAR | G4: NO. POLISI | H4: BARANG BUKTI | I4: NO. TILANG | J4: DENDA | K4: ONGKOS PERKARA
A5: 1 | B5: 1 | C5: 1 | D5: ANDI AINUL | E5: BULUKUMBA | F5: 1 pasal : Pasal 297 | G5: DD6064ZZ | H5: 20|STNK | I5: F7760697 | J5: 249000 | K5: 1000
A6: 2 | B6: 2 | C6: 2 | D6: M PATIMBONG | E6: JL HARIMAU 77 | F6: 2 pasal : Pasal 288 ayat (2) jo Pasal 106 ayat (5) huruf b, Pasal 288 ayat (1) jo Pasal 106 ayat (5) huruf a | G6: DD--------- | H6: 40|KENDARAAN | I6: F7761180 | J6: 249000 | K6: 1000
A7: 3 | B7: 3 | C7: 3 | D7: NANDY WIJAYA | E7: BENTENG SOMBA OPU | F7: 1 pasal : Pasal 281 jo Pasal 77 ayat (1) | G7: DD2375XY | H7: 40|KENDARAAN | I7: F7761176 | J7: 249000 | K7: 1000
A8: 4 | B8: 4 | C8: 4 | D8: WAWAN | E8: BAROMBONG | F8: 2 pasal : Pasal 281 jo Pasal 77 ayat (1), Pasal 288 ayat (1) jo Pasal 106 ayat (5) huruf a | G8: DD3273CR | H8: 40|KENDARAAN | I8: F7761171 | J8: 249000 | K8: 1000
A9: 5 | B9: 5 | C9: 5 | D9: FIRMAN | E9: BAROMBONG | F9: 2 pasal : Pasal 288 ayat (2) jo Pasal 106 ayat (5) huruf b, Pasal 288 ayat (1) jo Pasal 106 ayat (5) huruf a | G9: DN5034KD | H9: 40|KENDARAAN | I9: F7760005 | J9: 149000 | K9: 1000
A10: 6 | B10: 6 | C10: 6 | D10: JAYA | E10: BULUKUMBA | F10: 1 pasal : Pasal 281 jo Pasal 77 ayat (1) | G10: DD4176SV | H10: 40|KENDARAAN | I10: F7760009 | J10: 149000 | K10: 1000
A11: 7 | B11: 7 | C11: 7 | D11: WAWAN | E11: BAROMBONG | F11: 2 pasal : Pasal 281 jo Pasal 77 ayat (1), Pasal 285 ayat (2) Jo Pasal 106 ayat (3) | G11: DD4097SD | H11: 40|KENDARAAN | I11: F7760007 | J11: 149000 | K11: 1000
A12: 8 | B12: 8 | C12: 8 | D12: M RAUL | E12: BULUKUMBA | F12: 2 pasal : Pasal 281 jo Pasal 77 ayat (1), Pasal 288 ayat (1) jo Pasal 106 ayat (5) huruf a | G12: DD6838VY | H12: 40|KENDARAAN | I12: F7760008 | J12: 149000 | K12: 1000
A13: 9 | B13: 9 | C13: 9 | D13: ZUL FADLI | E13: GOWA | F13: 2 pasal : Pasal 281 jo Pasal 77 ayat (1), Pasal 288 ayat (1) jo Pasal 106 ayat (5) huruf a | G13: DD6923YR | H13: 40|KENDARAAN | I13: F7760217 | J13: 149000 | K13: 1000
A14: 10 | B14: 10 | C14: 10 | D14: ISMAIL | E14: BAROMBONG GOWA | F14: 2 pasal : Pasal 288 ayat (2) jo Pasal 106 ayat (5) huruf b, Pasal 288 ayat (1) jo Pasal 106 ayat (5) huruf a | G14: DD3268YQ | H14: 40|KENDARAAN | I14: F7761178 | J14: 149000 | K14: 1000
A15: 11 | B15: 11 | C15: 11 | D15: ARDIANSYAH | E15: JL KARUWISI | F15: 2 pasal : Pasal 288 ayat (2) jo Pasal 106 ayat (5) huruf b, Pasal 288 ayat (1) jo Pasal 106 ayat (5) huruf a | G15: DD4389CH | H15: 40|KENDARAAN | I15: F7761179 | J15: 149000 | K15: 1000
A16: 12 | B16: 12 | C16: 12 | D16: NUR IKSAN | E16: BAROMBONG GOWA | F16: 2 pasal : Pasal 288 ayat (2) jo Pasal 106 ayat (5) huruf b, Pasal 288 ayat (1) jo Pasal 106 ayat (5) huruf a | G16: DD2971B | H16: 40|KENDARAAN | I16: F7761177 | J16: 149000 | K16: 1000
... A19: 15 | B19: 15 | C19: 15 | D19: M ALFANSURI | E19: BAROMBONG | F19: 1 pasal : Pasal 281 jo Pasal 77 ayat (1) | G19: DD4452YZ | H19: 40|KENDARAAN | I19: F7761173 | J19: 249000 | K19: 1000
L20: =SUM(J5:J19) -> 2785000 | M20: =SUM(K5:K19) -> 15000
J21: T O T A L | L21: =SUM(L20) -> 2785000 | M21: =SUM(M20) -> 15000
L1059: =SUM(#REF!) -> #REF! | M1059: =SUM(#REF!) -> #REF!
L1078: =SUM(#REF!) -> #REF! | M1078: =SUM(#REF!) -> #REF!
L1079: =SUM(L837:L1078) -> #REF! | M1079: =SUM(M837:M1078) -> #REF!

Sheet Tgl. 15.01.2021
A1: PENGADILAN NEGERI MAKASSAR
A2: TANGGAL 15.01.2021
D3: P O L R E S T A B E S
A4: NO. | B4: NO. BULAN | C4: NO. REG | D4: NAMA TERDAKWA/ TERPIDANA | E4: ALAMAT TERDAKWA/ TERPIDANA | F4: PASAL YANG DILANGGAR | G4: NO. POLISI | H4: BARANG BUKTI | I4: NO. TILANG | J4: DENDA | K4: ONGKOS PERKARA
A5: 1 | B5: 16 | C5: 16 | D5: MULYADI | E5: MONCONG LOE | F5: 2 pasal : Pasal 288 ayat (2) jo Pasal 106 ayat (5) huruf b, Pasal 288 ayat (1) jo Pasal 106 ayat (5) huruf a | G5: DD6780KN | H5: 40|KENDARAAN | I5: F7761044 | J5: 249000 | K5: 1000
A6: 2 | B6: 17 | C6: 17 | D6: HASAN | E6: JL BONTO DURI | F6: 2 pasal : Pasal 281 jo Pasal 77 ayat (1), Pasal 288 ayat (1) jo Pasal 106 ayat (5) huruf a | G6: DD3244PL | H6: 40|KENDARAAN | I6: F7761041 | J6: 199000 | K6: 1000
A7: 3 | B7: 18 | C7: 18 | D7: YUMSAR | E7: GOWA | F7: 2 pasal : Pasal 281 jo Pasal 77 ayat (1), Pasal 288 ayat (1) jo Pasal 106 ayat (5) huruf a | G7: DP4875HP | H7: 40|KENDARAAN | I7: F7757205 | J7: 249000 | K7: 1000
A8: 4 | B8: 19 | C8: 19 | D8: ISMAIL | E8: JL RAPPOKALLING | F8: 2 pasal : Pasal 281 jo Pasal 77 ayat (1), Pasal 288 ayat (1) jo Pasal 106 ayat (5) huruf a | G8: DD----------- | H8: 40|KENDARAAN | I8: F7761043 | J8: 249000 | K8: 1000
A9: 5 | B9: 20 | C9: 20 | D9: ANDI RENALDI | E9: DAYA, MANGGA TIGA | F9: 1 pasal : Pasal 297 | G9: DD----------- | H9: 40|KENDARAAN | I9: F7760953 | J9: 199000 | K9: 1000
A10: 6 | B10: 21 | C10: 21 | D10: ANUGRAH SAPUTRA | E10: ABLAM | F10: 2 pasal : Pasal 281 jo Pasal 77 ayat (1), Pasal 285 ayat (2) Jo Pasal 106 ayat (3) | G10: DD4626MT | H10: 40|KENDARAAN | I10: F7760465 | J10: 199000 | K10: 1000
A11: 7 | B11: 22 | C11: 22 | D11: M SAPUTRA | E11: JENE TALLASA | F11: 2 pasal : Pasal 281 jo Pasal 77 ayat (1), Pasal 288 ayat (1) jo Pasal 106 ayat (5) huruf a | G11: DD2073IS | H11: 40|KENDARAAN | I11: F7761042 | J11: 249000 | K11: 1000
A12: 8 | B12: 23 | C12: 23 | D12: PANDI | E12: BTP BLOK 4 | F12: 2 pasal : Pasal 288 ayat (2) jo Pasal 106 ayat (5) huruf b, Pasal 288 ayat (1) jo Pasal 106 ayat (5) huruf a | G12: DD2018UB | H12: 40|KENDARAAN | I12: F7760952 | J12: 249000 | K12: 1000
L13: =SUM(J5:J12) -> 1842000 | M13: =SUM(K5:K12) -> 8000
J14: T O T A L | L14: =SUM(L13) -> 1842000 | M14: =SUM(M13) -> 8000

Sheet Tgl. 22.01.2021
A1: PENGADILAN NEGERI MAKASSAR
A2: TANGGAL 22.01.2021
D3: P O L R E S T A B E S
A4: NO. | B4: NO. BULAN | C4: NO. REG | D4: NAMA TERDAKWA/ TERPIDANA | E4: ALAMAT TERDAKWA/ TERPIDANA | F4: PASAL YANG DILANGGAR | G4: NO. POLISI | H4: BARANG BUKTI | I4: NO. TILANG | J4: DENDA | K4: ONGKOS PERKARA
A5: 1 | B5: 24 | C5: 24 | D5: ASRUL | E5: JENEPONTO | F5: 2 pasal : Pasal 288 ayat (1) jo Pasal 106 ayat (5) huruf a,Pasal 288 ayat (2) jo Pasal 106 ayat (5) huruf b | G5: DD1421LC | H5: 40|KENDARAAN | I5: F7760835 | J5: 349000 | K5: 1000
A6: 2 | B6: 25 | C6: 25 | D6: ASMAR | E6: BTN WIDYA | F6: 1 pasal : Pasal 285 ayat (2) Jo Pasal 106 ayat (3) Jo Pasal 48 ayat (2) | G6: DD1939RN | H6: 40|KENDARAAN | I6: F7761175 | J6: 349000 | K6: 1000
L7: =SUM(J5:J6) -> 698000 | M7: =SUM(K5:K6) -> 2000
J8: T O T A L | L8: =SUM(L7) -> 698000 | M8: =SUM(M7) -> 2000

Sheet Tgl. 29.01.2021
A1: PENGADILAN NEGERI MAKASSAR
A2: TANGGAL 29.01.2021
D3: P O L R E S T A B E S
A4: NO. | B4: NO. BULAN | C4: NO. REG | D4: NAMA TERDAKWA/ TERPIDANA | E4: ALAMAT TERDAKWA/ TERPIDANA | F4: PASAL YANG DILANGGAR | G4: NO. POLISI | H4: BARANG BUKTI | I4: NO. TILANG | J4: DENDA | K4: ONGKOS PERKARA
A5: 1 | B5: 26 | C5: 26 | D5: MUH IKHSAN | E5: JL MNGERANGI | F5: 1 pasal : Pasal 281 jo Pasal 77 ayat (1) | G5: DD3980SL | H5: 20|STNK | I5: F7760870 | J5: 149000 | K5: 1000
A6: 2 | B6: 27 | C6: 27 | D6: ABDUL RAJAB | E6: JENEPONTO | F6: 1 pasal : Pasal 288 ayat (3) Jo Pasal 106 ayat (5) huruf c | G6: DD8487XX | H6: 11|SIM A | I6: F7760959 | J6: 149000 | K6: 1000
A7: 3 | B7: 28 | C7: 28 | D7: MUH REZA | E7: BTN ASABRI | F7: 2 pasal : Pasal 281 jo Pasal 77 ayat (1),Pasal 291 ayat (2) Jo Pasal 106 ayat (8) | G7: DD5827RW | H7: 20|STNK | I7: F7760527 | J7: 149000 | K7: 1000
A8: 4 | B8: 29 | C8: 29 | D8: AMANDA | F8: 2 pasal : Pasal 288 ayat (2) jo Pasal 106 ayat (5) huruf b,Pasal 291 ayat (2) Jo Pasal 106 ayat (8) | G8: DD5035KO | H8: 20|STNK | I8: F7760526 | J8: 149000 | K8: 1000
L9: =SUM(J5:J8) -> 596000 | M9: =SUM(K5:K8) -> 4000
J10: T O T A L | L10: =SUM(L9) -> 596000 | M10: =SUM(M9) -> 4000

Sheet Lap. Bulan 2 
A1: LAPORAN PERKARA LALU LINTAS (TILANG) / PERKARA PIDANA CEPAT (TIPIRING)
A2: BULAN FEBRUARI 2021
A4: NO. | B4: TANGGAL SIDANG | C4: NO. PERKARA | F4: KESATUAN | J4: JUMLAH BERKAS | K4: JUMLAH DENDA | L4: JUMLAH BIAYA PERKARA | M4: KET. BEBAS | N4: HAKIM | O4: PANITERA PENGGANTI | P4: TGL PENYERAHAN KEJAKSAAN
F6: A | G6: B | H6: C | I6: D
A7: 1 | B7: 44232 | C7: =SUM('Tgl. 05.02.2021'!C5) -> 30 | D7: S/D | E7: =SUM('Tgl. 05.02.2021'!C60) -> 85 | F7: 56 | G7: - | H7: - | I7: - | J7: =SUM(F7:I7) -> 56 | K7: =SUM('Tgl. 05.02.2021'!L62) -> 6744000 | L7: =SUM(J7*1000)-(M7*1000) -> 56000 | M7: 0 | N7: RIKA MONA PANDEGIROT,S.H.,M.H. | O7: SUGENG,S.H.,M.H. | P7: 44232
A8: 2 | B8: 44246 | C8: =SUM('Tgl. 19.02.2021'!C5) -> 86 | D8: S/D | E8: =SUM('Tgl. 19.02.2021'!C188) -> 269 | F8: 184 | G8: - | H8: - | I8: - | J8: =SUM(F8:I8) -> 184 | K8: =SUM('Tgl. 19.02.2021'!L190) -> 28616000 | L8: =SUM(J8*1000)-(M8*1000) -> 184000 | M8: 0 | N8: DODDY HENDRASAKTI,S.H. | O8: BESSE MARWIYAWATI,S.H. | P8: 44246
A9: JUMLAH KESELURUHAN : | F9: =SUM(F7:F8) -> 240 | G9: =SUM(G7:G8) -> 0 | H9: =SUM(H7:H8) -> 0 | I9: =SUM(I7:I8) -> 0 | J9: =SUM(J7:J8) -> 240 | K9: =SUM(K7:K8) -> 35360000 | L9: =SUM(L7:L8) -> 240000 | M9: =SUM(M7:M8) -> 0
A10: KETERANGAN :
A11: A= POLRESTABES | E11: C= PJR
A12: B= PELABUHAN | E12: D= DITLANTAS
A14: TIPIRING | C14: : | D14: N I H I L

Sheet Tgl. 05.02.2021
A1: PENGADILAN NEGERI MAKASSAR
A2: TANGGAL 05.02.2021
D3: P O L R E S T A B E S
A4: NO. | B4: NO. BULAN | C4: NO. REG | D4: NAMA TERDAKWA/ TERPIDANA | E4: ALAMAT TERDAKWA/ TERPIDANA | F4: PASAL YANG DILANGGAR | G4: NO. POLISI | H4: BARANG BUKTI | I4: NO. TILANG | J4: DENDA | K4: ONGKOS PERKARA
A5: 1 | B5: 1 | C5: 30 | D5: ABDUL GANI | E5: JL BARUKANG | F5: 2 pasal : Pasal 281 jo Pasal 77 ayat (1),Pasal 291 ayat (1) Jo Pasal 106 ayat (8) | G5: DD6231KQ | H5: 20|STNK | I5: F7760921 | J5: 149000 | K5: 1000
A6: 2 | B6: 2 | C6: 31 | D6: MUH AKBAR | E6: DESA NELAYAN | F6: 1 pasal : Pasal 281 jo Pasal 77 ayat (1) | G6: DD2186VI | H6: 20|STNK | I6: F7760944 | J6: 174000 | K6: 1000
A7: 3 | B7: 3 | C7: 32 | D7: ANARI | E7: GALESONG | F7: 1 pasal : Pasal 281 jo Pasal 77 ayat (1) | G7: DD4201GT | H7: 20|STNK | I7: F7760937 | J7: 49000 | K7: 1000
A8: 4 | B8: 4 | C8: 33 | D8: ANDI HENDRA | E8: PERUM NUSA HARAPAN | F8: 2 pasal : Pasal 285 ayat (1) Jo Pasal 106 ayat (3),Pasal 287 ayat (1) jo Pasal 106 ayat (4) huruf a dan Pasal 106 ayat (4) huruf b | G8: DD6341SK | H8: 10|SIM C | I8: F7760923 | J8: 174000 | K8: 1000
A9: 5 | B9: 5 | C9: 34 | D9: MUH ADRIANTO | E9: JL. MUH JUFRI LR 4/6 | F9: 2 pasal : Pasal 287 ayat (1) jo Pasal 106 ayat (4) huruf a,Pasal 288 ayat (2) jo Pasal 106 ayat (5) huruf b | G9: DD6238QO | H9: 20|STNK | I9: F7761036 | J9: 49000 | K9: 1000
A10: 6 | B10: 6 | C10: 35 | D10: NOVI | E10: MAKASSAR | F10: 1 pasal : Pasal 287 ayat (1) jo Pasal 106 ayat (4) huruf a dan Pasal 106 ayat (4) huruf b | G10: DD6797MD | H10: 20|STNK | I10: F7761281 | J10: 99000 | K10: 1000
A11: 7 | B11: 7 | C11: 36 | D11: AYUB PANGGALONGAN | E11: JL SUNU | F11: 1 pasal : Pasal 287 ayat (1) jo Pasal 106 ayat (4) huruf a | G11: DD8574HD | H11: 12|SIM BI | I11: F7760545 | J11: 149000 | K11: 1000
A12: 8 | B12: 8 | C12: 37 | D12: HAMZAH | E12: JL ABLAM | F12: 1 pasal : Pasal 287 ayat (1) jo Pasal 106 ayat (4) huruf a | G12: DD8580XI | H12: 20|STNK | I12: F7760909 | J12: 174000 | K12: 1000
A13: 9 | B13: 9 | C13: 38 | D13: AKHIRUDDIN | E13: JL KIJANG | F13: 1 pasal : Pasal 287 ayat (1) jo Pasal 106 ayat (4) huruf a | G13: DD---------- | H13: 11|SIM A | I13: F7760762 | J13: 149000 | K13: 1000
A14: 10 | B14: 10 | C14: 39 | D14: WAHYU WANSARIANSYAH | E14: JL P KEMERDEKAAN | F14: 1 pasal : Pasal 287 ayat (1) jo Pasal 106 ayat (4) huruf a | G14: DB8419EY | H14: 12|SIM BI | I14: F7760910 | J14: 149000 | K14: 1000
A15: 11 | B15: 11 | C15: 40 | D15: RIZAL | E15: KAB SIDRAP | F15: 1 pasal : Pasal 288 ayat (1) jo Pasal 106 ayat (5) huruf a | G15: DP8911DG | H15: 11|SIM A | I15: F7760894 | J15: 149000 | K15: 1000
A16: 12 | B16: 12 | C16: 41 | D16: -- | E16: -- | F16: 2 pasal : Pasal 291 ayat (2) Jo Pasal 106 ayat (8),Pasal 281 jo Pasal 77 ayat (1) | G16: DP2590SN | H16: 20|STNK | I16: F7761040 | J16: 149000 | K16: 1000
... A35: 31 | B35: 31 | C35: 60 | D35: ANDI AFRIZAL | E35: JL DG TATA | F35: 1 pasal : Pasal 287 ayat (1) jo Pasal 106 ayat (4) huruf a | G35: DD3054KH | H35: 20|STNK | I35: F7760925 | J35: 49000 | K35: 1000
A36: 32 | B36: 32 | C36: 61 | D36: BATARI TAJUDDIN | F36: 1 pasal : Pasal 287 ayat (1) jo Pasal 106 ayat (4) huruf a dan Pasal 106 ayat (4) huruf b | G36: DD5254MB | H36: 10|SIM C | I36: F7760585 | J36: 99000 | K36: 1000
A37: 33 | B37: 33 | C37: 62 | D37: LUSIANA | F37: 1 pasal : Pasal 287 ayat (1) jo Pasal 106 ayat (4) huruf a dan Pasal 106 ayat (4) huruf b | G37: DD1672UM | H37: 20|STNK | I37: F7760584 | J37: 149000 | K37: 1000
A38: 34 | B38: 34 | C38: 63 | D38: FAJAR WAHYUDI | E38: JL KORBAN 40000 | F38: 2 pasal : Pasal 280 jo Pasal 68 ayat (1),Pasal 288 ayat (1) jo Pasal 106 ayat (5) huruf a | G38: DD2616QI | H38: 10|SIM C | I38: F7760926 | J38: 49000 | K38: 1000
A39: 35 | B39: 35 | C39: 64 | D39: YUSNIDAR SH | E39: JL KOMP BUDI DAYA | F39: 1 pasal : Pasal 287 ayat (1) jo Pasal 106 ayat (4) huruf a dan Pasal 106 ayat (4) huruf b | G39: DD4251XF | H39: 10|SIM C | I39: F7760084 | J39: 49000 | K39: 1000
A40: 36 | B40: 36 | C40: 65 | D40: ILHAM | E40: MAKASSAR | F40: 1 pasal : Pasal 287 ayat (1) jo Pasal 106 ayat (4) huruf a | G40: DD4063KS | H40: 20|STNK | I40: F7760940 | J40: 49000 | K40: 1000
A41: 37 | B41: 37 | C41: 66 | D41: RAFLIYADI | E41: PALLANGGA | F41: 1 pasal : Pasal 285 ayat (1) Jo Pasal 106 ayat (3) | G41: DD5440YN | H41: 20|STNK | I41: F7760938 | J41: 99000 | K41: 1000
A42: 38 | B42: 38 | C42: 67 | D42: WAJDAN NOER | E42: JL KANGKUNG | F42: 1 pasal : Pasal 287 ayat (1) jo Pasal 106 ayat (4) huruf a | G42: DD3657DF | H42: 20|STNK | I42: F7760939 | J42: 149000 | K42: 1000
A43: 39 | B43: 39 | C43: 68 | D43: ROSTINA | E43: GOWA | F43: 1 pasal : Pasal 291 ayat (1) Jo Pasal 106 ayat (8) | G43: DD---------- | H43: 10|SIM C | I43: F7761304 | J43: 99000 | K43: 1000
A44: 40 | B44: 40 | C44: 69 | D44: ANGGA | E44: JL KERUNG-KERUNG | F44: 1 pasal : Pasal 287 ayat (1) jo Pasal 106 ayat (4) huruf a | G44: DD8650HE | H44: 20|STNK | I44: F7761305 | J44: 199000 | K44: 1000
A45: 41 | B45: 41 | C45: 70 | D45: AHMAD RYADI | E45: JL TEUKU UMAR | F45: 1 pasal : Pasal 287 ayat (1) jo Pasal 106 ayat (4) huruf a | G45: DD---------- | H45: 10|SIM C | I45: F7761291 | J45: 99000 | K45: 1000
A46: 42 | B46: 42 | C46: 71 | D46: RANDANI | E46: MAKASSAR | F46: 1 pasal : Pasal 287 ayat (1) jo Pasal 106 ayat (4) huruf a | G46: DD6187YW | H46: 20|STNK | I46: F7761010 | J46: 99000 | K46: 1000
A47: 43 | B47: 43 | C47: 72 | D47: AHMAD FUAD FAQIH | E47: BTN TAMARUNANG | F47: 2 pasal : Pasal 281 jo Pasal 77 ayat (1),Pasal 291 ayat (2) Jo Pasal 106 ayat (8) | G47: DD4043KV | H47: 20|STNK | I47: F7760922 | J47: 149000 | K47: 1000
A48: 44 | B48: 44 | C48: 73 | D48: JAMALUDDIN | E48: GOWA | F48: 1 pasal : Pasal 287 ayat (1) jo Pasal 106 ayat (4) huruf a | G48: DD2129BW | H48: 20|STNK | I48: F7761285 | J48: 99000 | K48: 1000
A49: 45 | B49: 45 | C49: 74 | D49: WITRY | E49: JL BANGKALA DALAM | F49: 1 pasal : Pasal 287 ayat (1) jo Pasal 106 ayat (4) huruf a | G49: DD5463RZ | H49: 20|STNK | I49: F7760787 | J49: 149000 | K49: 1000
... A60: 56 | B60: 56 | C60: 85 | D60: NADA KURNIAWAN | E60: BTN ASABRI BLK F1/14 | F60: 1 pasal : Pasal 287 ayat (1) jo Pasal 106 ayat (4) huruf a | G60: DD4769TI | H60: 20|STNK | I60: F7761263 | J60: 49000 | K60: 1000
L61: =SUM(J5:J60) -> 6744000 | M61: =SUM(K5:K60) -> 56000
J62: T O T A L | L62: =SUM(L61) -> 6744000 | M62: =SUM(M61) -> 56000

Sheet Tgl. 19.02.2021
A1: PENGADILAN NEGERI MAKASSAR
A2: TANGGAL 19.02.2021
D3: P O L R E S T A B E S
A4: NO. | B4: NO. BULAN | C4: NO. REG | D4: NAMA TERDAKWA/ TERPIDANA | E4: ALAMAT TERDAKWA/ TERPIDANA | F4: PASAL YANG DILANGGAR | G4: NO. POLISI | H4: BARANG BUKTI | I4: NO. TILANG | J4: DENDA | K4: ONGKOS PERKARA
A5: 1 | B5: 57 | C5: 86 | D5: ANDI TENRI | E5: JL BORONG RAYA | F5: 1 pasal : Pasal 287 ayat (1) jo Pasal 106 ayat (4) huruf a | G5: DD3802RK | H5: 20|STNK | I5: F7759090 | J5: 99000 | K5: 1000
A6: 2 | B6: 58 | C6: 87 | D6: SADDANG | E6: MAKASSAR | F6: 1 pasal : Pasal 287 ayat (1) jo Pasal 106 ayat (4) huruf a | G6: DD3218SP | H6: 20|STNK | I6: F7760085 | J6: 99000 | K6: 1000
A7: 3 | B7: 59 | C7: 88 | D7: MARAMBI | E7: JL GUNUNG SARI | F7: 1 pasal : Pasal 287 ayat (3) jo Pasal 106 ayat (4) huruf e | G7: DD3567VE | H7: 20|STNK | I7: F7760995 | J7: 99000 | K7: 1000
A8: 4 | B8: 60 | C8: 89 | D8: WAHYU | E8: JL PANDANG | F8: 1 pasal : Pasal 291 ayat (2) Jo Pasal 106 ayat (8) | G8: DP6436TB | H8: 20|STNK | I8: F7757194 | J8: 49000 | K8: 1000
A9: 5 | B9: 61 | C9: 90 | D9: AHMAD | E9: JL [PONGTIKU | F9: 1 pasal : Pasal 287 ayat (1) jo Pasal 106 ayat (4) huruf a | G9: DD1436KK | H9: 20|STNK | I9: F7760994 | J9: 174000 | K9: 1000
A10: 6 | B10: 62 | C10: 91 | D10: ABD MALIK | E10: JL RAPPOCINI | F10: 2 pasal : Pasal 288 ayat (2) jo Pasal 106 ayat (5) huruf b,Pasal 291 ayat (2) Jo Pasal 106 ayat (8) | G10: DD5539SO | H10: 20|STNK | I10: F7761159 | J10: 149000 | K10: 1000
A11: 7 | B11: 63 | C11: 92 | D11: JUNITA ROH KAMAYA | E11: WAJO | F11: 1 pasal : Pasal 291 ayat (2) Jo Pasal 106 ayat (8) | G11: DD2613NA | H11: 10|SIM C | I11: F7761158 | J11: 99000 | K11: 1000
A12: 8 | B12: 64 | C12: 93 | D12: SUHESTI | E12: JL MAKKIO BAJI | F12: 2 pasal : Pasal 291 ayat (2) Jo Pasal 106 ayat (8),Pasal 292 Jo Pasal 106 ayat (9) | G12: DD6742HR | H12: 20|STNK | I12: F7761303 | J12: 49000 | K12: 1000
A13: 9 | B13: 65 | C13: 94 | D13: NUR AINI | E13: KAB LUWU TIMUR | F13: 2 pasal : Pasal 288 ayat (1) jo Pasal 106 ayat (5) huruf a,Pasal 292 Jo Pasal 106 ayat (9) | G13: DD4782OK | H13: 10|SIM C | I13: F7760789 | J13: 99000 | K13: 1000
A14: 10 | B14: 66 | C14: 95 | D14: SYAMSUL BASRI | E14: JL BIRING ROMANG | F14: 1 pasal : Pasal 287 ayat (1) jo Pasal 106 ayat (4) huruf a | G14: DD5976UF | H14: 10|SIM C | I14: F7760083 | J14: 49000 | K14: 1000
A15: 11 | B15: 67 | C15: 96 | D15: MUH YUSRAN | E15: TAKALAR | F15: 1 pasal : Pasal 287 ayat (1) jo Pasal 106 ayat (4) huruf a dan Pasal 106 ayat (4) huruf b | G15: DD6069SI | H15: 10|SIM C | I15: F7760788 | J15: 49000 | K15: 1000
A16: 12 | B16: 68 | C16: 97 | D16: ADINDRA GUNAWAN | E16: BTN BUMI SAMATA | F16: 1 pasal : Pasal 287 ayat (1) jo Pasal 106 ayat (4) huruf a dan Pasal 106 ayat (4) huruf b | G16: DD2158LN | H16: BLOKIR STNK | I16: E7888001 | J16: 149000 | K16: 1000
... A37: 33 | B37: 89 | C37: 118 | D37: DIAN ANDRIANI | E37: JL KENANGA | F37: 1 pasal : Pasal 287 ayat (1) jo Pasal 106 ayat (4) huruf a dan Pasal 106 ayat (4) huruf b | G37: DD2469AS | H37: BLOKIR STNK | I37: E7888022 | J37: 149000 | K37: 1000
A38: 34 | B38: 90 | C38: 119 | E38: MAKASSAR | F38: 1 pasal : Pasal 287 ayat (1) jo Pasal 106 ayat (4) huruf a dan Pasal 106 ayat (4) huruf b | G38: DD2494RQ | H38: BLOKIR STNK | I38: E7888023 | J38: 149000 | K38: 1000
A39: 35 | B39: 91 | C39: 120 | D39: JUMRIAH | E39: JL VETRAN UTARA LR 295 | F39: 1 pasal : Pasal 287 ayat (1) jo Pasal 106 ayat (4) huruf a dan Pasal 106 ayat (4) huruf b | G39: DD4237MC | H39: BLOKIR STNK | I39: E7888024 | J39: 149000 | K39: 1000
A40: 36 | B40: 92 | C40: 121 | D40: SUARDY | E40: JL BUTTA-BUTTA CADDI | F40: 1 pasal : Pasal 287 ayat (1) jo Pasal 106 ayat (4) huruf a dan Pasal 106 ayat (4) huruf b | G40: DD3624QZ | H40: BLOKIR STNK | I40: E7888025 | J40: 149000 | K40: 1000
A41: 37 | B41: 93 | C41: 122 | D41: AZRIANI AZIS | E41: JL KUMALA 2 | F41: 1 pasal : Pasal 287 ayat (1) jo Pasal 106 ayat (4) huruf a dan Pasal 106 ayat (4) huruf b | G41: DD6967KR | H41: BLOKIR STNK | I41: E7888026 | J41: 149000 | K41: 1000
A42: 38 | B42: 94 | C42: 123 | D42: SALMA NURDIN | E42: JL BAYAM LR 3 | F42: 1 pasal : Pasal 287 ayat (1) jo Pasal 106 ayat (4) huruf a dan Pasal 106 ayat (4) huruf b | G42: DD4043MV | H42: BLOKIR STNK | I42: E7888027 | J42: 149000 | K42: 1000
A43: 39 | B43: 95 | C43: 124 | D43: Y A M I N | E43: P KEMERDEKAAN 18 | F43: 1 pasal : Pasal 287 ayat (1) jo Pasal 106 ayat (4) huruf a dan Pasal 106 ayat (4) huruf b | G43: DD2554OI | H43: BLOKIR STNK | I43: E7888028 | J43: 149000 | K43: 1000
A44: 40 | B44: 96 | C44: 125 | D44: JAKA IRAYA BAMBANG | E44: JL AMD NO 59 | F44: 1 pasal : Pasal 287 ayat (1) jo Pasal 106 ayat (4) huruf a dan Pasal 106 ayat (4) huruf b | G44: DD2593XF | H44: BLOKIR STNK | I44: E7888029 | J44: 149000 | K44: 1000
A45: 41 | B45: 97 | C45: 126 | D45: SRI REJEKI | E45: JL MUHAJIRIN 3 | F45: 1 pasal : Pasal 287 ayat (1) jo Pasal 106 ayat (4) huruf a dan Pasal 106 ayat (4) huruf b | G45: DD1386SS | H45: BLOKIR STNK | I45: E7888030 | J45: 249000 | K45: 1000
A46: 42 | B46: 98 | C46: 127 | D46: HJ NURLIA | E46: JL TINUMBU LR 154 | F46: 1 pasal : Pasal 287 ayat (1) jo Pasal 106 ayat (4) huruf a dan Pasal 106 ayat (4) huruf b | G46: DD2621RY | H46: BLOKIR STNK | I46: E7888031 | J46: 149000 | K46: 1000
A47: 43 | B47: 99 | C47: 128 | D47: SURAHMAN | E47: BTP BLOK J | F47: 1 pasal : Pasal 287 ayat (1) jo Pasal 106 ayat (4) huruf a dan Pasal 106 ayat (4) huruf b | G47: DD6064MN | H47: BLOKIR STNK | I47: E7888032 | J47: 149000 | K47: 1000
A48: 44 | B48: 100 | C48: 129 | D48: FATTAHULLAH | E48: JL P KEMERDEKAAN | F48: 1 pasal : Pasal 287 ayat (1) jo Pasal 106 ayat (4) huruf a dan Pasal 106 ayat (4) huruf b | G48: DD6730RE | H48: BLOKIR STNK | I48: E7888033 | J48: 149000 | K48: 1000
A49: 45 | B49: 101 | C49: 130 | D49: AHMAD ALI TAUFIK | E49: JL TUPAI | F49: 1 pasal : Pasal 287 ayat (1) jo Pasal 106 ayat (4) huruf a dan Pasal 106 ayat (4) huruf b | G49: DD2233MD | H49: BLOKIR STNK | I49: E7888034 | J49: 149000 | K49: 1000
A50: 46 | B50: 102 | C50: 131 | D50: HERU RISTANTO | E50: JL KELAPA TIGA | F50: 1 pasal : Pasal 287 ayat (1) jo Pasal 106 ayat (4) huruf a dan Pasal 106 ayat (4) huruf b | G50: DD3467MI | H50: BLOKIR STNK | I50: E7888035 | J50: 149000 | K50: 1000
... A91: 87 | B91: 143 | C91: 172 | D91: KHUSNI | E91: JL KEMAUAN | F91: 1 pasal : Pasal 287 ayat (1) jo Pasal 106 ayat (4) huruf a | G91: DD2781OV | H91: 20|STNK | I91: F7761319 | J91: 49000 | K91: 1000
A92: 88 | B92: 144 | C92: 173 | D92: JIEMLY | E92: BULUKUMBA | F92: 1 pasal : Pasal 303 Jo Pasal 137 ayat (4) huruf a,b dan huruf c | G92: 1331 | H92: 60|SIM INTERNASIONAL | I92: F7758657 | J92: 149000 | K92: 1000
A93: 89 | B93: 145 | C93: 174 | D93: ABDUL RAHMAN | E93: MAKASSAR | F93: 1 pasal : Pasal 291 ayat (1) Jo Pasal 106 ayat (8) | G93: DD2829SM | H93: 50|BUKU KIR | I93: F7756500 | J93: 99000 | K93: 1000
A94: 90 | B94: 146 | C94: 175 | D94: RAPAPE | E94: MAKASSAR | F94: 1 pasal : Pasal 285 ayat (1) Jo Pasal 106 ayat (3) | G94: DD4226SD | H94: 20|STNK | I94: F7760856 | J94: 99000 | K94: 1000
A95: 91 | B95: 147 | C95: 176 | D95: CADDI | E95: BONTO NOMPO | F95: 1 pasal : Pasal 287 ayat (1) jo Pasal 106 ayat (4) huruf a | G95: DD8617QT | H95: 20|STNK | I95: F7761302 | J95: 174000 | K95: 1000
A96: 92 | B96: 148 | C96: 177 | D96: AL QODRI RAMADHAN | E96: JL NURI | F96: 2 pasal : Pasal 281 jo Pasal 77 ayat (1),Pasal 291 ayat (1) Jo Pasal 106 ayat (8) | G96: DD4540HQ | H96: 10|SIM C | I96: F7761330 | J96: 174000 | K96: 1000
A97: 93 | B97: 149 | C97: 178 | D97: RIDWAN FATUR | E97: JL KARUWISI | F97: 1 pasal : Pasal 291 ayat (1) Jo Pasal 106 ayat (8) | G97: DD6898UF | H97: 20|STNK | I97: F7761331 | J97: 99000 | K97: 1000
A98: 94 | B98: 150 | C98: 179 | D98: JUSMAH | E98: MAKASSAR | F98: 1 pasal : Pasal 287 ayat (1) jo Pasal 106 ayat (4) huruf a | G98: DW6275FN | H98: 20|STNK | I98: F7761103 | J98: 99000 | K98: 1000
A99: 95 | B99: 151 | C99: 180 | D99: ANDRI | E99: MINASA TE'NE | F99: 2 pasal : Pasal 281 jo Pasal 77 ayat (1),Pasal 288 ayat (1) jo Pasal 106 ayat (5) huruf a | G99: F6857FAZ | H99: 20|STNK | I99: F7760859 | J99: 149000 | K99: 1000
A100: 96 | B100: 152 | C100: 181 | D100: ARIF | E100: GOWA | F100: 1 pasal : Pasal 287 ayat (1) jo Pasal 106 ayat (4) huruf a | G100: DD2117XB | H100: 20|STNK | I100: F7761137 | J100: 149000 | K100: 1000
A101: 97 | B101: 153 | C101: 182 | D101: IRSANDI PUTRA | E101: JL FAISAL | F101: 2 pasal : Pasal 287 ayat (1) jo Pasal 106 ayat (4) huruf a,Pasal 288 ayat (2) jo Pasal 106 ayat (5) huruf b | G101: DD6258KH | H101: 20|STNK | I101: F7761318 | J101: 149000 | K101: 1000
A102: 98 | B102: 154 | C102: 183 | D102: ASHAR AZIS | E102: JL TADOPULI | F102: 1 pasal : Pasal 287 ayat (1) jo Pasal 106 ayat (4) huruf a | G102: DD4903U | H102: 20|STNK | I102: F7761310 | J102: 49000 | K102: 1000
A103: 99 | B103: 155 | C103: 184 | D103: MUH IQBAL | E103: JL PAMPANG | F103: 1 pasal : Pasal 291 ayat (2) Jo Pasal 106 ayat (8) | G103: DD5059KY | H103: 20|STNK | I103: F7761309 | J103: 99000 | K103: 1000
A104: 100 | B104: 156 | C104: 185 | D104: AHMAD | E104: SOPPENG | F104: 1 pasal : Pasal 291 ayat (1) Jo Pasal 106 ayat (8) | G104: DW5390CF | H104: 20|STNK | I104: F7761326 | J104: 99000 | K104: 1000
... A127: 123 | B127: 179 | C127: 208 | D127: NURUL | E127: GOWA | F127: 1 pasal : Pasal 291 ayat (1) Jo Pasal 106 ayat (8) | G127: DD6205 | H127: 20|STNK | I127: F7761286 | J127: 99000 | K127: 1000
A128: 124 | B128: 180 | C128: 209 | D128: M ARAFAH | F128: 1 pasal : Pasal 287 ayat (1) jo Pasal 106 ayat (4) huruf a | G128: DD1383TV | H128: 20|STNK | I128: F7761295 | J128: 49000 | K128: 1000
A129: 125 | B129: 181 | C129: 210 | D129: WAHYU | F129: 1 pasal : Pasal 287 ayat (1) jo Pasal 106 ayat (4) huruf a | G129: DD3271KA | H129: 20|STNK | I129: F7761296 | J129: 99000 | K129: 1000
A130: 126 | B130: 182 | C130: 211 | D130: FIRMAN | E130: KAB SIDRAP | F130: 1 pasal : Pasal 287 ayat (1) jo Pasal 106 ayat (4) huruf a | G130: DD------- | H130: 10|SIM C | I130: F7761311 | J130: 149000 | K130: 1000
A131: 127 | B131: 183 | C131: 212 | D131: DEDE HENDRI | F131: 1 pasal : Pasal 287 ayat (1) jo Pasal 106 ayat (4) huruf a | G131: DD-------- | H131: 10|SIM C | I131: F7760464 | J131: 149000 | K131: 1000
A132: 128 | B132: 184 | C132: 213 | D132: MUHAMMAD ILHAM | F132: 1 pasal : Pasal 287 ayat (1) jo Pasal 106 ayat (4) huruf a | G132: DD-------- | H132: 10|SIM C | I132: F7761242 | J132: 99000 | K132: 1000
A133: 129 | B133: 185 | C133: 214 | D133: RONALD MJ | F133: 1 pasal : Pasal 287 ayat (1) jo Pasal 106 ayat (4) huruf a | G133: DD3634CA | H133: 10|SIM C | I133: F7761287 | J133: 99000 | K133: 1000
A134: 130 | B134: 186 | C134: 215 | D134: BENNY DARMAWAN | E134: PARE-PARE | F134: 1 pasal : Pasal 287 ayat (2) jo Pasal 106 ayat (4) huruf c | G134: DP1605AS | H134: 20|STNK | I134: F7760861 | J134: 49000 | K134: 1000
A135: 131 | B135: 187 | C135: 216 | D135: MUH BASIRDG TALLI | E135: JL A MANGERANGI | F135: 1 pasal : Pasal 287 ayat (2) jo Pasal 106 ayat (4) huruf c | G135: DD---------- | H135: 10|SIM C | I135: F7761297 | J135: 149000 | K135: 1000
A136: 132 | B136: 188 | C136: 217 | D136: EKA SULFIA NUR | E136: JL SULTAN ALUDDIN | F136: 1 pasal : Pasal 287 ayat (2) jo Pasal 106 ayat (4) huruf c | G136: DD1942VQ | H136: 11|SIM A | I136: F7761153 | J136: 49000 | K136: 1000
A137: 133 | B137: 189 | C137: 218 | D137: NAHDA ULMA | E137: JENEPONTO | F137: 1 pasal : Pasal 287 ayat (2) jo Pasal 106 ayat (4) huruf c | G137: DD3948SA | H137: 10|SIM C | I137: F7760826 | J137: 99000 | K137: 1000
A138: 134 | B138: 190 | C138: 219 | D138: RUSTAM | E138: JL G LATIMOJONG | F138: 2 pasal : Pasal 287 ayat (1) jo Pasal 106 ayat (4) huruf a dan Pasal 106 ayat (4) huruf b,Pasal 288 ayat (2) jo Pasal 106 ayat (5) huruf b | G138: DD1699RK | H138: 20|STNK | I138: F7761298 | J138: 174000 | K138: 1000
A139: 135 | B139: 191 | C139: 220 | D139: ADIBAH RAFIFAH | E139: BTN PEMDA | F139: 1 pasal : Pasal 287 ayat (1) jo Pasal 106 ayat (4) huruf a | G139: DP1832LE | H139: 11|SIM A | I139: F7758673 | J139: 149000 | K139: 1000
A140: 136 | B140: 192 | C140: 221 | D140: HAIKAL | E140: MAKASSAR | F140: 1 pasal : Pasal 297 | G140: DD5316YS | H140: 40|KENDARAAN | I140: F7759262 | J140: 199000 | K140: 1000
A141: 137 | B141: 193 | C141: 222 | D141: SAIFUL | F141: 1 pasal : Pasal 297 | G141: TANPAPLAT | H141: 40|KENDARAAN | I141: F7761359 | J141: 349000 | K141: 1000
A142: 138 | B142: 194 | C142: 223 | D142: DODY | E142: JL SABUTUNG | F142: 1 pasal : Pasal 297 | G142: DD4985XX | H142: 40|KENDARAAN | I142: F7761361 | J142: 199000 | K142: 1000
A143: 139 | B143: 195 | C143: 224 | D143: THOMASITO | E143: JL BAROMBONG | F143: 1 pasal : Pasal 297 | G143: DD2733OB | H143: 40|KENDARAAN | I143: F7761364 | J143: 349000 | K143: 1000
A144: 140 | B144: 196 | C144: 225 | D144: MAULANA | E144: JL DG TATA | F144: 1 pasal : Pasal 297 | G144: DD---------- | H144: 40|KENDARAAN | I144: F7761363 | J144: 199000 | K144: 1000
A145: 141 | B145: 197 | C145: 226 | D145: HABIBI | E145: JL BONTODURI | F145: 1 pasal : Pasal 297 | G145: DD4474 | H145: 40|KENDARAAN | I145: F7761365 | J145: 349000 | K145: 1000
A146: 142 | B146: 198 | C146: 227 | D146: MUH IRTANDI | E146: JL TODOPULI | F146: 1 pasal : Pasal 297 | G146: DD4751HA | H146: 40|KENDARAAN | I146: F7761351 | J146: 349000 | K146: 1000
A147: 143 | B147: 199 | C147: 228 | D147: ANSHAR SUKRI | E147: JL INSPEKSI KANAL | F147: 1 pasal : Pasal 297 | G147: DD5700XL | H147: 40|KENDARAAN | I147: F7761352 | J147: 199000 | K147: 1000
A148: 144 | B148: 200 | C148: 229 | D148: ABDHO | E148: JL MALINO | F148: 1 pasal : Pasal 297 | G148: DD5735VG | H148: 40|KENDARAAN | I148: F7761362 | J148: 349000 | K148: 1000
A149: 145 | B149: 201 | C149: 230 | D149: AGUS SALIM | E149: JL MAPPANYUKKI | F149: 1 pasal : Pasal 297 | G149: DD---------- | H149: 40|KENDARAAN | I149: F7761356 | J149: 199000 | K149: 1000
A150: 146 | B150: 202 | C150: 231 | D150: MUH AKBAR | E150: LIMBUNG | F150: 1 pasal : Pasal 297 | G150: DD5371LT | H150: 40|KENDARAAN | I150: F7761355 | J150: 349000 | K150: 1000
A151: 147 | B151: 203 | C151: 232 | D151: ABD KADIR | E151: BARA-BARAYA | F151: 1 pasal : Pasal 297 | G151: DD4025XX | H151: 40|KENDARAAN | I151: F7761353 | J151: 349000 | K151: 1000
A152: 148 | B152: 204 | C152: 233 | D152: WAHYU | E152: PARANG LOE | F152: 1 pasal : Pasal 297 | G152: DD6848 | H152: 40|KENDARAAN | I152: F7761354 | J152: 349000 | K152: 1000
A153: 149 | B153: 205 | C153: 234 | D153: M KHAFA | E153: JL BALANA | F153: 2 pasal : Pasal 281 jo Pasal 77 ayat (1),Pasal 288 ayat (1) jo Pasal 106 ayat (5) huruf a | G153: DD5730KR | H153: 40|KENDARAAN | I153: F7760858 | J153: 99000 | K153: 1000
... A188: 184 | B188: 240 | C188: 269 | D188: MUH AL GAZALI | E188: JL BATUA RAYA | F188: 2 pasal : Pasal 280 jo Pasal 68 ayat (1),Pasal 285 ayat (1) Jo Pasal 106 ayat (3) | G188: DD---------- | H188: 40|KENDARAAN | I188: F7759696 | J188: 249000 | K188: 1000
L189: =SUM(J5:J188) -> 28616000 | M189: =SUM(K5:K188) -> 184000
J190: T O T A L | L190: =SUM(L189) -> 28616000 | M190: =SUM(M189) -> 184000

Sheet Lap. Bulan 3 
A1: LAPORAN PERKARA LALU LINTAS (TILANG) / PERKARA PIDANA CEPAT (TIPIRING)
A2: BULAN MARET 2021
A4: NO. | B4: TANGGAL SIDANG | C4: NO. PERKARA | F4: KESATUAN | J4: JUMLAH BERKAS | K4: JUMLAH DENDA | L4: JUMLAH BIAYA PERKARA | M4: KET. BEBAS | N4: HAKIM | O4: PANITERA PENGGANTI | P4: TGL PENYERAHAN KEJAKSAAN
F6: A | G6: B | H6: C | I6: D
A7: 1 | B7: 44260 | C7: =SUM('Tgl. 05.03.2021'!C5) -> 270 | D7: S/D | E7: =SUM('Tgl. 05.03.2021'!C240) -> 498 | F7: ='Tgl. 05.03.2021'!A232 -> 228 | G7: 0 | H7: 0 | I7: ='Tgl. 05.03.2021'!A240 -> 1 | J7: =SUM(F7:I7) -> 229 | K7: =SUM('Tgl. 05.03.2021'!L242) -> 34194000 | L7: =SUM(J7*1000)-(M7*1000) -> 229000 | M7: 0 | N7: JAHORAS SIRINGO-RINGO,S.H.,M.H. | O7: Dra. PASIHA,M.H. | P7: 44260
A8: 2 | B8: 44267 | C8: =SUM('Tgl. 12.03.2021'!C5) -> 499 | D8: S/D | E8: =SUM('Tgl. 12.03.2021'!C41) -> 535 | F8: ='Tgl. 12.03.2021'!A41 -> 37 | G8: 0 | H8: 0 | I8: 0 | J8: =SUM(F8:I8) -> 37 | K8: =SUM('Tgl. 12.03.2021'!L43) -> 3888000 | L8: =SUM(J8*1000)-(M8*1000) -> 37000 | M8: 0 | N8: HENENG PUJADI,S.H.,M.H. | O8: ELIZABETH RANTEPADANG,S.H. | P8: 44267
A9: 3 | B9: 44274 | C9: =SUM('Tgl. 19.03.2021'!C5) -> 536 | D9: S/D | E9: =SUM('Tgl. 19.03.2021'!C141) -> 672 | F9: ='Tgl. 19.03.2021'!A141 -> 137 | G9: 0 | H9: 0 | I9: 0 | J9: =SUM(F9:I9) -> 137 | K9: =SUM('Tgl. 19.03.2021'!L143) -> 25383000 | L9: =SUM(J9*1000)-(M9*1000) -> 137000 | M9: 0 | N9: DR. ZULKIFLI,S.H.,M.H. | O9: SYAHRUL,S.H. | P9: 44274
A10: 4 | B10: 44281 | C10: =SUM('Tgl. 26.03.2021'!C5) -> 673 | D10: S/D | E10: =SUM('Tgl. 26.03.2021'!C76) -> 744 | F10: ='Tgl. 26.03.2021'!A76 -> 72 | G10: 0 | H10: 0 | I10: 0 | J10: =SUM(F10:I10) -> 72 | K10: =SUM('Tgl. 26.03.2021'!M78) -> 9353000 | L10: =SUM(J10*1000)-(M10*1000) -> 72000 | M10: 0 | N10: FAISAL AKBARUDDIN TAQWA,S.H.,M.H. | O10: SUDARMONO,S.H. | P10: 44281
A11: JUMLAH KESELURUHAN : | F11: =SUM(F7:F10) -> 474 | G11: =SUM(G7:G10) -> 0 | H11: =SUM(H7:H10) -> 0 | I11: =SUM(I7:I10) -> 1 | J11: =SUM(J7:J10) -> 475 | K11: =SUM(K7:K10) -> 72818000 | L11: =SUM(L7:L10) -> 475000 | M11: =SUM(M7:M10) -> 0
A12: KETERANGAN :
A13: A= POLRESTABES | E13: C= PJR
A14: B= PELABUHAN | E14: D= DITLANTAS
A16: TIPIRING | C16: : | D16: 1 BERKAS

Sheet Tgl. 05.03.2021
A1: PENGADILAN NEGERI MAKASSAR
A2: TANGGAL 05.03.2021
D3: P O L R E S T A B E S
A4: NO. | B4: NO. BULAN | C4: NO. REG | D4: NAMA TERDAKWA/ TERPIDANA | E4: ALAMAT TERDAKWA/ TERPIDANA | F4: PASAL YANG DILANGGAR | G4: NO. POLISI | H4: BARANG BUKTI | I4: NO. TILANG | J4: DENDA | K4: ONGKOS PERKARA
A5: 1 | B5: 1 | C5: 270 | D5: YOSEP | E5: JL ANDALAS | F5: 2 pasal : Pasal 288 ayat (2) jo Pasal 106 ayat (5) huruf b,Pasal 291 ayat (1) Jo Pasal 106 ayat (8) | G5: DC3233GA | H5: 20|STNK | I5: F7761381 | J5: 149000 | K5: 1000
A6: 2 | B6: 2 | C6: 271 | D6: MUHAMMAD RIZKA | E6: GRIYA FAJAR MAS | F6: 1 pasal : Pasal 287 ayat (1) jo Pasal 106 ayat (4) huruf a dan Pasal 106 ayat (4) huruf b | G6: DD6455RI | H6: 20|STNK | I6: F7761382 | J6: 99000 | K6: 1000
A7: 3 | B7: 3 | C7: 272 | D7: GIAN NUGRAHA | E7: HARTACO INDAH | F7: 1 pasal : Pasal 287 ayat (1) jo Pasal 106 ayat (4) huruf a dan Pasal 106 ayat (4) huruf b | G7: DD1761AN | H7: 20|STNK | I7: F7761388 | J7: 149000 | K7: 1000
A8: 4 | B8: 4 | C8: 273 | D8: SITI NURJANNAH | E8: BAJENG BARAT , GOWA | F8: 1 pasal : Pasal 287 ayat (1) jo Pasal 106 ayat (4) huruf a | G8: DD6475YV | H8: 20|STNK | I8: F7761325 | J8: 99000 | K8: 1000
A9: 5 | B9: 5 | C9: 274 | D9: ARDIYANTO | E9: JL SUNU | F9: 1 pasal : Pasal 287 ayat (1) jo Pasal 106 ayat (4) huruf a | G9: DC1133CT | H9: 20|STNK | I9: F7761369 | J9: 39000 | K9: 1000
A10: 6 | B10: 6 | C10: 275 | D10: NAISYILA | E10: JL COKO NURI | F10: 1 pasal : Pasal 291 ayat (1) Jo Pasal 106 ayat (8) | G10: DD5898QF | H10: 20|STNK | I10: F7761396 | J10: 149000 | K10: 1000
A11: 7 | B11: 7 | C11: 276 | D11: MUH RIDWAN | E11: GOWA | F11: 1 pasal : Pasal 281 jo Pasal 77 ayat (1) | G11: DD4634AD | H11: 20|STNK | I11: F7761335 | J11: 99000 | K11: 1000
A12: 8 | B12: 8 | C12: 277 | D12: M ARIF | E12: GOWA | F12: 1 pasal : Pasal 287 ayat (1) jo Pasal 106 ayat (4) huruf a dan Pasal 106 ayat (4) huruf b | G12: DD4323YQ | H12: 20|STNK | I12: F7760960 | J12: 99000 | K12: 1000
A13: 9 | B13: 9 | C13: 278 | D13: ABD RAHMAN | E13: JL DG RAMANG | F13: 2 pasal : Pasal 280 jo Pasal 68 ayat (1),Pasal 288 ayat (2) jo Pasal 106 ayat (5) huruf b | G13: DD3648KL | H13: 20|STNK | I13: F7758658 | J13: 149000 | K13: 1000
A14: 10 | B14: 10 | C14: 279 | D14: NELIS | E14: SUDIANG | F14: 2 pasal : Pasal 291 ayat (1) Jo Pasal 106 ayat (8),Pasal 291 ayat (2) Jo Pasal 106 ayat (8) | G14: DD2175RC | H14: 20|STNK | I14: F7758659 | J14: 149000 | K14: 1000
A15: 11 | B15: 11 | C15: 280 | D15: RENALDI | E15: JL KANDEA | F15: 1 pasal : Pasal 287 ayat (1) jo Pasal 106 ayat (4) huruf a | G15: DD5790KR | H15: 20|STNK | I15: F7760377 | J15: 99000 | K15: 1000
A16: 12 | B16: 12 | C16: 281 | D16: ST NURFAIKA | E16: MAKASSAR | F16: 1 pasal : Pasal 287 ayat (1) jo Pasal 106 ayat (4) huruf a | G16: DD5094NK | H16: 20|STNK | I16: F7761011 | J16: 99000 | K16: 1000
... A38: 34 | B38: 34 | C38: 303 | D38: MEKSON | E38: MANGGA TIGA | F38: 1 pasal : Pasal 287 ayat (1) jo Pasal 106 ayat (4) huruf a | G38: DD1051AM | H38: 20|STNK | I38: F7761012 | J38: 149000 | K38: 1000
A39: 35 | B39: 35 | C39: 304 | D39: SAMSIR | F39: 1 pasal : Pasal 287 ayat (1) jo Pasal 106 ayat (4) huruf a | G39: DD3854CM | H39: 10|SIM C | I39: F7761005 | J39: 99000 | K39: 1000
A40: 36 | B40: 36 | C40: 305 | D40: SAMSINAR | E40: JL URIP SUMAHARJO | F40: 1 pasal : Pasal 287 ayat (1) jo Pasal 106 ayat (4) huruf a dan Pasal 106 ayat (4) huruf b | G40: DD894P | H40: 11|SIM A | I40: F7760400 | J40: 149000 | K40: 1000
A41: 37 | B41: 37 | C41: 306 | D41: YULIUS MANGNGALIK | E41: KAB LUWU | F41: 1 pasal : Pasal 287 ayat (1) jo Pasal 106 ayat (4) huruf a | G41: DD5420XY | H41: 10|SIM C | I41: F7761377 | J41: 99000 | K41: 1000
A42: 38 | B42: 38 | C42: 307 | D42: LILIK MULYONO | E42: JL BALANG LOMPO | F42: 1 pasal : Pasal 287 ayat (1) jo Pasal 106 ayat (4) huruf a | G42: DD8688RR | H42: 20|STNK | I42: F7761119 | J42: 199000 | K42: 1000
A43: 39 | B43: 39 | C43: 308 | D43: HERI | E43: JL VETRAN SELATAN | F43: 2 pasal : Pasal 281 jo Pasal 77 ayat (1),Pasal 291 ayat (1) Jo Pasal 106 ayat (8) | G43: DD4900UK | H43: 20|STNK | I43: F7761332 | J43: 149000 | K43: 1000
A44: 40 | B44: 40 | C44: 309 | D44: DJUNAIDI SALEHE | E44: JL VETRAN BAKUNG | F44: 1 pasal : Pasal 287 ayat (1) jo Pasal 106 ayat (4) huruf a | G44: DD1868YA | H44: 11|SIM A | I44: F7761435 | J44: 149000 | K44: 1000
A45: 41 | B45: 41 | C45: 310 | D45: ARMAN | E45: JL BALLAPRANG | F45: 1 pasal : Pasal 287 ayat (1) jo Pasal 106 ayat (4) huruf a | G45: DD5032RB | H45: 10|SIM C | I45: F7760865 | J45: 39000 | K45: 1000
A46: 42 | B46: 42 | C46: 311 | D46: ERWIN PURWANSYAH | E46: MAROS | F46: 2 pasal : Pasal 287 ayat (1) jo Pasal 106 ayat (4) huruf a,Pasal 288 ayat (2) jo Pasal 106 ayat (5) huruf b | G46: DD8444SJ | H46: 20|STNK | I46: F7761004 | J46: 174000 | K46: 1000
A47: 43 | B47: 43 | C47: 312 | D47: AMRAN | E47: DUSUN ROMANG | F47: 1 pasal : Pasal 287 ayat (1) jo Pasal 106 ayat (4) huruf a | G47: DD1679XJ | H47: 20|STNK | I47: F7760864 | J47: 149000 | K47: 1000
A48: 44 | B48: 44 | C48: 313 | D48: ANDI AWANG | E48: BUMI PALLANGGA MAS | F48: 1 pasal : Pasal 287 ayat (1) jo Pasal 106 ayat (4) huruf a | G48: DD1239MV | H48: 11|SIM A | I48: F7761181 | J48: 39000 | K48: 1000
A49: 45 | B49: 45 | C49: 314 | D49: FACHRY NUR HISYAM | E49: PELITA | F49: 1 pasal : Pasal 291 ayat (1) Jo Pasal 106 ayat (8) | G49: DD3932BN | H49: 20|STNK | I49: F7761398 | J49: 99000 | K49: 1000
A50: 46 | B50: 46 | C50: 315 | D50: YANTI | E50: ENREKANG | F50: 1 pasal : Pasal 287 ayat (1) jo Pasal 106 ayat (4) huruf a | G50: DD3752PW | H50: 20|STNK | I50: F7761434 | J50: 149000 | K50: 1000
A51: 47 | B51: 47 | C51: 316 | D51: YULIANA | E51: TAKALAR | F51: 1 pasal : Pasal 281 jo Pasal 77 ayat (1) | G51: DD5310PL | H51: 20|STNK | I51: F7761333 | J51: 149000 | K51: 1000
... A91: 87 | B91: 87 | C91: 356 | D91: LINDA SURYANTO | E91: JL SULAWESI | F91: 1 pasal : Pasal 287 ayat (2) jo Pasal 106 ayat (4) huruf c | G91: DD1705RQ | H91: 11|SIM A | I91: F7760836 | J91: 149000 | K91: 1000
A92: 88 | B92: 88 | C92: 357 | D92: ATIKAHSURYANI | E92: BILACADDI TAKALAR | F92: 1 pasal : Pasal 287 ayat (1) jo Pasal 106 ayat (4) huruf a dan Pasal 106 ayat (4) huruf b | G92: DD3110CC | H92: 20|STNK | I92: E7888071 | J92: 149000 | K92: 1000 | L92: E-TLE
A93: 89 | B93: 89 | C93: 358 | D93: M RAFLY WIJAYA | E93: JL SUNGAI SADDANG 1 | F93: 1 pasal : Pasal 287 ayat (1) jo Pasal 106 ayat (4) huruf a dan Pasal 106 ayat (4) huruf b | G93: DD3551MB | H93: 20|STNK | I93: E7888072 | J93: 149000 | K93: 1000 | L93: E-TLE
A94: 90 | B94: 90 | C94: 359 | D94: MUHAMMAD RIDHA | E94: JL SINGA 1 | F94: 1 pasal : Pasal 287 ayat (1) jo Pasal 106 ayat (4) huruf a dan Pasal 106 ayat (4) huruf b | G94: DD4033SK | H94: 20|STNK | I94: E7888073 | J94: 149000 | K94: 1000 | L94: E-TLE
A95: 91 | B95: 91 | C95: 360 | D95: MURSALIM MAKMUR | E95: JL CENDRAWASIH | F95: 1 pasal : Pasal 287 ayat (1) jo Pasal 106 ayat (4) huruf a dan Pasal 106 ayat (4) huruf b | G95: DD5301RV | H95: 20|STNK | I95: E7888074 | J95: 149000 | K95: 1000 | L95: E-TLE
A96: 92 | B96: 92 | C96: 361 | D96: MUHAMMAD SHAHAB | E96: JL DR RATULANGI 150 | F96: 1 pasal : Pasal 287 ayat (1) jo Pasal 106 ayat (4) huruf a dan Pasal 106 ayat (4) huruf b | G96: DD5316SD | H96: 20|STNK | I96: E7888075 | J96: 149000 | K96: 1000 | L96: E-TLE
A97: 93 | B97: 93 | C97: 362 | D97: ABD MUIN | E97: DG TATA HARTACO | F97: 1 pasal : Pasal 287 ayat (1) jo Pasal 106 ayat (4) huruf a dan Pasal 106 ayat (4) huruf b | G97: DD5417SO | H97: 20|STNK | I97: E7888076 | J97: 149000 | K97: 1000 | L97: E-TLE
A98: 94 | B98: 94 | C98: 363 | D98: RISAL HUSAIN | E98: JL GUSUNG TOWA | F98: 1 pasal : Pasal 287 ayat (1) jo Pasal 106 ayat (4) huruf a dan Pasal 106 ayat (4) huruf b | G98: DD6268KV | H98: 20|STNK | I98: E7888077 | J98: 149000 | K98: 1000 | L98: E-TLE
A99: 95 | B99: 95 | C99: 364 | D99: ELISABETH | E99: PERMATA SUYDIANG RAYA | F99: 1 pasal : Pasal 287 ayat (1) jo Pasal 106 ayat (4) huruf a dan Pasal 106 ayat (4) huruf b | G99: DD1298ST | H99: 20|STNK | I99: E7888078 | J99: 249000 | K99: 1000 | L99: E-TLE
A100: 96 | B100: 96 | C100: 365 | D100: DODY ISKANDAR DINATA | E100: JL SYEH YUSUF PERUM GRIYA | F100: 1 pasal : Pasal 287 ayat (1) jo Pasal 106 ayat (4) huruf a dan Pasal 106 ayat (4) huruf b | G100: DD1583YG | H100: 20|STNK | I100: E7888079 | J100: 249000 | K100: 1000 | L100: E-TLE
A101: 97 | B101: 97 | C101: 366 | D101: MUH SYARIF | E101: YAYASAN PERUM KTR | F101: 1 pasal : Pasal 287 ayat (1) jo Pasal 106 ayat (4) huruf a dan Pasal 106 ayat (4) huruf b | G101: DD1916ST | H101: 20|STNK | I101: E7888080 | J101: 249000 | K101: 1000 | L101: E-TLE
A102: 98 | B102: 98 | C102: 367 | D102: MUH YUSUF | E102: JL G LATIMOJONG | F102: 1 pasal : Pasal 287 ayat (1) jo Pasal 106 ayat (4) huruf a dan Pasal 106 ayat (4) huruf b | G102: DD2060AG | H102: 20|STNK | I102: E7888081 | J102: 149000 | K102: 1000 | L102: E-TLE
A103: 99 | B103: 99 | C103: 368 | D103: MARIA MESNYSKM | F103: 1 pasal : Pasal 287 ayat (1) jo Pasal 106 ayat (4) huruf a dan Pasal 106 ayat (4) huruf b | G103: DD2602KE | H103: 20|STNK | I103: E7888082 | J103: 149000 | K103: 1000 | L103: E-TLE
A104: 100 | B104: 100 | C104: 369 | D104: ISMAIL M | F104: 1 pasal : Pasal 287 ayat (1) jo Pasal 106 ayat (4) huruf a dan Pasal 106 ayat (4) huruf b | G104: DD2297AN | H104: 20|STNK | I104: E7888083 | J104: 149000 | K104: 1000 | L104: E-TLE
A105: 101 | B105: 101 | C105: 370 | D105: MUH SYAHRIL D | E105: KAB MAROS | F105: 1 pasal : Pasal 287 ayat (1) jo Pasal 106 ayat (4) huruf a dan Pasal 106 ayat (4) huruf b | G105: DD3249DK | H105: 20|STNK | I105: E7888084 | J105: 149000 | K105: 1000 | L105: E-TLE
A106: 102 | B106: 102 | C106: 371 | D106: ABDUL RAHMAN RILLA | E106: JL MUH YAMIN | F106: 1 pasal : Pasal 287 ayat (1) jo Pasal 106 ayat (4) huruf a dan Pasal 106 ayat (4) huruf b | G106: DD3339Q | H106: 20|STNK | I106: E7888085 | J106: 149000 | K106: 1000 | L106: E-TLE
A107: 103 | B107: 103 | C107: 372 | D107: ZAKIAH AULIAWATI | E107: JL ANDALAS | F107: 1 pasal : Pasal 287 ayat (1) jo Pasal 106 ayat (4) huruf a dan Pasal 106 ayat (4) huruf b | G107: DD4928QD | H107: 20|STNK | I107: E7888086 | J107: 149000 | K107: 1000 | L107: E-TLE
A108: 104 | B108: 104 | C108: 373 | D108: H NASARUDDIN SE | E108: JL AMD GRAHA JANNA | F108: 1 pasal : Pasal 287 ayat (1) jo Pasal 106 ayat (4) huruf a dan Pasal 106 ayat (4) huruf b | G108: DD5178QN | H108: 20|STNK | I108: E7888087 | J108: 149000 | K108: 1000 | L108: E-TLE
A109: 105 | B109: 105 | C109: 374 | D109: ABD WAHID DG SILA | E109: JL A MUTHALIB | F109: 1 pasal : Pasal 287 ayat (1) jo Pasal 106 ayat (4) huruf a dan Pasal 106 ayat (4) huruf b | G109: DD6256BS | H109: 20|STNK | I109: E7888088 | J109: 149000 | K109: 1000 | L109: E-TLE
A110: 106 | B110: 106 | C110: 375 | D110: MEGAWATI DAHLAN | E110: JL G LATIMOJONG | F110: 1 pasal : Pasal 287 ayat (1) jo Pasal 106 ayat (4) huruf a dan Pasal 106 ayat (4) huruf b | G110: DD6293RQ | H110: 20|STNK | I110: E7888089 | J110: 149000 | K110: 1000 | L110: E-TLE
A111: 107 | B111: 107 | C111: 376 | D111: HJ SABIAH SUPU | E111: JL PACINANG RAYA | F111: 1 pasal : Pasal 287 ayat (1) jo Pasal 106 ayat (4) huruf a dan Pasal 106 ayat (4) huruf b | G111: DD2143XA | H111: 20|STNK | I111: E7888090 | J111: 149000 | K111: 1000 | L111: E-TLE
A112: 108 | B112: 108 | C112: 377 | D112: M IBRAHIM | E112: JL SABUTUNG | F112: 1 pasal : Pasal 287 ayat (1) jo Pasal 106 ayat (4) huruf a dan Pasal 106 ayat (4) huruf b | G112: DD2959SK | H112: 20|STNK | I112: E7888091 | J112: 149000 | K112: 1000 | L112: E-TLE
A113: 109 | B113: 109 | C113: 378 | D113: NURAINI NINGSIH | E113: JL KAKATUA | F113: 1 pasal : Pasal 287 ayat (1) jo Pasal 106 ayat (4) huruf a dan Pasal 106 ayat (4) huruf b | G113: DD3739UL | H113: 20|STNK | I113: E7888092 | J113: 149000 | K113: 1000 | L113: E-TLE
A114: 110 | B114: 110 | C114: 379 | D114: AMIR ZUBAIR | E114: PERUM PURI PATTENE | F114: 1 pasal : Pasal 287 ayat (1) jo Pasal 106 ayat (4) huruf a dan Pasal 106 ayat (4) huruf b | G114: DD5831QB | H114: 20|STNK | I114: E7888093 | J114: 149000 | K114: 1000 | L114: E-TLE
A115: 111 | B115: 111 | C115: 380 | D115: MUSTAKIM | E115: DOANG MINASA TENE GOWA | F115: 1 pasal : Pasal 287 ayat (1) jo Pasal 106 ayat (4) huruf a dan Pasal 106 ayat (4) huruf b | G115: DD2265LP | H115: 20|STNK | I115: E7888094 | J115: 149000 | K115: 1000 | L115: E-TLE
A116: 112 | B116: 112 | C116: 381 | D116: MUSTAJAB SAAD | E116: JL BULU DUA | F116: 1 pasal : Pasal 287 ayat (1) jo Pasal 106 ayat (4) huruf a dan Pasal 106 ayat (4) huruf b | G116: DD6629SL | H116: 20|STNK | I116: E7888095 | J116: 149000 | K116: 1000 | L116: E-TLE
... A142: 138 | B142: 138 | C142: 407 | D142: YOSEP PAKULI | E142: JL ANDALAS NO 61 | F142: 1 pasal : Pasal 287 ayat (1) jo Pasal 106 ayat (4) huruf a dan Pasal 106 ayat (4) huruf b | G142: DD5208VZ | H142: 20|STNK | I142: E7888121 | J142: 149000 | K142: 1000 | L142: E-TLE
A143: 139 | B143: 139 | C143: 408 | E143: JL VETRAN | F143: 1 pasal : Pasal 287 ayat (1) jo Pasal 106 ayat (4) huruf a dan Pasal 106 ayat (4) huruf b | G143: DD6579UK | H143: 20|STNK | I143: E7888122 | J143: 149000 | K143: 1000 | L143: E-TLE
A144: 140 | B144: 140 | C144: 409 | D144: SUKMAWATI | E144: JL ABD DG SIRUA | F144: 1 pasal : Pasal 287 ayat (1) jo Pasal 106 ayat (4) huruf a dan Pasal 106 ayat (4) huruf b | G144: DD6643M | H144: 20|STNK | I144: E7888123 | J144: 149000 | K144: 1000 | L144: E-TLE
A145: 141 | B145: 141 | C145: 410 | D145: AGUS | E145: JL BALLANG CADDII | F145: 1 pasal : Pasal 287 ayat (1) jo Pasal 106 ayat (4) huruf a dan Pasal 106 ayat (4) huruf b | G145: DD6974XI | H145: 20|STNK | I145: E7888124 | J145: 149000 | K145: 1000 | L145: E-TLE
A146: 142 | B146: 142 | C146: 411 | D146: HJ NURHAENI | E146: JL PAMPANG | F146: 1 pasal : Pasal 287 ayat (1) jo Pasal 106 ayat (4) huruf a dan Pasal 106 ayat (4) huruf b | G146: DD3510XV | H146: 20|STNK | I146: E7888125 | J146: 149000 | K146: 1000 | L146: E-TLE
A147: 143 | B147: 143 | C147: 412 | D147: GOWN TAMAI CHANDRA | E147: JL TIMOR | F147: 1 pasal : Pasal 287 ayat (1) jo Pasal 106 ayat (4) huruf a dan Pasal 106 ayat (4) huruf b | G147: DD1358AC | H147: 20|STNK | I147: E7888126 | J147: 249000 | K147: 1000 | L147: E-TLE
A148: 144 | B148: 144 | C148: 413 | D148: MARSINEM | E148: JL DG HAYO PATTUNUNAG | F148: 1 pasal : Pasal 287 ayat (1) jo Pasal 106 ayat (4) huruf a dan Pasal 106 ayat (4) huruf b | G148: DD1664SR | H148: 20|STNK | I148: E7888127 | J148: 249000 | K148: 1000 | L148: E-TLE
A149: 145 | B149: 145 | C149: 414 | D149: ELISABETH | E149: JL DOMBA | F149: 1 pasal : Pasal 287 ayat (1) jo Pasal 106 ayat (4) huruf a dan Pasal 106 ayat (4) huruf b | G149: DD1921UC | H149: 20|STNK | I149: E7888128 | J149: 249000 | K149: 1000 | L149: E-TLE
A150: 146 | B150: 146 | C150: 415 | D150: KARTINI T | E150: JL ANDI TONRO | F150: 1 pasal : Pasal 287 ayat (1) jo Pasal 106 ayat (4) huruf a dan Pasal 106 ayat (4) huruf b | G150: DD4322BN | H150: 20|STNK | I150: E7888129 | J150: 149000 | K150: 1000 | L150: E-TLE
A151: 147 | B151: 147 | C151: 416 | D151: YOHANI | E151: BTN MANGGA TIGA | F151: 1 pasal : Pasal 287 ayat (1) jo Pasal 106 ayat (4) huruf a dan Pasal 106 ayat (4) huruf b | G151: DD4494VF | H151: 20|STNK | I151: E7888130 | J151: 149000 | K151: 1000 | L151: E-TLE
A152: 148 | B152: 148 | C152: 417 | D152: SAHARUDDIN | E152: BONTOA BARAT | F152: 1 pasal : Pasal 287 ayat (1) jo Pasal 106 ayat (4) huruf a dan Pasal 106 ayat (4) huruf b | G152: DD5481UU | H152: 20|STNK | I152: E7888131 | J152: 149000 | K152: 1000 | L152: E-TLE
A153: 149 | B153: 149 | C153: 418 | D153: MUH ASRAH BAHARUDDIN | E153: JL MALENGKERI LR 1 | F153: 1 pasal : Pasal 287 ayat (1) jo Pasal 106 ayat (4) huruf a dan Pasal 106 ayat (4) huruf b | G153: DD5884UP | H153: 20|STNK | I153: E7888132 | J153: 149000 | K153: 1000 | L153: E-TLE
A154: 150 | B154: 150 | C154: 419 | D154: HANIAH DG RANNU | E154: JL SYEH YUSUF 3 | F154: 1 pasal : Pasal 287 ayat (1) jo Pasal 106 ayat (4) huruf a dan Pasal 106 ayat (4) huruf b | G154: DD5935YI | H154: 20|STNK | I154: E7888133 | J154: 149000 | K154: 1000 | L154: E-TLE
A155: 151 | B155: 151 | C155: 420 | D155: DAVID WIJAYA | E155: JL MONGINSIDI | F155: 1 pasal : Pasal 287 ayat (1) jo Pasal 106 ayat (4) huruf a dan Pasal 106 ayat (4) huruf b | G155: DD1561UO | H155: 20|STNK | I155: E7888134 | J155: 249000 | K155: 1000 | L155: E-TLE
... A193: 189 | B193: 189 | C193: 458 | D193: ADAM | E193: JL DATUK NASSA | F193: 1 pasal : Pasal 287 ayat (1) jo Pasal 106 ayat (4) huruf a dan Pasal 106 ayat (4) huruf b | G193: DD5039DH | H193: 20|STNK | I193: E7888172 | J193: 149000 | K193: 1000 | L193: E-TLE
A194: 190 | B194: 190 | C194: 459 | E194: MAKASSAR | F194: 1 pasal : Pasal 287 ayat (1) jo Pasal 106 ayat (4) huruf a dan Pasal 106 ayat (4) huruf b | G194: DD5501BE | H194: 20|STNK | I194: E7888173 | J194: 149000 | K194: 1000 | L194: E-TLE
A195: 191 | B195: 191 | C195: 460 | D195: HJ NURAMANG P | E195: JL BARUKANG | F195: 1 pasal : Pasal 287 ayat (1) jo Pasal 106 ayat (4) huruf a dan Pasal 106 ayat (4) huruf b | G195: DD5182VE | H195: 20|STNK | I195: E7888174 | J195: 149000 | K195: 1000 | L195: E-TLE
A196: 192 | B196: 192 | C196: 461 | D196: IMRAN ABD RAHMAN | E196: JL MANNURUKI | F196: 1 pasal : Pasal 287 ayat (1) jo Pasal 106 ayat (4) huruf a dan Pasal 106 ayat (4) huruf b | G196: DD5489SK | H196: 20|STNK | I196: E7888175 | J196: 149000 | K196: 1000 | L196: E-TLE
A197: 193 | B197: 193 | C197: 462 | D197: WAHIDAH ANDRIANI | E197: JL A NURDIN SANMIRA | F197: 1 pasal : Pasal 287 ayat (1) jo Pasal 106 ayat (4) huruf a dan Pasal 106 ayat (4) huruf b | G197: DD5906TB | H197: 20|STNK | I197: E7888176 | J197: 149000 | K197: 1000 | L197: E-TLE
A198: 194 | B198: 194 | C198: 463 | D198: NURHAYATI | E198: BUMI BATARA MAWANG | F198: 1 pasal : Pasal 287 ayat (1) jo Pasal 106 ayat (4) huruf a dan Pasal 106 ayat (4) huruf b | G198: DD6440LW | H198: 20|STNK | I198: E7888177 | J198: 149000 | K198: 1000 | L198: E-TLE
A199: 195 | B199: 195 | C199: 464 | D199: AKBAR | E199: PERUM BUKIT BINTANG | F199: 1 pasal : Pasal 287 ayat (1) jo Pasal 106 ayat (4) huruf a dan Pasal 106 ayat (4) huruf b | G199: DD6441KB | H199: 20|STNK | I199: E7888178 | J199: 149000 | K199: 1000 | L199: E-TLE
A200: 196 | B200: 196 | C200: 465 | D200: KARDI | E200: JL BUNGA EJA BERU | F200: 1 pasal : Pasal 287 ayat (1) jo Pasal 106 ayat (4) huruf a dan Pasal 106 ayat (4) huruf b | G200: DD6587SN | H200: 20|STNK | I200: E7888179 | J200: 149000 | K200: 1000 | L200: E-TLE
A201: 197 | B201: 197 | C201: 466 | D201: MUHAMMAD ARIS | E201: KAEMBA JAYA KAB MAROS | F201: 1 pasal : Pasal 287 ayat (1) jo Pasal 106 ayat (4) huruf a dan Pasal 106 ayat (4) huruf b | G201: DD2527TS | H201: 20|STNK | I201: E7888180 | J201: 149000 | K201: 1000 | L201: E-TLE
A202: 198 | B202: 198 | C202: 467 | D202: JARVIS WALTON | E202: JL VETRAN SELATAN | F202: 1 pasal : Pasal 287 ayat (1) jo Pasal 106 ayat (4) huruf a | G202: DD1011XB | H202: 20|STNK | I202: F7761230 | J202: 149000 | K202: 1000
A203: 199 | B203: 199 | C203: 468 | D203: RIFKI | E203: ANTANG RAYA | F203: 1 pasal : Pasal 287 ayat (1) jo Pasal 106 ayat (4) huruf a | G203: DD1114OK | H203: 20|STNK | I203: F7761228 | J203: 149000 | K203: 1000
A204: 200 | B204: 200 | C204: 469 | D204: MAHARANI | E204: BANTAENG | F204: 1 pasal : Pasal 287 ayat (1) jo Pasal 106 ayat (4) huruf a | G204: DD3201SG | H204: 10|SIM C | I204: F7761014 | J204: 99000 | K204: 1000
A205: 201 | B205: 201 | C205: 470 | D205: RIO RAMADHAN | E205: MAKASSAR | F205: 2 pasal : Pasal 281 jo Pasal 77 ayat (1),Pasal 287 ayat (1) jo Pasal 106 ayat (4) huruf a | G205: DD5193HV | H205: 20|STNK | I205: F7761372 | J205: 39000 | K205: 1000
A206: 202 | B206: 202 | C206: 471 | D206: ANUGRAH | E206: JL U SUMAHARJO | F206: 1 pasal : Pasal 281 jo Pasal 77 ayat (1) | G206: DD4427SW | H206: 40|KENDARAAN | I206: F7760662 | J206: 249000 | K206: 1000
A207: 203 | B207: 203 | C207: 472 | D207: RAHMAT | E207: GOWA | F207: 2 pasal : Pasal 288 ayat (1) jo Pasal 106 ayat (5) huruf a,Pasal 288 ayat (2) jo Pasal 106 ayat (5) huruf b | G207: DD5199YL | H207: 40|KENDARAAN | I207: E7895378 | J207: 149000 | K207: 1000
A208: 204 | B208: 204 | C208: 473 | D208: NOVAL | E208: BTP BLOK K273 | F208: 2 pasal : Pasal 288 ayat (1) jo Pasal 106 ayat (5) huruf a,Pasal 288 ayat (2) jo Pasal 106 ayat (5) huruf b | G208: DC3807XI | H208: 40|KENDARAAN | I208: F7760896 | J208: 149000 | K208: 1000
A209: 205 | B209: 205 | C209: 474 | D209: ISRA | E209: JL PERINTIS KEMERDEKAAN | F209: 2 pasal : Pasal 288 ayat (1) jo Pasal 106 ayat (5) huruf a,Pasal 288 ayat (2) jo Pasal 106 ayat (5) huruf b | G209: DD4398UH | H209: 40|KENDARAAN | I209: F7760848 | J209: 249000 | K209: 1000
A210: 206 | B210: 206 | C210: 475 | D210: ERGUS | E210: MAKASSAR | F210: 2 pasal : Pasal 281 jo Pasal 77 ayat (1),Pasal 291 ayat (1) Jo Pasal 106 ayat (8) | G210: DD5194AO | H210: 40|KENDARAAN | I210: F7761300 | J210: 249000 | K210: 1000
A211: 207 | B211: 207 | C211: 476 | D211: HAMZAH | E211: PALLANGGA GOWA | F211: 2 pasal : Pasal 280 jo Pasal 68 ayat (1),Pasal 281 jo Pasal 77 ayat (1) | G211: DD5180BA | H211: 40|KENDARAAN | I211: F7760843 | J211: 249000 | K211: 1000
A212: 208 | B212: 208 | C212: 477 | D212: IZZATUL JANNAH | E212: JL CEMPAKA | F212: 1 pasal : Pasal 287 ayat (1) jo Pasal 106 ayat (4) huruf a | G212: DD1271KZ | H212: 20|STNK | I212: F7761376 | J212: 39000 | K212: 1000
A213: 209 | B213: 209 | C213: 478 | D213: NURUL NOVIANTY | E213: BTN RANGGONG | F213: 1 pasal : Pasal 287 ayat (1) jo Pasal 106 ayat (4) huruf a dan Pasal 106 ayat (4) huruf b | G213: DD5668QQ | H213: 20|STNK | I213: F7761323 | J213: 39000 | K213: 1000
A214: 210 | B214: 210 | C214: 479 | D214: DEWI | F214: 1 pasal : Pasal 299 Jo Pasal 122 huruf a, b, dan c | G214: DC2321FX | H214: 50|BUKU KIR | I214: F7761368 | J214: 99000 | K214: 1000
A215: 211 | B215: 211 | C215: 480 | D215: FIKRI | E215: ASRAMA BARA-BARAYYA | F215: 1 pasal : Pasal 288 ayat (2) jo Pasal 106 ayat (5) huruf b | G215: DD5085SH | H215: 40|KENDARAAN | I215: F7761035 | J215: 249000 | K215: 1000
A216: 212 | B216: 212 | C216: 481 | D216: AMRUL | E216: BENTENG SOMBA OPU | F216: 1 pasal : Pasal 281 jo Pasal 77 ayat (1) | G216: DD4898UT | H216: 40|KENDARAAN | I216: F7761016 | J216: 249000 | K216: 1000
A217: 213 | B217: 213 | C217: 482 | D217: ARDI | E217: BAROMBONG | F217: 1 pasal : Pasal 281 jo Pasal 77 ayat (1) | G217: DD4869KM | H217: 40|KENDARAAN | I217: F7761019 | J217: 149000 | K217: 1000
A218: 214 | B218: 214 | C218: 483 | D218: DENA TRAA | E218: SUDIANG | F218: 1 pasal : Pasal 291 ayat (1) Jo Pasal 106 ayat (8) | G218: DD6635KH | H218: 20|STNK | I218: F7761418 | J218: 99000 | K218: 1000
A219: 215 | B219: 215 | C219: 484 | D219: RAHMATULLAH | E219: BULUKUMBA | F219: 1 pasal : Pasal 285 ayat (1) Jo Pasal 106 ayat (3) | G219: DD4691HY | H219: 10|SIM C | I219: F7760401 | J219: 99000 | K219: 1000
A220: 216 | B220: 216 | C220: 485 | D220: RAMADHAN | E220: BARRU | F220: 1 pasal : Pasal 280 jo Pasal 68 ayat (1) | G220: DP2970BK | H220: 10|SIM C | I220: F7758660 | J220: 99000 | K220: 1000
A221: 217 | B221: 217 | C221: 486 | D221: ABU BAKAR | E221: PARANG LOE | F221: 1 pasal : Pasal 287 ayat (1) jo Pasal 106 ayat (4) huruf a | G221: DW8301NS | H221: 10|SIM A | I221: F7759729 | J221: 149000 | K221: 1000
A222: 218 | B222: 218 | C222: 487 | D222: MUH REZA | E222: KAB GOWA | F222: 1 pasal : Pasal 285 ayat (1) Jo Pasal 106 ayat (3) | G222: DD2279YP | H222: 10|SIM C | I222: F7761417 | J222: 99000 | K222: 1000
...

Sheet Tgl. 12.03.2021
A1: PENGADILAN NEGERI MAKASSAR
A2: TANGGAL 12.03.2021
D3: P O L R E S T A B E S
A4: NO. | B4: NO. BULAN | C4: NO. REG | D4: NAMA TERDAKWA/ TERPIDANA | E4: ALAMAT TERDAKWA/ TERPIDANA | F4: PASAL YANG DILANGGAR | G4: NO. POLISI | H4: BARANG BUKTI | I4: NO. TILANG | J4: DENDA | K4: ONGKOS PERKARA
A5: 1 | B5: 230 | C5: 499 | D5: MYLIYANTI | E5: JL. POROS LIMBUNG | F5: 1 pasal : Pasal 291 ayat (2) Jo Pasal 106 ayat (8) | G5: DD4744PY | H5: 20|STNK | I5: F7761407 | J5: 49000 | K5: 1000
A6: 2 | B6: 231 | C6: 500 | D6: RUDI WILIANTO | E6: JL YOS SUDARSO | F6: 1 pasal : Pasal 287 ayat (1) jo Pasal 106 ayat (4) huruf a | G6: DD6349VH | H6: 20|STNK | I6: F7761441 | J6: 99000 | K6: 1000
A7: 3 | B7: 232 | C7: 501 | D7: SYAMSUL RAHMAT | E7: PERUM SINGGASAN | F7: 1 pasal : Pasal 289 jo Pasal 106 ayat (6) | G7: DD---------- | H7: 11|SIM A | I7: F7761120 | J7: 149000 | K7: 1000
A8: 4 | B8: 233 | C8: 502 | D8: EGI | E8: JL PAMPANG | F8: 1 pasal : Pasal 291 ayat (1) Jo Pasal 106 ayat (8) | G8: DD6379RR | H8: 20|STNK | I8: F7761057 | J8: 49000 | K8: 1000
A9: 5 | B9: 234 | C9: 503 | D9: KASMAWATI | E9: JL. GALANGAN KAPAL | F9: 2 pasal : Pasal 291 ayat (2) Jo Pasal 106 ayat (8),Pasal 288 ayat (2) jo Pasal 106 ayat (5) huruf b | G9: DD3042KA | H9: 20|STNK | I9: F7761412 | J9: 149000 | K9: 1000
A10: 6 | B10: 235 | C10: 504 | D10: A. MUH DIRGA WIRANDA. S | E10: JL. CILALLANG JAYA LR 50 | F10: 2 pasal : Pasal 287 ayat (1) jo Pasal 106 ayat (4) huruf a,Pasal 288 ayat (1) jo Pasal 106 ayat (5) huruf a | G10: DD2307LM | H10: 10|SIM C | I10: F7761413 | J10: 49000 | K10: 1000
A11: 7 | B11: 236 | C11: 505 | D11: MUH SYAFA AT | E11: KOMP PERMATA HIJAU PERMAI N2/6 | F11: 2 pasal : Pasal 291 ayat (1) Jo Pasal 106 ayat (8),Pasal 281 jo Pasal 77 ayat (1) | G11: DD5867RA | H11: 50|BUKU KIR | I11: F7757250 | J11: 49000 | K11: 1000
A12: 8 | B12: 237 | C12: 506 | D12: MUH IKHSAN BAHAR | E12: DSN BAWALIPU KAB LUTIM | F12: 1 pasal : Pasal 287 ayat (1) jo Pasal 106 ayat (4) huruf a | G12: DP2415GQ | H12: 20|STNK | I12: F7757249 | J12: 99000 | K12: 1000
A13: 9 | B13: 238 | C13: 507 | D13: FREDIK DALE | E13: JL LAIYA | F13: 1 pasal : Pasal 287 ayat (1) jo Pasal 106 ayat (4) huruf a dan Pasal 106 ayat (4) huruf b | G13: DD1707SB | H13: 20|STNK;30|SIM & STNK | I13: F7761383 | J13: 149000 | K13: 1000
A14: 10 | B14: 239 | C14: 508 | D14: HASRUL | E14: KAB LUWU UTARA | F14: 1 pasal : Pasal 287 ayat (1) jo Pasal 106 ayat (4) huruf a | G14: DD4957RQ | H14: 10|SIM C | I14: F7761371 | J14: 99000 | K14: 1000
A15: 11 | B15: 240 | C15: 509 | D15: MUH FAHRI | E15: MAKASSAR | F15: 1 pasal : Pasal 287 ayat (1) jo Pasal 106 ayat (4) huruf a dan Pasal 106 ayat (4) huruf b | G15: DW6568FV | H15: 20|STNK | I15: F7761059 | J15: 99000 | K15: 1000
A16: 12 | B16: 241 | C16: 510 | D16: NANDA TIARA | E16: KOMP BPH LESTAR | F16: 1 pasal : Pasal 287 ayat (1) jo Pasal 106 ayat (4) huruf a dan Pasal 106 ayat (4) huruf b | G16: DD1891YP | H16: 11|SIM A | I16: F7761060 | J16: 149000 | K16: 1000
... A41: 37 | B41: 266 | C41: 535 | D41: INDRA DWI PUTRA | E41: POLMAN | F41: 1 pasal : Pasal 287 ayat (1) jo Pasal 106 ayat (4) huruf a | G41: DD4874QF | H41: 10|SIM C | I41: F7761270 | J41: 99000 | K41: 1000
L42: =SUM(J5:J41) -> 3888000 | M42: =SUM(K5:K41) -> 37000
J43: T O T A L | L43: =SUM(L42) -> 3888000 | M43: =SUM(M42) -> 37000

Sheet Tgl. 19.03.2021
A1: PENGADILAN NEGERI MAKASSAR
A2: TANGGAL 19.03.2021
D3: P O L R E S T A B E S
A4: NO. | B4: NO. BULAN | C4: NO. REG | D4: NAMA TERDAKWA/ TERPIDANA | E4: ALAMAT TERDAKWA/ TERPIDANA | F4: PASAL YANG DILANGGAR | G4: NO. POLISI | H4: BARANG BUKTI | I4: NO. TILANG | J4: DENDA | K4: ONGKOS PERKARA
A5: 1 | B5: 267 | C5: 536 | D5: ALIF | E5: JL ANDALAS | F5: 1 pasal : Pasal 281 jo Pasal 77 ayat (1) | G5: DD5524MA | H5: 40|KENDARAAN | I5: F7760754 | J5: 149000 | K5: 1000
A6: 2 | B6: 268 | C6: 537 | D6: MUH AKMAL | E6: JL CENDRAWASIH | F6: 2 pasal : Pasal 281 jo Pasal 77 ayat (1),Pasal 285 ayat (1) Jo Pasal 106 ayat (3) | G6: DD5865RN | H6: 40|KENDARAAN | I6: F7760753 | J6: 349000 | K6: 1000
A7: 3 | B7: 269 | C7: 538 | D7: ALIF | E7: JL BARUKANG | F7: 2 pasal : Pasal 287 ayat (2) jo Pasal 106 ayat (4) huruf c,Pasal 281 jo Pasal 77 ayat (1) | G7: DD3514XW | H7: 40|KENDARAAN | I7: F7760752 | J7: 349000 | K7: 1000
A8: 4 | B8: 270 | C8: 539 | D8: - | E8: MAKASSAR | F8: 1 pasal : Pasal 281 jo Pasal 77 ayat (1) | G8: DD3342KJ | H8: 40|KENDARAAN | I8: F7760983 | J8: 349000 | K8: 1000
A9: 5 | B9: 271 | C9: 540 | D9: RIFALDI | E9: SUDIANG | F9: 2 pasal : Pasal 281 jo Pasal 77 ayat (1),Pasal 285 ayat (2) Jo Pasal 106 ayat (3) Jo Pasal 48 ayat (2) | G9: DD2393SO | H9: 40|KENDARAAN | I9: F7760982 | J9: 249000 | K9: 1000
A10: 6 | B10: 272 | C10: 541 | D10: M YASIR | E10: DAYA | F10: 2 pasal : Pasal 285 ayat (1) Jo Pasal 106 ayat (3),Pasal 281 jo Pasal 77 ayat (1) | G10: DD3815VA | H10: 40|KENDARAAN | I10: F7760849 | J10: 349000 | K10: 1000
A11: 7 | B11: 273 | C11: 542 | D11: SUHERWIN | E11: BTP | F11: 2 pasal : Pasal 281 jo Pasal 77 ayat (1),Pasal 288 ayat (1) jo Pasal 106 ayat (5) huruf a | G11: DD6494JA | H11: 40|KENDARAAN | I11: F7761393 | J11: 349000 | K11: 1000
A12: 8 | B12: 274 | C12: 543 | D12: MURSALIM | E12: JL U SUMAHARJO | F12: 1 pasal : Pasal 281 jo Pasal 77 ayat (1) | G12: DD4065UG | H12: 40|KENDARAAN | I12: F7761395 | J12: 249000 | K12: 1000
A13: 9 | B13: 275 | C13: 544 | D13: TEGAR | E13: BTN TAMARUNANG | F13: 1 pasal : Pasal 281 jo Pasal 77 ayat (1) | G13: DD3817MG | H13: 40|KENDARAAN | I13: F7761392 | J13: 349000 | K13: 1000
A14: 10 | B14: 276 | C14: 545 | D14: ZULKIFLI | E14: CILALANG | F14: 2 pasal : Pasal 281 jo Pasal 77 ayat (1),Pasal 285 ayat (1) Jo Pasal 106 ayat (3) | G14: DD5293MD | H14: 40|KENDARAAN | I14: F7760350 | J14: 349000 | K14: 1000
A15: 11 | B15: 277 | C15: 546 | D15: DEDI | E15: PANCIRO | F15: 2 pasal : Pasal 281 jo Pasal 77 ayat (1),Pasal 288 ayat (1) jo Pasal 106 ayat (5) huruf a | G15: DD5580XY | H15: 40|KENDARAAN | I15: F7760410 | J15: 349000 | K15: 1000
A16: 12 | B16: 278 | C16: 547 | D16: ADITYA | E16: JL S SADDANG BARU | F16: 2 pasal : Pasal 280 jo Pasal 68 ayat (1),Pasal 281 jo Pasal 77 ayat (1) | G16: DD---------- | H16: 40|KENDARAAN | I16: F7760407 | J16: 249000 | K16: 1000
... A22: 18 | B22: 284 | C22: 553 | D22: FACHRIANSYAH | E22: BARUKANG | F22: 2 pasal : Pasal 281 jo Pasal 77 ayat (1),Pasal 285 ayat (1) Jo Pasal 106 ayat (3) | G22: DD2464UC | H22: 40|KENDARAAN | I22: F7760809 | J22: 149000 | K22: 1000
A23: 19 | B23: 285 | C23: 554 | D23: CRISTOPER | F23: 1 pasal : Pasal 281 jo Pasal 77 ayat (1) | G23: DD2930RH | H23: 40|KENDARAAN | I23: F7761259 | J23: 249000 | K23: 1000
A24: 20 | B24: 286 | C24: 555 | D24: WAHYU PRATAMA | E24: ADIYAKSA | F24: 2 pasal : Pasal 280 jo Pasal 68 ayat (1),Pasal 281 jo Pasal 77 ayat (1) | G24: DD---------- | H24: 40|KENDARAAN | I24: F7761258 | J24: 349000 | K24: 1000
A25: 21 | B25: 287 | C25: 556 | D25: MUH ISTIQLAS | F25: 1 pasal : Pasal 281 jo Pasal 77 ayat (1) | G25: DD2311NK | H25: 40|KENDARAAN | I25: F7761257 | J25: 349000 | K25: 1000
A26: 22 | B26: 288 | C26: 557 | D26: MUH ARDIANSYAH | E26: TODOPULI | F26: 1 pasal : Pasal 281 jo Pasal 77 ayat (1) | G26: DD2589RS | H26: 40|KENDARAAN | I26: F7761256 | J26: 349000 | K26: 1000
A27: 23 | B27: 289 | C27: 558 | D27: HARDIANUS | E27: SUDIANG | F27: 2 pasal : Pasal 281 jo Pasal 77 ayat (1),Pasal 288 ayat (1) jo Pasal 106 ayat (5) huruf a | G27: DD5996TE | H27: 40|KENDARAAN | I27: F7760808 | J27: 349000 | K27: 1000
A28: 24 | B28: 290 | C28: 559 | D28: RAFLI | E28: PALLANGGA | F28: 1 pasal : Pasal 281 jo Pasal 77 ayat (1) | G28: DD2004XY | H28: 40|KENDARAAN | I28: F7761207 | J28: 149000 | K28: 1000
A29: 25 | B29: 291 | C29: 560 | D29: TAKSIR | E29: PANGKEP | F29: 2 pasal : Pasal 280 jo Pasal 68 ayat (1),Pasal 281 jo Pasal 77 ayat (1) | G29: DD---------- | H29: 40|KENDARAAN | I29: F7761206 | J29: 249000 | K29: 1000
A30: 26 | B30: 292 | C30: 561 | D30: ISMAIL | E30: JL ABD DG SIRUA | F30: 2 pasal : Pasal 281 jo Pasal 77 ayat (1),Pasal 287 ayat (5) jo Pasal 106 ayat (4) huruf g atau Pasal 115 huruf a | G30: DD6843UQ | H30: 40|KENDARAAN | I30: F7761033 | J30: 149000 | K30: 1000
A31: 27 | B31: 293 | C31: 562 | D31: ADE IRFAN | E31: JENEPONTO BANGKALA | F31: 2 pasal : Pasal 280 jo Pasal 68 ayat (1),Pasal 281 jo Pasal 77 ayat (1) | G31: DD4167GQ | H31: 40|KENDARAAN | I31: F7761254 | J31: 249000 | K31: 1000
A32: 28 | B32: 294 | C32: 563 | D32: IRFAN | E32: JL PELITA 3 | F32: 2 pasal : Pasal 280 jo Pasal 68 ayat (1),Pasal 281 jo Pasal 77 ayat (1) | G32: DD6916KU | H32: 40|KENDARAAN | I32: F7761253 | J32: 249000 | K32: 1000
A33: 29 | B33: 295 | C33: 564 | D33: AJAYSAN | E33: JL M UPA | F33: 1 pasal : Pasal 281 jo Pasal 77 ayat (1) | G33: DD5455YD | H33: 40|KENDARAAN | I33: F7761252 | J33: 249000 | K33: 1000
A34: 30 | B34: 296 | C34: 565 | D34: M WAID ALKARNI | E34: JL G LOMPOBATTANG | F34: 2 pasal : Pasal 280 jo Pasal 68 ayat (1),Pasal 287 ayat (5) jo Pasal 106 ayat (4) huruf g atau Pasal 115 huruf a | G34: DD4762VD | H34: 40|KENDARAAN | I34: F7761251 | J34: 249000 | K34: 1000
A35: 31 | B35: 297 | C35: 566 | D35: IKRAR | E35: JL TINUMBU | F35: 1 pasal : Pasal 281 jo Pasal 77 ayat (1) | G35: DD6486XX | H35: 40|KENDARAAN | I35: F7761209 | J35: 249000 | K35: 1000
A36: 32 | B36: 298 | C36: 567 | D36: SAMSUL | E36: JL AB LAMBOGO | F36: 1 pasal : Pasal 281 jo Pasal 77 ayat (1) | G36: DD4508RY | H36: 40|KENDARAAN | I36: F7761250 | J36: 249000 | K36: 1000
A37: 33 | B37: 299 | C37: 568 | D37: ANDI FUAD | E37: JL MUH EMY SAELAN | F37: 1 pasal : Pasal 281 jo Pasal 77 ayat (1) | G37: DN4319LF | H37: 40|KENDARAAN | I37: F7761249 | J37: 149000 | K37: 1000
... A128: 124 | B128: 390 | C128: 659 | D128: MULIYANI | E128: JL MUH YAMIN | F128: 1 pasal : Pasal 291 ayat (1) Jo Pasal 106 ayat (8) | G128: DD5167VH | H128: 20|STNK | I128: F7761502 | J128: 99000 | K128: 1000
A129: 125 | B129: 391 | C129: 660 | D129: MUH SALIM | F129: 2 pasal : Pasal 281 jo Pasal 77 ayat (1),Pasal 288 ayat (1) jo Pasal 106 ayat (5) huruf a | G129: DD2769UL | H129: 40|KENDARAAN | I129: F7759076 | J129: 249000 | K129: 1000
A130: 126 | B130: 392 | C130: 661 | D130: FADLI | E130: ASLOM A 15 | F130: 1 pasal : Pasal 285 ayat (1) Jo Pasal 106 ayat (3) | G130: DD6252KH | H130: 40|KENDARAAN | I130: F7760797 | J130: 249000 | K130: 1000
A131: 127 | B131: 393 | C131: 662 | D131: REZA | E131: TONPOTO PAO GOWA | F131: 1 pasal : Pasal 281 jo Pasal 77 ayat (1) | G131: DD5686UO | H131: 40|KENDARAAN | I131: F7761570 | J131: 249000 | K131: 1000
A132: 128 | B132: 394 | C132: 663 | D132: ANDRI RIFAI | E132: LAMMENG GOWA | F132: 1 pasal : Pasal 285 ayat (1) Jo Pasal 106 ayat (3) | G132: DD3723YS | H132: 40|KENDARAAN | I132: F7761569 | J132: 249000 | K132: 1000
A133: 129 | B133: 395 | C133: 664 | D133: ANGEL | E133: JL MALENGKERI III NO 20 | F133: 1 pasal : Pasal 285 ayat (1) Jo Pasal 106 ayat (3) | G133: DD2250UK | H133: 40|KENDARAAN | I133: F7760915 | J133: 249000 | K133: 1000
A134: 130 | B134: 396 | C134: 665 | D134: IKBAL | E134: JL RAJAWALI | F134: 1 pasal : Pasal 288 ayat (2) jo Pasal 106 ayat (5) huruf b | G134: DD4592CV | H134: 40|KENDARAAN | I134: F7760418 | J134: 249000 | K134: 1000
A135: 131 | B135: 397 | C135: 666 | D135: NURWINDA | E135: MAKASSAR | F135: 1 pasal : Pasal 288 ayat (2) jo Pasal 106 ayat (5) huruf b | G135: DD5234KN | H135: 40|KENDARAAN | I135: F7761374 | J135: 249000 | K135: 1000
A136: 132 | B136: 398 | C136: 667 | D136: ARWIN SUKWAN | E136: PALANGGA | F136: 1 pasal : Pasal 285 ayat (1) Jo Pasal 106 ayat (3) | G136: - | H136: 40|KENDARAAN | I136: F7760913 | J136: 249000 | K136: 1000
A137: 133 | B137: 399 | C137: 668 | D137: MUHAMMAD REZKY | E137: JL. DG TATA | F137: 1 pasal : Pasal 280 jo Pasal 68 ayat (1) | G137: DP6891BF | H137: 20|STNK | I137: F7761403 | J137: 249000 | K137: 1000
A138: 134 | B138: 400 | C138: 669 | D138: MARTIKA PRATAMA YUDHA | F138: 1 pasal : Pasal 287 ayat (1) jo Pasal 106 ayat (4) huruf a dan Pasal 106 ayat (4) huruf b | G138: DD6346XJ | H138: 10|SIM C | I138: F7761375 | J138: 249000 | K138: 1000
A139: 135 | B139: 401 | C139: 670 | D139: IKRAM | E139: JL CAKALANG | F139: 1 pasal : Pasal 291 ayat (1) Jo Pasal 106 ayat (8) | G139: DD3363PQ | H139: 40|KENDARAAN | I139: F7761414 | J139: 249000 | K139: 1000
A140: 136 | B140: 402 | C140: 671 | D140: ARHAM | E140: JL AB LAMBOGO | F140: 1 pasal : Pasal 281 jo Pasal 77 ayat (1) | G140: DD5953QF | H140: 40|KENDARAAN | I140: F7761601 | J140: 249000 | K140: 1000
A141: 137 | B141: 403 | C141: 672 | D141: DINDA SURYANI | E141: JL ST ALAUDDIN | F141: 1 pasal : Pasal 291 ayat (1) Jo Pasal 106 ayat (8) | G141: DD3107RE | H141: 20|STNK | I141: E7891697 | J141: 149000 | K141: 1000
L142: =SUM(J5:J141) -> 25383000 | M142: =SUM(K5:K141) -> 137000
J143: T O T A L | L143: =SUM(L142) -> 25383000 | M143: =SUM(M142) -> 137000

Sheet Tgl. 26.03.2021
A1: PENGADILAN NEGERI MAKASSAR
A2: TANGGAL 26.03.2021
D3: P O L R E S T A B E S
A4: NO. | B4: NO. BULAN | C4: NO. REG | D4: NAMA TERDAKWA/ TERPIDANA | E4: ALAMAT TERDAKWA/ TERPIDANA | F4: PASAL YANG DILANGGAR | G4: NO. POLISI | H4: BARANG BUKTI | I4: NO. TILANG | J4: DENDA | K4: ONGKOS PERKARA
A5: 1 | B5: 404 | C5: 673 | D5: A MUH ABDULLAH | E5: HARTACO INDAH | F5: 1 pasal : Pasal 291 ayat (1) Jo Pasal 106 ayat (8) | G5: DD6899RV | H5: 20|STNK | I5: F7761557 | J5: 99000 | K5: 1000
A6: 2 | B6: 405 | C6: 674 | D6: HAMDAN | E6: JL UJUNG PANDANG | F6: 1 pasal : Pasal 287 ayat (1) jo Pasal 106 ayat (4) huruf a | G6: DD3270QN | H6: 20|STNK | I6: F7760430 | J6: 99000 | K6: 1000
A7: 3 | B7: 406 | C7: 675 | D7: SYAHRUM | E7: MAKASSAR | F7: 1 pasal : Pasal 291 ayat (1) Jo Pasal 106 ayat (8) | G7: DD2158WR | H7: 20|STNK | I7: F7761564 | J7: 49000 | K7: 1000
A8: 4 | B8: 407 | C8: 676 | D8: ARMAN | E8: JL KANDEA | F8: 1 pasal : Pasal 291 ayat (1) Jo Pasal 106 ayat (8) | G8: DD2913MI | H8: 20|STNK | I8: F7761562 | J8: 49000 | K8: 1000
A9: 5 | B9: 408 | C9: 677 | D9: ABUSYAIM | E9: GOWA | F9: 1 pasal : Pasal 285 ayat (1) Jo Pasal 106 ayat (3) | G9: DD62427YS | H9: 20|STNK | I9: F7761561 | J9: 149000 | K9: 1000
A10: 6 | B10: 409 | C10: 678 | D10: ANGGI | E10: JL ST ALAUDDIN | F10: 2 pasal : Pasal 281 jo Pasal 77 ayat (1),Pasal 288 ayat (1) jo Pasal 106 ayat (5) huruf a | G10: DP2328IK | H10: 20|STNK | I10: F7761592 | J10: 149000 | K10: 1000
A11: 7 | B11: 410 | C11: 679 | D11: FERDINANDUS | E11: JL ANDI TONRO | F11: 1 pasal : Pasal 291 ayat (1) Jo Pasal 106 ayat (8) | G11: DD5729BQ | H11: 20|STNK | I11: F7761593 | J11: 149000 | K11: 1000
A12: 8 | B12: 411 | C12: 680 | D12: ASWAR | E12: JL PANNAMPU | F12: 2 pasal : Pasal 281 jo Pasal 77 ayat (1),Pasal 288 ayat (1) jo Pasal 106 ayat (5) huruf a | G12: DD8965BE | H12: 20|STNK | I12: F7761594 | J12: 149000 | K12: 1000
A13: 9 | B13: 412 | C13: 681 | D13: BILLY | E13: JL METRO T BUNGA | F13: 1 pasal : Pasal 281 jo Pasal 77 ayat (1) | G13: DD4847MG | H13: 20|STNK | I13: F7761021 | J13: 99000 | K13: 1000
A14: 10 | B14: 413 | C14: 682 | D14: IR SUDARNO | E14: JL TIDUNG | F14: 1 pasal : Pasal 287 ayat (1) jo Pasal 106 ayat (4) huruf a | G14: DD8312AN | H14: 12|SIM BI | I14: F7761515 | J14: 49000 | K14: 1000
A15: 11 | B15: 414 | C15: 683 | D15: HENDRA | E15: TAKALAR | F15: 1 pasal : Pasal 281 jo Pasal 77 ayat (1) | G15: DD3261PM | H15: 20|STNK | I15: F7760221 | J15: 99000 | K15: 1000
A16: 12 | B16: 415 | C16: 684 | D16: M NUR HIDAYAT | E16: MAKASSAR | F16: 1 pasal : Pasal 287 ayat (1) jo Pasal 106 ayat (4) huruf a dan Pasal 106 ayat (4) huruf b | G16: DD5197KH | H16: 20|STNK | I16: F7761536 | J16: 49000 | K16: 1000
... A44: 40 | B44: 443 | C44: 712 | D44: MUH SAPRI | E44: KORBAN 40000 | F44: 3 pasal : Pasal 288 ayat (1) jo Pasal 106 ayat (5) huruf a, Pasal 287 ayat (1) jo Pasal 106 ayat (4) huruf a, | G44: DT9652KE | H44: 12|SIM BI | I44: F7756836 | J44: 49000 | K44: 1000
A45: 41 | B45: 444 | C45: 713 | D45: M ZAHNUDDIN | E45: MAKASSAR | F45: 1 pasal : Pasal 288 ayat (3) Jo Pasal 106 ayat (5) huruf c | G45: DP8673CA | H45: 50|BUKU KIR | I45: 1826951 | J45: 149000 | K45: 1000 | L45: DISHUB
A46: 42 | B46: 445 | C46: 714 | D46: OLE | E46: MAKASSAR | F46: 1 pasal : Pasal 288 ayat (3) Jo Pasal 106 ayat (5) huruf c | G46: DD8708XR | H46: 50|BUKU KIR | I46: 1826948 | J46: 149000 | K46: 1000 | L46: DISHUB
A47: 43 | B47: 446 | C47: 715 | D47: SAHARUDDIN | E47: MAKASSAR | F47: 1 pasal : Pasal 288 ayat (3) Jo Pasal 106 ayat (5) huruf c | G47: DD8462XW | H47: 50|BUKU KIR | I47: 1826944 | J47: 149000 | K47: 1000 | L47: DISHUB
A48: 44 | B48: 447 | C48: 716 | D48: ROBUDDIN | E48: MAKASSAR | F48: 1 pasal : Pasal 288 ayat (3) Jo Pasal 106 ayat (5) huruf c | G48: DD1962AO | H48: 50|BUKU KIR | I48: 1826946 | J48: 174000 | K48: 1000 | L48: DISHUB
A49: 45 | B49: 448 | C49: 717 | D49: SULTAN | E49: MAKASSAR | F49: 1 pasal : Pasal 308 huruf a Jo Pasal 173 ayat (1) huruf a] Tanpa Izin dalam Trayek | G49: DD8679MW | H49: 50|BUKU KIR | I49: 1826945 | J49: 149000 | K49: 1000 | L49: DISHUB
A50: 46 | B50: 449 | C50: 718 | D50: ANDI | E50: MAKASSAR | F50: 1 pasal : Pasal 288 ayat (3) Jo Pasal 106 ayat (5) huruf c | G50: DD8199YZ | H50: 50|BUKU KIR | I50: 1826942 | J50: 149000 | K50: 1000 | L50: DISHUB
A51: 47 | B51: 450 | C51: 719 | D51: RUDI | E51: MAKASSAR | F51: 1 pasal : Pasal 308 huruf a Jo Pasal 173 ayat (1) huruf a] Tanpa Izin dalam Trayek | G51: DD8142RF | H51: 50|BUKU KIR | I51: 1826943 | J51: 149000 | K51: 1000 | L51: DISHUB
A52: 48 | B52: 451 | C52: 720 | D52: TUDDING | E52: MAKASSAR | F52: 1 pasal : Pasal 288 ayat (3) Jo Pasal 106 ayat (5) huruf c | G52: DD8669SK | H52: 50|BUKU KIR | I52: 1826955 | J52: 149000 | K52: 1000 | L52: DISHUB
A53: 49 | B53: 452 | C53: 721 | D53: TAJUDDIN | E53: MAKASSAR | F53: 1 pasal : Pasal 288 ayat (3) Jo Pasal 106 ayat (5) huruf c | G53: DD8444UD | H53: 50|BUKU KIR | I53: 1826954 | J53: 149000 | K53: 1000 | L53: DISHUB
A54: 50 | B54: 453 | C54: 722 | D54: ANDI | E54: MAKASSAR | F54: 1 pasal : Pasal 288 ayat (3) Jo Pasal 106 ayat (5) huruf c | G54: DP8996DF | H54: 50|BUKU KIR | I54: 1826953 | J54: 149000 | K54: 1000 | L54: DISHUB
A55: 51 | B55: 454 | C55: 723 | D55: ISMAIL | E55: MAKASSAR | F55: 1 pasal : Pasal 288 ayat (3) Jo Pasal 106 ayat (5) huruf c | G55: DD8763XR | H55: 50|BUKU KIR | I55: 1826971 | J55: 149000 | K55: 1000 | L55: DISHUB
A56: 52 | B56: 455 | C56: 724 | D56: RUSDI | E56: MAKASSAR | F56: 1 pasal : Pasal 288 ayat (3) Jo Pasal 106 ayat (5) huruf c | G56: B9604PCN | H56: 50|BUKU KIR | I56: 1826952 | J56: 74000 | K56: 1000 | L56: DISHUB
... A76: 72 | B76: 475 | C76: 744 | D76: SAIFUL | E76: MAKASSAR | F76: 1 pasal : Pasal 288 ayat (3) Jo Pasal 106 ayat (5) huruf c | G76: DD1585AI | H76: 50|BUKU KIR | I76: 1826932 | J76: 149000 | K76: 1000 | L76: DISHUB
M77: =SUM(J5:J76) -> 9353000 | N77: =SUM(K5:K76) -> 72000
K78: T O T A L | M78: =SUM(M77) -> 9353000 | N78: =SUM(N77) -> 72000

Sheet Lap. Bulan 4
A1: LAPORAN PERKARA LALU LINTAS (TILANG) / PERKARA PIDANA CEPAT (TIPIRING)
A2: BULAN APRIL 2021
A4: NO. | B4: TANGGAL SIDANG | C4: NO. PERKARA | F4: KESATUAN | J4: JUMLAH BERKAS | K4: JUMLAH DENDA | L4: JUMLAH BIAYA PERKARA | M4: KET. BEBAS | N4: HAKIM | O4: PANITERA PENGGANTI | P4: TGL PENYERAHAN KEJAKSAAN
F6: A | G6: B | H6: C | I6: D
A7: 1 | B7: 44295 | C7: =SUM('Tgl. 09.04.2021'!C5) -> 745 | D7: S/D | E7: =SUM('Tgl. 09.04.2021'!C171) -> 911 | F7: ='Tgl. 09.04.2021'!A172 -> 168 | G7: 0 | H7: 0 | I7: 0 | J7: =SUM(F7:I7) -> 168 | K7: =SUM('Tgl. 09.04.2021'!M174) -> 23432000 | L7: =SUM(J7*1000)-(M7*1000) -> 168000 | M7: 0 | N7: HARTO PANCONO,S.H.,M.H. | O7: MUSDALIFAH MUSLIMIN,S.H.,M.H. | P7: 44295
A8: 2 | B8: 44302 | C8: =SUM('Tgl. 16.04.2021'!C5) -> 913 | D8: S/D | E8: =SUM('Tgl. 16.04.2021'!C169) -> 1070 | F8: ='Tgl. 16.04.2021'!A160 -> 156 | G8: ='Tgl. 16.04.2021'!A169 -> 2 | H8: 0 | I8: 0 | J8: =SUM(F8:I8) -> 158 | K8: =SUM('Tgl. 16.04.2021'!M171) -> 24092000 | L8: =SUM(J8*1000)-(M8*1000) -> 158000 | M8: 0 | N8: YAMTO SUSENA,S.H.,M.H. | O8: SABANIA H,S.H.,M.H. | P8: 44302
A9: 3 | B9: 44309 | C9: =SUM('Tgl. 23.04.2021'!C5) -> 1071 | D9: S/D | E9: =SUM('Tgl. 23.04.2021'!C129) -> 1195 | F9: ='Tgl. 23.04.2021'!A129 -> 125 | G9: 0 | H9: 0 | I9: 0 | J9: =SUM(F9:I9) -> 125 | K9: =SUM('Tgl. 23.04.2021'!M131) -> 17975000 | L9: =SUM(J9*1000)-(M9*1000) -> 125000 | M9: 0 | N9: SURATNO,S.H. | O9: H. MUHAMMAD TAUFIK,S.H. | P9: 44309
A10: 4 | B10: 44316 | C10: =SUM('Tgl. 30.04.2021'!C5) -> 1196 | D10: S/D | E10: =SUM('Tgl. 30.04.2021'!C112) -> 1296 | F10: ='Tgl. 30.04.2021'!A104 -> 100 | G10: 0 | H10: 0 | I10: ='Tgl. 30.04.2021'!A112 -> 1 | J10: =SUM(F10:I10) -> 101 | K10: =SUM('Tgl. 30.04.2021'!L114) -> 14049000 | L10: =SUM(J10*1000)-(M10*1000) -> 101000 | M10: 0 | N10: BURHANUDDIN,S.H.,M.H. | O10: Hj. JUSTIAH SAID,S.H.,M.H. | P10: 44316
A11: JUMLAH KESELURUHAN : | F11: =SUM(F7:F10) -> 549 | G11: =SUM(G7:G10) -> 2 | H11: =SUM(H7:H10) -> 0 | I11: =SUM(I7:I10) -> 1 | J11: =SUM(J7:J10) -> 552 | K11: =SUM(K7:K10) -> 79548000 | L11: =SUM(L7:L10) -> 552000 | M11: =SUM(M7:M10) -> 0
A12: KETERANGAN :
A13: A= POLRESTABES | E13: C= PJR
A14: B= PELABUHAN | E14: D= DITLANTAS
A16: TIPIRING | C16: : | D16: 1 BERKAS

Sheet Tgl. 09.04.2021
A1: PENGADILAN NEGERI MAKASSAR
A2: TANGGAL 09.04.2021
D3: P O L R E S T A B E S
A4: NO. | B4: NO. BULAN | C4: NO. REG | D4: NAMA TERDAKWA/ TERPIDANA | E4: ALAMAT TERDAKWA/ TERPIDANA | F4: PASAL YANG DILANGGAR | G4: NO. POLISI | H4: BARANG BUKTI | I4: NO. TILANG | J4: DENDA | K4: ONGKOS PERKARA
A5: 1 | B5: 476 | C5: 745 | D5: MULYADI | E5: JL P KEMERDEKAAN | F5: 1 pasal : Pasal 291 ayat (2) Jo Pasal 106 ayat (8) | G5: DD5698UZ | H5: 20|STNK | I5: F7761641 | J5: 99000 | K5: 1000
A6: 2 | B6: 477 | C6: 746 | D6: SILASERUS | E6: MUDUNG | F6: 1 pasal : Pasal 291 ayat (1) Jo Pasal 106 ayat (8) | G6: DD3641SQ | H6: 10|SIM C | I6: F7761646 | J6: 149000 | K6: 1000
A7: 3 | B7: 478 | C7: 747 | D7: FERDINAND | E7: KAB TANA TORAJA | F7: 1 pasal : Pasal 287 ayat (1) jo Pasal 106 ayat (4) huruf a | G7: DD2589US | H7: 10|SIM C | I7: F7761483 | J7: 99000 | K7: 1000
A8: 4 | B8: 479 | C8: 748 | D8: ALFAKA ABU | E8: KAB GOWA | F8: 1 pasal : Pasal 287 ayat (1) jo Pasal 106 ayat (4) huruf a | G8: DD5069NK | H8: 20|STNK | I8: F7761629 | J8: 99000 | K8: 1000
A9: 5 | B9: 480 | C9: 749 | D9: ALISYA | F9: 1 pasal : Pasal 287 ayat (1) jo Pasal 106 ayat (4) huruf a | G9: DD4267QA | H9: 20|STNK | I9: F7761664 | J9: 149000 | K9: 1000
A10: 6 | B10: 481 | C10: 750 | D10: SUCI | F10: 2 pasal : Pasal 291 ayat (1) Jo Pasal 106 ayat (8),Pasal 291 ayat (2) Jo Pasal 106 ayat (8) | G10: DD6243SD | H10: 20|STNK | I10: F7761622 | J10: 99000 | K10: 1000
A11: 7 | B11: 482 | C11: 751 | D11: ALXIUS | F11: 1 pasal : Pasal 291 ayat (1) Jo Pasal 106 ayat (8) | G11: DD3484YI | H11: 20|STNK | I11: F7761645 | J11: 49000 | K11: 1000
A12: 8 | B12: 483 | C12: 752 | D12: ARYO | E12: JL DG TATA | F12: 1 pasal : Pasal 288 ayat (2) jo Pasal 106 ayat (5) huruf b | G12: DD2015VJ | H12: 20|STNK | I12: F7761624 | J12: 99000 | K12: 1000
A13: 9 | B13: 484 | C13: 753 | D13: AISYAH | E13: JL DAHLIA | F13: 1 pasal : Pasal 291 ayat (1) Jo Pasal 106 ayat (8) | G13: DD2982YI | H13: 20|STNK | I13: F7761623 | J13: 149000 | K13: 1000
A14: 10 | B14: 485 | C14: 754 | D14: HASMAH | E14: JL KESEMPATAN | F14: 1 pasal : Pasal 287 ayat (1) jo Pasal 106 ayat (4) huruf a | G14: DD2022KO | H14: 20|STNK | I14: F7761543 | J14: 49000 | K14: 1000
A15: 11 | B15: 486 | C15: 755 | D15: YUSUF | E15: JL INSPEKSI KANAL | F15: 1 pasal : Pasal 280 jo Pasal 68 ayat (1) | G15: DD6375QY | H15: 10|SIM C | I15: F7761667 | J15: 149000 | K15: 1000
A16: 12 | B16: 487 | C16: 756 | D16: RAMLI | E16: GENTUNGANG GOWA | F16: 1 pasal : Pasal 291 ayat (1) Jo Pasal 106 ayat (8) | G16: DD---------- | H16: 10|SIM C | I16: F7761079 | J16: 99000 | K16: 1000
A17: 13 | B17: 488 | C17: 757 | D17: MUH BAYU | E17: JL MUH JUFRI | F17: 1 pasal : Pasal 291 ayat (1) Jo Pasal 106 ayat (8) | G17: DD5709SJ | H17: 20|STNK | I17: F7761668 | J17: 99000 | K17: 1000
A18: 14 | B18: 489 | C18: 758 | D18: ADRIAN | E18: JL. RAJA DG NAI | F18: 2 pasal : Pasal 281 jo Pasal 77 ayat (1),Pasal 287 ayat (1) jo Pasal 106 ayat (4) huruf a | G18: DD6762LZ | H18: 20|STNK | I18: F7761626 | J18: 49000 | K18: 1000
A19: 15 | B19: 490 | C19: 759 | D19: ANDI | E19: JL IR SUTAMI | F19: 2 pasal : Pasal 287 ayat (1) jo Pasal 106 ayat (4) huruf a dan Pasal 106 ayat (4) huruf b,Pasal 288 ayat (2) jo Pasal 106 ayat (5) huruf b | G19: DD8816RA | H19: 20|STNK | I19: F7760935 | J19: 199000 | K19: 1000
A20: 16 | B20: 491 | C20: 760 | D20: PAULUS | F20: 1 pasal : Pasal 287 ayat (1) jo Pasal 106 ayat (4) huruf a | G20: DD2024UE | H20: 20|STNK | I20: F7761666 | J20: 99000 | K20: 1000
A21: 17 | B21: 492 | C21: 761 | D21: ALIF JULVAINI | E21: JL S ALAUDDIN | F21: 1 pasal : Pasal 287 ayat (1) jo Pasal 106 ayat (4) huruf a | G21: DW2396EU | H21: 20|STNK | I21: F7761665 | J21: 49000 | K21: 1000
A22: 18 | B22: 493 | C22: 762 | D22: JUSMAN | E22: GOWA | F22: 1 pasal : Pasal 285 ayat (1) Jo Pasal 106 ayat (3) | G22: DD5606UE | H22: 20|STNK | I22: F7761619 | J22: 99000 | K22: 1000
A23: 19 | B23: 494 | C23: 763 | D23: MARTONIUS | E23: KUMALA 2 | F23: 1 pasal : Pasal 281 jo Pasal 77 ayat (1) | G23: DD4879QH | H23: 20|STNK | I23: F7761616 | J23: 99000 | K23: 1000
A24: 20 | B24: 495 | C24: 764 | D24: MUH ADIL | E24: BULUKUMBA | F24: 1 pasal : Pasal 291 ayat (2) Jo Pasal 106 ayat (8) | G24: DD6093KB | H24: 20|STNK | I24: F7761635 | J24: 149000 | K24: 1000
A25: 21 | B25: 496 | C25: 765 | D25: ARYAN DERMAWAN | E25: JL DG TATA | F25: 1 pasal : Pasal 291 ayat (2) Jo Pasal 106 ayat (8) | G25: DD3788ML | H25: 20|STNK | I25: F7761617 | J25: 99000 | K25: 1000
A26: 22 | B26: 497 | C26: 766 | D26: SIDIN AHMAD | F26: 1 pasal : Pasal 287 ayat (1) jo Pasal 106 ayat (4) huruf a | G26: DD5314RI | H26: 20|STNK | I26: F7761634 | J26: 49000 | K26: 1000
A27: 23 | B27: 498 | C27: 767 | D27: ROLLY | F27: 1 pasal : Pasal 291 ayat (1) Jo Pasal 106 ayat (8) | G27: DD2342VW | H27: 20|STNK | I27: F7761661 | J27: 99000 | K27: 1000
A28: 24 | B28: 499 | C28: 768 | D28: ANDI NUR ALIM | E28: JL MUSTAFA DG BUNGA | F28: 1 pasal : Pasal 287 ayat (1) jo Pasal 106 ayat (4) huruf a | G28: DD6453LQ | H28: 20|STNK | I28: F7761662 | J28: 99000 | K28: 1000
A29: 25 | B29: 500 | C29: 769 | D29: ADHY | E29: JL PAROPPO | F29: 1 pasal : Pasal 291 ayat (2) Jo Pasal 106 ayat (8) | G29: DD2163KN | H29: 20|STNK | I29: F7761638 | J29: 99000 | K29: 1000
A30: 26 | B30: 501 | C30: 770 | D30: MUH ASYRAF AZ ZACKY | E30: KAB LUWU UTARA | F30: 1 pasal : Pasal 280 jo Pasal 68 ayat (1) | G30: DD--------- | H30: 10|SIM C | I30: F7761618 | J30: 149000 | K30: 1000
A31: 27 | B31: 502 | C31: 771 | D31: INRIANI | E31: PRKANGLABBU | F31: 1 pasal : Pasal 287 ayat (1) jo Pasal 106 ayat (4) huruf a | G31: DD5305UZ | H31: 10|SIM C | I31: F7761656 | J31: 149000 | K31: 1000
A32: 28 | B32: 503 | C32: 772 | D32: MY M NURHADI | E32: JL G PEGAT | F32: 1 pasal : Pasal 287 ayat (1) jo Pasal 106 ayat (4) huruf a | G32: DP3624UR | H32: 10|SIM C | I32: F7761657 | J32: 149000 | K32: 1000
A33: 29 | B33: 504 | C33: 773 | D33: HAMDANI PUTRA | E33: KAB TAKALAR | F33: 1 pasal : Pasal 285 ayat (1) Jo Pasal 106 ayat (3) | G33: DD-------- | H33: 10|SIM C | I33: F7761539 | J33: 99000 | K33: 1000
A34: 30 | B34: 505 | C34: 774 | D34: MARWANSYAH | F34: 1 pasal : Pasal 287 ayat (1) jo Pasal 106 ayat (4) huruf a | G34: DD-------- | H34: 10|SIM C | I34: F7761620 | J34: 149000 | K34: 1000
A35: 31 | B35: 506 | C35: 775 | D35: IDHAM SURYANSYAH | E35: BTN MANGGA TIGA | F35: 1 pasal : Pasal 285 ayat (1) Jo Pasal 106 ayat (3) | G35: DD---------- | H35: 10|SIM C | I35: F7761632 | J35: 99000 | K35: 1000
A36: 32 | B36: 507 | C36: 776 | D36: M SYARIFUDDIN | E36: TAKALAR | F36: 1 pasal : Pasal 280 jo Pasal 68 ayat (1) | G36: DD6377PW | H36: 20|STNK | I36: F7761603 | J36: 49000 | K36: 1000
A37: 33 | B37: 508 | C37: 777 | D37: IRSYAD | E37: JL CAKALNG | F37: 1 pasal : Pasal 287 ayat (1) jo Pasal 106 ayat (4) huruf a | G37: DD8511QY | H37: 20|STNK | I37: F7761637 | J37: 199000 | K37: 1000
A38: 34 | B38: 509 | C38: 778 | D38: FAUZI | E38: PATTALASSANG | F38: 1 pasal : Pasal 288 ayat (2) jo Pasal 106 ayat (5) huruf b | G38: DD3026MO | H38: 20|STNK | I38: F7761439 | J38: 149000 | K38: 1000
A39: 35 | B39: 510 | C39: 779 | D39: USMAN | E39: JL REGGE | F39: 1 pasal : Pasal 287 ayat (1) jo Pasal 106 ayat (4) huruf a | G39: DK8747TA | H39: 20|STNK | I39: F7761571 | J39: 199000 | K39: 1000
A40: 36 | B40: 511 | C40: 780 | D40: WANDI RYNALDI | E40: JL DG HAYO | F40: 1 pasal : Pasal 287 ayat (1) jo Pasal 106 ayat (4) huruf a | G40: DD2109KC | H40: 10|SIM C | I40: F7761572 | J40: 149000 | K40: 1000
A41: 37 | B41: 512 | C41: 781 | D41: KARMILA | E41: JL MACCINI RAYA | F41: 1 pasal : Pasal 281 jo Pasal 77 ayat (1) | G41: DD2615VB | H41: 20|STNK | I41: F7761438 | J41: 99000 | K41: 1000
A42: 38 | B42: 513 | C42: 782 | D42: YUSUF DG GASSING | E42: MAROS | F42: 1 pasal : Pasal 307 Jo Pasal 169 ayat (1) | G42: DD8189RQ | H42: 20|STNK | I42: F7760934 | J42: 149000 | K42: 1000
A43: 39 | B43: 514 | C43: 783 | D43: ANDI AHSYABANA | E43: BTN CV DEWI | F43: 1 pasal : Pasal 287 ayat (1) jo Pasal 106 ayat (4) huruf a dan Pasal 106 ayat (4) huruf b | G43: DD1881QN | H43: 20|STNK | I43: F7761655 | J43: 149000 | K43: 1000
A44: 40 | B44: 515 | C44: 784 | D44: RAHMAT RIZAL | E44: KAB POLMAN | F44: 1 pasal : Pasal 291 ayat (2) Jo Pasal 106 ayat (8) | G44: DW3090DE | H44: 10|SIM C | I44: F7761574 | J44: 149000 | K44: 1000
A45: 41 | B45: 516 | C45: 785 | D45: M YUNUS | E45: JL DATUK PATIMANG | F45: 1 pasal : Pasal 291 ayat (2) Jo Pasal 106 ayat (8) | G45: DD3779YG | H45: 10|SIM C | I45: F7761579 | J45: 99000 | K45: 1000
A46: 42 | B46: 517 | C46: 786 | D46: SYARIFAH | E46: JL TODOPIULI | F46: 1 pasal : Pasal 287 ayat (1) jo Pasal 106 ayat (4) huruf a | G46: DD2325UJ | H46: 20|STNK | I46: F7761573 | J46: 99000 | K46: 1000
... A67: 63 | B67: 538 | C67: 807 | D67: MUH INDRA QGLDHYAKSA | E67: JL. JEND A. YANI KAB BARRU | F67: 1 pasal : Pasal 287 ayat (1) jo Pasal 106 ayat (4) huruf a | G67: DP1141BD | H67: 60|SIM INTERNASIONAL | I67: F7761631 | J67: 99000 | K67: 1000
A68: 64 | B68: 539 | C68: 808 | D68: WANNY TUNGADI | F68: 1 pasal : Pasal 287 ayat (1) jo Pasal 106 ayat (4) huruf a | G68: DD1295QU | H68: 20|STNK | I68: F7761468 | J68: 149000 | K68: 1000
A69: 65 | B69: 540 | C69: 809 | D69: SYAHRUL | E69: JL RAJAWALI | F69: 1 pasal : Pasal 291 ayat (1) Jo Pasal 106 ayat (8) | G69: DD4668VF | H69: 20|STNK | I69: F7761474 | J69: 149000 | K69: 1000
A70: 66 | B70: 541 | C70: 810 | D70: ERIK | E70: MAKASSAR | F70: 1 pasal : Pasal 287 ayat (1) jo Pasal 106 ayat (4) huruf a | G70: DD5201SW | H70: 20|STNK | I70: F7761538 | J70: 99000 | K70: 1000
A71: 67 | B71: 542 | C71: 811 | D71: MUH ANDRI | E71: BUNGUNG BARA | F71: 1 pasal : Pasal 291 ayat (1) Jo Pasal 106 ayat (8) | G71: DD---------- | H71: 10|SIM C | I71: F7761559 | J71: 174000 | K71: 1000
A72: 68 | B72: 543 | C72: 812 | D72: THOMAS EDISON | E72: JL KUMALA 2 | F72: 1 pasal : Pasal 285 ayat (2) Jo Pasal 106 ayat (3) Jo Pasal 48 ayat (2) | G72: DD3893RQ | H72: 10|SIM C | I72: F7761508 | J72: 49000 | K72: 1000
A73: 69 | B73: 544 | C73: 813 | D73: ALIF | E73: JL HARTACO INDAH | F73: 2 pasal : Pasal 281 jo Pasal 77 ayat (1),Pasal 288 ayat (1) jo Pasal 106 ayat (5) huruf a | G73: DD5559QR | H73: 20|STNK | I73: F7761596 | J73: 49000 | K73: 1000
A74: 70 | B74: 545 | C74: 814 | D74: AHMAD | E74: JL ST ALAUDDIN 3 | F74: 2 pasal : Pasal 281 jo Pasal 77 ayat (1),Pasal 288 ayat (1) jo Pasal 106 ayat (5) huruf a | G74: DD6825XO | H74: 20|STNK | I74: F7761022 | J74: 174000 | K74: 1000
A75: 71 | B75: 546 | C75: 815 | D75: MUH. FAKI | E75: MAKASSAR | F75: 1 pasal : Pasal 291 ayat (1) Jo Pasal 106 ayat (8) | G75: DD3909QE | H75: 60|SIM INTERNASIONAL | I75: F7760404 | J75: 99000 | K75: 1000
A76: 72 | B76: 547 | C76: 816 | D76: RISKY | E76: MAKASSAR | F76: 1 pasal : Pasal 287 ayat (2) jo Pasal 106 ayat (4) huruf c | G76: DD3554SE | H76: 20|STNK | I76: F7761469 | J76: 49000 | K76: 1000
A77: 73 | B77: 548 | C77: 817 | D77: PAUL | E77: JL BULUSARAUNG | F77: 1 pasal : Pasal 287 ayat (2) jo Pasal 106 ayat (4) huruf c | G77: DD3788UQ | H77: 20|STNK | I77: F7761531 | J77: 99000 | K77: 1000
A78: 74 | B78: 549 | C78: 818 | D78: REZKY ALIF | E78: JL S SADDANG | F78: 1 pasal : Pasal 285 ayat (2) Jo Pasal 106 ayat (3) Jo Pasal 48 ayat (2) | G78: DN4291HF | H78: 20|STNK | I78: F7761611 | J78: 149000 | K78: 1000
A79: 75 | B79: 550 | C79: 819 | D79: SYAHRUL | E79: JL MACCINI RAYA | F79: 1 pasal : Pasal 287 ayat (1) jo Pasal 106 ayat (4) huruf a | G79: DD5560KT | H79: 20|STNK | I79: F7761507 | J79: 49000 | K79: 1000
A80: 76 | B80: 551 | C80: 820 | D80: AMBO DALLE | E80: JL YUSUF BAUTI | F80: 1 pasal : Pasal 287 ayat (1) jo Pasal 106 ayat (4) huruf a | G80: DD6024KJ | H80: 20|STNK | I80: F7761506 | J80: 149000 | K80: 1000
... A96: 92 | B96: 567 | C96: 836 | D96: RIZKI YULIANTI | E96: TAMAN SUDIANG | F96: 1 pasal : Pasal 287 ayat (1) jo Pasal 106 ayat (4) huruf a | G96: DD228XX | H96: 11|SIM A | I96: F7761475 | J96: 174000 | K96: 1000
A97: 93 | B97: 568 | C97: 837 | D97: ASNIATI | E97: JL DATUK PATIMANG | F97: 1 pasal : Pasal 287 ayat (1) jo Pasal 106 ayat (4) huruf a dan Pasal 106 ayat (4) huruf b | G97: DD2641KI | H97: 20|STNK | I97: E7888181 | J97: 149000 | K97: 1000 | L97: E-TLE
A98: 94 | B98: 569 | C98: 838 | D98: SURIYANTI | E98: JL TAMALANREA | F98: 1 pasal : Pasal 287 ayat (1) jo Pasal 106 ayat (4) huruf a dan Pasal 106 ayat (4) huruf b | G98: DD1745SC | H98: 20|STNK | I98: E7888182 | J98: 249000 | K98: 1000 | L98: E-TLE
A99: 95 | B99: 570 | C99: 839 | D99: SUWANTO | E99: JL AB LAMBOGO ASBAR | F99: 1 pasal : Pasal 287 ayat (1) jo Pasal 106 ayat (4) huruf a dan Pasal 106 ayat (4) huruf b | G99: DD4708IE | H99: 20|STNK | I99: E7888183 | J99: 149000 | K99: 1000 | L99: E-TLE
A100: 96 | B100: 571 | C100: 840 | D100: TASMIN | E100: JL G BAWAKARAENG | F100: 1 pasal : Pasal 287 ayat (1) jo Pasal 106 ayat (4) huruf a dan Pasal 106 ayat (4) huruf b | G100: DD5090SN | H100: 20|STNK | I100: E7888184 | J100: 149000 | K100: 1000 | L100: E-TLE
A101: 97 | B101: 572 | C101: 841 | D101: HERMAN | E101: JL MESJID RAYA | F101: 1 pasal : Pasal 287 ayat (1) jo Pasal 106 ayat (4) huruf a dan Pasal 106 ayat (4) huruf b | G101: DD5288RO | H101: 20|STNK | I101: E7888185 | J101: 149000 | K101: 1000 | L101: E-TLE
A102: 98 | B102: 573 | C102: 842 | D102: MERRY TJIOE | E102: JL ANDALAS | F102: 1 pasal : Pasal 287 ayat (1) jo Pasal 106 ayat (4) huruf a dan Pasal 106 ayat (4) huruf b | G102: DD5897MY | H102: 20|STNK | I102: E7888186 | J102: 149000 | K102: 1000 | L102: E-TLE
A103: 99 | B103: 574 | C103: 843 | D103: H ABIDIN ABU | E103: BTN BUNGORO INDAH | F103: 1 pasal : Pasal 287 ayat (1) jo Pasal 106 ayat (4) huruf a dan Pasal 106 ayat (4) huruf b | G103: DD5959EN | H103: 20|STNK | I103: E7888187 | J103: 149000 | K103: 1000 | L103: E-TLE
A104: 100 | B104: 575 | C104: 844 | D104: FERDINAND A NOYA | E104: BTN TAMARUNANG | F104: 1 pasal : Pasal 287 ayat (1) jo Pasal 106 ayat (4) huruf a dan Pasal 106 ayat (4) huruf b | G104: DD6549NU | H104: 20|STNK | I104: E7888188 | J104: 149000 | K104: 1000 | L104: E-TLE
A105: 101 | B105: 576 | C105: 845 | D105: MARKUS SAMPE | E105: BTN KODAM 3 | F105: 1 pasal : Pasal 287 ayat (1) jo Pasal 106 ayat (4) huruf a dan Pasal 106 ayat (4) huruf b | G105: DD1260K | H105: 20|STNK | I105: E7888189 | J105: 249000 | K105: 1000 | L105: E-TLE
A106: 102 | B106: 577 | C106: 846 | D106: SATRYADI | E106: JL AP PETTARANI | F106: 1 pasal : Pasal 287 ayat (1) jo Pasal 106 ayat (4) huruf a dan Pasal 106 ayat (4) huruf b | G106: DD1509KC | H106: 20|STNK | I106: E7888190 | J106: 249000 | K106: 1000 | L106: E-TLE
A107: 103 | B107: 578 | C107: 847 | D107: ANWAR | E107: JL SWADAYA | F107: 1 pasal : Pasal 287 ayat (1) jo Pasal 106 ayat (4) huruf a dan Pasal 106 ayat (4) huruf b | G107: DD1558MP | H107: 20|STNK | I107: E7888191 | J107: 249000 | K107: 1000 | L107: E-TLE
A108: 104 | B108: 579 | C108: 848 | D108: DWI EKA PARAMITHA | E108: JL BATUA RAYA | F108: 1 pasal : Pasal 287 ayat (1) jo Pasal 106 ayat (4) huruf a dan Pasal 106 ayat (4) huruf b | G108: DD1995MM | H108: 20|STNK | I108: E7888192 | J108: 249000 | K108: 1000 | L108: E-TLE
... A146: 142 | B146: 617 | C146: 886 | D146: MUHAMMAD RUSLI HASIL | E146: JL LANDAK BARU LR 5 | F146: 1 pasal : Pasal 287 ayat (1) jo Pasal 106 ayat (4) huruf a dan Pasal 106 ayat (4) huruf b | G146: DD2368US | H146: 20|STNK | I146: E7888230 | J146: 149000 | K146: 1000 | L146: E-TLE
A147: 143 | B147: 618 | C147: 887 | D147: RISMA RAMADHANI | E147: BTN HAMZI | F147: 1 pasal : Pasal 287 ayat (1) jo Pasal 106 ayat (4) huruf a | G147: DW6609AP | H147: 20|STNK | I147: F7761529 | J147: 99000 | K147: 1000
A148: 144 | B148: 619 | C148: 888 | D148: TASWIN | E148: JL CENDRAWASIH | F148: 1 pasal : Pasal 287 ayat (1) jo Pasal 106 ayat (4) huruf a | G148: DD6177KQ | H148: 20|STNK | I148: F7761681 | J148: 99000 | K148: 1000
A149: 145 | B149: 620 | C149: 889 | D149: WIHELMUS WETU | E149: JL TEUKU UMAR | F149: 1 pasal : Pasal 281 jo Pasal 77 ayat (1) | G149: DD8712KJ | H149: 20|STNK | I149: F7761691 | J149: 149000 | K149: 1000
A150: 146 | B150: 621 | C150: 890 | D150: AGUS | E150: JL UJUNG PANDANG | F150: 1 pasal : Pasal 280 jo Pasal 68 ayat (1) | G150: DD5767YD | H150: 20|STNK | I150: F7761682 | J150: 99000 | K150: 1000
A151: 147 | B151: 622 | C151: 891 | D151: SALNA | E151: PALLANGGA GOWA | F151: 1 pasal : Pasal 287 ayat (1) jo Pasal 106 ayat (4) huruf a | G151: DD3624XP | H151: 10|SIM C | I151: F7761630 | J151: 99000 | K151: 1000
A152: 148 | B152: 623 | C152: 892 | D152: SRI WAHYUNI | F152: 1 pasal : Pasal 288 ayat (2) jo Pasal 106 ayat (5) huruf b | G152: DD4779QS | H152: 20|STNK | I152: F7761660 | J152: 149000 | K152: 1000
A153: 149 | B153: 624 | C153: 893 | D153: DEDI A | E153: GONTANG | F153: 1 pasal : Pasal 287 ayat (1) jo Pasal 106 ayat (4) huruf a | G153: DD6416YP | H153: 20|STNK | I153: F7761338 | J153: 99000 | K153: 1000
A154: 150 | B154: 625 | C154: 894 | D154: IKMAL | E154: JL P KEMERDEKAAN | F154: 1 pasal : Pasal 281 jo Pasal 77 ayat (1) | G154: DD3801LL | H154: 20|STNK | I154: F7761604 | J154: 99000 | K154: 1000
A155: 151 | B155: 626 | C155: 895 | D155: M FADLIANSYAH | E155: JL TINUMBU | F155: 1 pasal : Pasal 287 ayat (1) jo Pasal 106 ayat (4) huruf a | G155: DD4660I | H155: 20|STNK | I155: F7761659 | J155: 49000 | K155: 1000
A156: 152 | B156: 627 | C156: 896 | D156: FATIMAH | E156: JL SAMATA | F156: 1 pasal : Pasal 291 ayat (1) Jo Pasal 106 ayat (8) | G156: DD2238VR | H156: 20|STNK | I156: F7761581 | J156: 49000 | K156: 1000
A157: 153 | B157: 628 | C157: 897 | D157: NANNA | E157: JL SYEH YUSUF GOWA | F157: 1 pasal : Pasal 291 ayat (1) Jo Pasal 106 ayat (8) | G157: DW2744BM | H157: 20|STNK | I157: F7761584 | J157: 49000 | K157: 1000
A158: 154 | B158: 629 | C158: 898 | D158: MUH SUSILO | E158: KOMP MANGASA | F158: 2 pasal : Pasal 280 jo Pasal 68 ayat (1),Pasal 285 ayat (1) Jo Pasal 106 ayat (3) | G158: DD1659MS | H158: 20|STNK | I158: F7761522 | J158: 349000 | K158: 1000
A159: 155 | B159: 630 | C159: 899 | D159: NASYWA | E159: BAJI DAKKA | F159: 1 pasal : Pasal 285 ayat (1) Jo Pasal 106 ayat (3) | G159: DD2247XX | H159: 40|KENDARAAN | I159: F7761685 | J159: 249000 | K159: 1000
A160: 156 | B160: 631 | C160: 900 | D160: MUHAMMAD RISKI | E160: ANTANG | F160: 1 pasal : Pasal 285 ayat (1) Jo Pasal 106 ayat (3) | G160: DP5984RB | H160: 20|STNK | I160: F7761633 | J160: 249000 | K160: 1000
A161: 157 | B161: 632 | C161: 901 | D161: ILMI | E161: JL KERUNG KERUNG | F161: 1 pasal : Pasal 288 ayat (2) jo Pasal 106 ayat (5) huruf b | G161: DD2201OA | H161: 40|KENDARAAN | I161: F7760687 | J161: 249000 | K161: 1000
A162: 158 | B162: 633 | C162: 902 | D162: ADITYA | E162: JL RAPPOKALLING | F162: 1 pasal : Pasal 281 jo Pasal 77 ayat (1) | G162: DD6844KT | H162: 40|KENDARAAN | I162: F7760366 | J162: 349000 | K162: 1000
A163: 159 | B163: 634 | C163: 903 | D163: MUH AAN PRATAMA | E163: JL DAENG TANTU | F163: 1 pasal : Pasal 281 jo Pasal 77 ayat (1) | G163: DD3849UE | H163: 40|KENDARAAN | I163: F7760794 | J163: 349000 | K163: 1000
A164: 160 | B164: 635 | C164: 904 | D164: MUH FIKRI | E164: JL IRIAN LR 13 | F164: 1 pasal : Pasal 281 jo Pasal 77 ayat (1) | G164: DD5160UC | H164: 40|KENDARAAN | I164: F7760686 | J164: 149000 | K164: 1000
... A172: 168 | B172: 643 | C172: 912 | D172: ARIFUDDIN | E172: JL JUANDA | F172: 1 pasal : Pasal 287 ayat (1) jo Pasal 106 ayat (4) huruf a | G172: DD5476QZ | H172: 20|STNK | I172: F7760428 | J172: 99000 | K172: 1000
M173: =SUM(J5:J172) -> 23432000 | N173: =SUM(K5:K172) -> 168000
K174: T O T A L | M174: =SUM(M173) -> 23432000 | N174: =SUM(N173) -> 168000

Sheet Tgl. 16.04.2021
A1: PENGADILAN NEGERI MAKASSAR
A2: TANGGAL 16.04.2021
D3: P O L R E S T A B E S
A4: NO. | B4: NO. BULAN | C4: NO. REG | D4: NAMA TERDAKWA/ TERPIDANA | E4: ALAMAT TERDAKWA/ TERPIDANA | F4: PASAL YANG DILANGGAR | G4: NO. POLISI | H4: BARANG BUKTI | I4: NO. TILANG | J4: DENDA | K4: ONGKOS PERKARA
A5: 1 | B5: 644 | C5: 913 | D5: MUH YASIN | E5: MAKASSAR | F5: 1 pasal : Pasal 287 ayat (1) jo Pasal 106 ayat (4) huruf a | G5: DD6227QG | H5: 20|STNK | I5: F7761676 | J5: 49000 | K5: 1000
A6: 2 | B6: 645 | C6: 914 | D6: ALI BABA | E6: JL TABARIA | F6: 1 pasal : Pasal 291 ayat (2) Jo Pasal 106 ayat (8) | G6: DD5027RZ | H6: 20|STNK | I6: F7761639 | J6: 49000 | K6: 1000
A7: 3 | B7: 646 | C7: 915 | D7: AHMAD JUNAEDI | E7: JL PEMBANGUNAN | F7: 1 pasal : Pasal 291 ayat (2) Jo Pasal 106 ayat (8) | G7: DD2947WP | H7: 20|STNK | I7: F7761650 | J7: 99000 | K7: 1000
A8: 4 | B8: 647 | C8: 916 | D8: YADI | E8: GOWA | F8: 1 pasal : Pasal 281 jo Pasal 77 ayat (1) | G8: DD5484QH | H8: 20|STNK | I8: F7761773 | J8: 149000 | K8: 1000
A9: 5 | B9: 648 | C9: 917 | D9: SAKINA | E9: JL.TIDUNG | F9: 1 pasal : Pasal 287 ayat (1) jo Pasal 106 ayat (4) huruf a | G9: DD4858YG | H9: 20|STNK | I9: F7761677 | J9: 99000 | K9: 1000
A10: 6 | B10: 649 | C10: 918 | D10: SULTAN | E10: POLEWALI MANDAR | F10: 1 pasal : Pasal 287 ayat (1) jo Pasal 106 ayat (4) huruf a | G10: DP6094CH | H10: 10|SIM C | I10: F7761725 | J10: 99000 | K10: 1000
A11: 7 | B11: 650 | C11: 919 | D11: SUTRA DEWI | E11: BUNGORO | F11: 1 pasal : Pasal 288 ayat (1) jo Pasal 106 ayat (5) huruf a | G11: DD5002MT | H11: 10|SIM C | I11: F7761724 | J11: 99000 | K11: 1000
A12: 8 | B12: 651 | C12: 920 | D12: ANDRIANTO | E12: LUWU UTARA | F12: 1 pasal : Pasal 288 ayat (1) jo Pasal 106 ayat (5) huruf a | G12: DD5409 | H12: 10|SIM C | I12: F7761648 | J12: 149000 | K12: 1000
A13: 9 | B13: 652 | C13: 921 | D13: HUSNUL | E13: JL ST ALAUDDIN | F13: 1 pasal : Pasal 291 ayat (2) Jo Pasal 106 ayat (8) | G13: DP3453VM | H13: 20|STNK | I13: F7760999 | J13: 49000 | K13: 1000
A14: 10 | B14: 653 | C14: 922 | D14: TAUFIQ | E14: MAKASSAR | F14: 1 pasal : Pasal 287 ayat (1) jo Pasal 106 ayat (4) huruf a | G14: DD3BY | H14: 20|STNK | I14: F7761534 | J14: 149000 | K14: 1000
A15: 11 | B15: 654 | C15: 923 | D15: ADY | E15: MAKASSAR | F15: 1 pasal : Pasal 287 ayat (1) jo Pasal 106 ayat (4) huruf a | G15: DD6863VL | H15: 20|STNK | I15: F7761533 | J15: 99000 | K15: 1000
A16: 12 | B16: 655 | C16: 924 | D16: SYAMSUDDIN | E16: MAROS | F16: 2 pasal : Pasal 280 jo Pasal 68 ayat (1),Pasal 288 ayat (1) Jo Pasal 70 ayat (2) | G16: DD3260DN | H16: 10|SIM C | I16: F7761702 | J16: 149000 | K16: 1000
... A60: 56 | B60: 699 | C60: 968 | D60: DOMINIQUS | E60: JL MALENGKERI | F60: 1 pasal : Pasal 291 ayat (2) Jo Pasal 106 ayat (8) | G60: DD6423SB | H60: 40|KENDARAAN | I60: F7761771 | J60: 249000 | K60: 1000
A61: 57 | B61: 700 | C61: 969 | D61: SIRAJUDDIN | E61: JATIA DESA MANJANGLOE KAB JENEPONTO | F61: 1 pasal : Pasal 287 ayat (1) jo Pasal 106 ayat (4) huruf a dan Pasal 106 ayat (4) huruf b | G61: DD2641KI | H61: 20|STNK | I61: E7888231 | J61: 149000 | K61: 1000 | L61: E-TLE
A62: 58 | B62: 701 | C62: 970 | D62: HJ NURAENI DG KANANG | E62: MASALE KAB MAROS | F62: 1 pasal : Pasal 287 ayat (1) jo Pasal 106 ayat (4) huruf a dan Pasal 106 ayat (4) huruf b | G62: DD1745SC | H62: 20|STNK | I62: E7888232 | J62: 249000 | K62: 1000 | L62: E-TLE
A63: 59 | B63: 702 | C63: 971 | D63: SYAHRUL | E63: TUNAS JAYA NO 45 | F63: 1 pasal : Pasal 287 ayat (1) jo Pasal 106 ayat (4) huruf a dan Pasal 106 ayat (4) huruf b | G63: DD4708IE | H63: 20|STNK | I63: E7888233 | J63: 149000 | K63: 1000 | L63: E-TLE
A64: 60 | B64: 703 | C64: 972 | D64: KRISTINA RANDE | E64: JL G SALAHUTU 2 NO 48 | F64: 1 pasal : Pasal 287 ayat (1) jo Pasal 106 ayat (4) huruf a dan Pasal 106 ayat (4) huruf b | G64: DD5090SN | H64: 20|STNK | I64: E7888234 | J64: 149000 | K64: 1000 | L64: E-TLE
A65: 61 | B65: 704 | C65: 973 | D65: EKA SUKMA FENI | E65: JL GOA RIA NO 51 | F65: 1 pasal : Pasal 287 ayat (1) jo Pasal 106 ayat (4) huruf a dan Pasal 106 ayat (4) huruf b | G65: DD5288RO | H65: 20|STNK | I65: E7888235 | J65: 149000 | K65: 1000 | L65: E-TLE
A66: 62 | B66: 705 | C66: 974 | D66: RASUL | E66: JL ST ALAUDDIN 2 NO 124 | F66: 1 pasal : Pasal 287 ayat (1) jo Pasal 106 ayat (4) huruf a dan Pasal 106 ayat (4) huruf b | G66: DD5897MY | H66: 20|STNK | I66: E7888236 | J66: 149000 | K66: 1000 | L66: E-TLE
A67: 63 | B67: 706 | C67: 975 | D67: JANNA TUL MAKWA | E67: JL KEMAUAN 3 NO 21 | F67: 1 pasal : Pasal 287 ayat (1) jo Pasal 106 ayat (4) huruf a dan Pasal 106 ayat (4) huruf b | G67: DD5959EN | H67: 20|STNK | I67: E7888237 | J67: 149000 | K67: 1000 | L67: E-TLE
A68: 64 | B68: 707 | C68: 976 | D68: ANTO SUBAGIYO | E68: JL KOMP BUMI PERMATA SUDIANG BLOK G NO | F68: 1 pasal : Pasal 287 ayat (1) jo Pasal 106 ayat (4) huruf a dan Pasal 106 ayat (4) huruf b | G68: DD6549NU | H68: 20|STNK | I68: E7888238 | J68: 149000 | K68: 1000 | L68: E-TLE
A69: 65 | B69: 708 | C69: 977 | D69: PT DIPO STAR FINANCE | E69: JL PENGAYOMAN RUKO JASPER 3 NO 15 | F69: 1 pasal : Pasal 287 ayat (1) jo Pasal 106 ayat (4) huruf a dan Pasal 106 ayat (4) huruf b | G69: DD1260K | H69: 20|STNK | I69: E7888239 | J69: 249000 | K69: 1000 | L69: E-TLE
A70: 66 | B70: 709 | C70: 978 | D70: SUDIRMAN B | E70: JL VETRAN SELATAN LR 3 STP 2 | F70: 1 pasal : Pasal 287 ayat (1) jo Pasal 106 ayat (4) huruf a dan Pasal 106 ayat (4) huruf b | G70: DD1509KC | H70: 20|STNK | I70: E7888240 | J70: 249000 | K70: 1000 | L70: E-TLE
A71: 67 | B71: 710 | C71: 979 | D71: BAHAR DG LAJA | E71: BONTOCARADDE KAB GOWA | F71: 1 pasal : Pasal 287 ayat (1) jo Pasal 106 ayat (4) huruf a dan Pasal 106 ayat (4) huruf b | G71: DD1558MP | H71: 20|STNK | I71: E7888241 | J71: 249000 | K71: 1000 | L71: E-TLE
A72: 68 | B72: 711 | C72: 980 | D72: MEILAND CHANDRA | E72: JL TOPAZ 1 GA 11 NO 23 | F72: 1 pasal : Pasal 287 ayat (1) jo Pasal 106 ayat (4) huruf a dan Pasal 106 ayat (4) huruf b | G72: DD1995MM | H72: 20|STNK | I72: E7888242 | J72: 249000 | K72: 1000 | L72: E-TLE
... A160: 156 | B160: 799 | C160: 1068 | D160: ATIKA.S | E160: WIRAKARYA KAB PANGKEP | F160: 1 pasal : Pasal 287 ayat (1) jo Pasal 106 ayat (4) huruf a dan Pasal 106 ayat (4) huruf b | G160: DD6409EL | H160: 20|STNK | I160: E7888330 | J160: 149000 | K160: 1000 | L160: E-TLE
M161: =SUM(J5:J160) -> 23894000 | N161: =SUM(K5:K160) -> 156000
A164: PENGADILAN NEGERI MAKASSAR
A165: TANGGAL 16.04.2021
D166: P O L R E S T A B E S
A167: NO. | B167: NO. BULAN | C167: NO. REG | D167: NAMA TERDAKWA/ TERPIDANA | E167: ALAMAT TERDAKWA/ TERPIDANA | F167: PASAL YANG DILANGGAR | G167: NO. POLISI | H167: BARANG BUKTI | I167: NO. TILANG | J167: DENDA | K167: ONGKOS PERKARA
A168: 1 | B168: 800 | C168: 1069 | D168: KERISTIAN TULAK ALLO | E168: JL. P. KEMERDEKAAN | F168: 1 pasal : Pasal 287 ayat (1) jo Pasal 106 ayat (4) huruf a | G168: DD5159QD | H168: 20|STNK | I168: F7778296 | J168: 49000 | K168: 1000
A169: 2 | B169: 801 | C169: 1070 | D169: M. RYAN SYAHREZA EFENDI | E169: PERMATA JINGGA | F169: 1 pasal : Pasal 287 ayat (1) jo Pasal 106 ayat (4) huruf a | G169: DD1127 | H169: 11|SIM A | I169: F7778695 | J169: 149000 | K169: 1000
M170: =SUM(J168:J169) -> 198000 | N170: =SUM(K168:K169) -> 2000
K171: T O T A L | M171: =SUM(M161:M170) -> 24092000 | N171: =SUM(N161:N170) -> 158000

Sheet Tgl. 23.04.2021
A1: PENGADILAN NEGERI MAKASSAR
A2: TANGGAL 23.04.2021
D3: P O L R E S T A B E S
A4: NO. | B4: NO. BULAN | C4: NO. REG | D4: NAMA TERDAKWA/ TERPIDANA | E4: ALAMAT TERDAKWA/ TERPIDANA | F4: PASAL YANG DILANGGAR | G4: NO. POLISI | H4: BARANG BUKTI | I4: NO. TILANG | J4: DENDA | K4: ONGKOS PERKARA
A5: 1 | B5: 802 | C5: 1071 | D5: ALMATRI | E5: BTP | F5: 2 pasal : Pasal 281 jo Pasal 77 ayat (1),Pasal 287 ayat (1) jo Pasal 106 ayat (4) huruf a | G5: DP2174SN | H5: 20|STNK | I5: F7761689 | J5: 99000 | K5: 1000
A6: 2 | B6: 803 | C6: 1072 | D6: EKO | E6: BT LANRA | F6: 1 pasal : Pasal 291 ayat (2) Jo Pasal 106 ayat (8) | G6: DD4290QH | H6: 20|STNK | I6: F7761728 | J6: 149000 | K6: 1000
A7: 3 | B7: 804 | C7: 1073 | D7: NURAIKA | E7: TOMPOBULU MAROS | F7: 1 pasal : Pasal 291 ayat (2) Jo Pasal 106 ayat (8) | G7: DD6469YE | H7: 10|SIM C | I7: F7761729 | J7: 149000 | K7: 1000
A8: 4 | B8: 805 | C8: 1074 | D8: FAHRESA ADITYA PRATAMA | E8: JL HATI RIANG | F8: 1 pasal : Pasal 287 ayat (1) jo Pasal 106 ayat (4) huruf a | G8: DD2425QL | H8: 10|SIM C | I8: F7761690 | J8: 99000 | K8: 1000
A9: 5 | B9: 806 | C9: 1075 | D9: MUHISATUL YASYIDAH | E9: TASSILU KAB SINJAI BARAT | F9: 2 pasal : Pasal 287 ayat (1) jo Pasal 106 ayat (4) huruf a,Pasal 288 ayat (1) jo Pasal 106 ayat (5) huruf a | G9: DD3163VG | H9: 10|SIM C | I9: F7761627 | J9: 149000 | K9: 1000
A10: 6 | B10: 807 | C10: 1076 | D10: DINI | E10: JL MANGGARUPI | F10: 2 pasal : Pasal 281 jo Pasal 77 ayat (1),Pasal 285 ayat (1) Jo Pasal 106 ayat (3) | G10: DD4402PY | H10: 60|SIM INTERNASIONAL | I10: F7757435 | J10: 149000 | K10: 1000
A11: 7 | B11: 808 | C11: 1077 | D11: SALMIYATI | E11: JL. TINUMBU DLM LR 2/16 | F11: 1 pasal : Pasal 287 ayat (1) jo Pasal 106 ayat (4) huruf a | G11: DD6102QS | H11: 20|STNK | I11: F7757434 | J11: 49000 | K11: 1000
A12: 8 | B12: 809 | C12: 1078 | D12: NURUL | E12: MAKASSAR | F12: 1 pasal : Pasal 287 ayat (1) jo Pasal 106 ayat (4) huruf a | G12: DD5505KG | H12: 20|STNK | I12: F7761654 | J12: 99000 | K12: 1000
A13: 9 | B13: 810 | C13: 1079 | D13: RIKO ROHMAT | E13: JENEPONTO | F13: 1 pasal : Pasal 287 ayat (1) jo Pasal 106 ayat (4) huruf a | G13: DD------------ | H13: 10|SIM C | I13: F7761713 | J13: 99000 | K13: 1000
A14: 10 | B14: 811 | C14: 1080 | D14: LUQMAN | E14: MAKASSAR | F14: 1 pasal : Pasal 280 jo Pasal 68 ayat (1) | G14: DD6005TH | H14: 20|STNK | I14: F7761705 | J14: 49000 | K14: 1000
A15: 11 | B15: 812 | C15: 1081 | D15: HABIBI | E15: JL SUKARIA | F15: 1 pasal : Pasal 280 jo Pasal 68 ayat (1) | G15: DD3612LE | H15: 10|SIM C | I15: F7761757 | J15: 99000 | K15: 1000
A16: 12 | B16: 813 | C16: 1082 | D16: ANDI NURHIJRIANTI | E16: JL EMY SAELAN | F16: 1 pasal : Pasal 287 ayat (1) jo Pasal 106 ayat (4) huruf a | G16: DD1446XU | H16: 20|STNK | I16: F7761653 | J16: 49000 | K16: 1000
... A61: 57 | B61: 858 | C61: 1127 | D61: WAHIDIN MS | E61: JL NURI | F61: 1 pasal : Pasal 287 ayat (1) jo Pasal 106 ayat (4) huruf a | G61: DD4985XX | H61: 10|SIM C | I61: F7761358 | J61: 99000 | K61: 1000
A62: 58 | B62: 859 | C62: 1128 | D62: AGUS SETYANTO | F62: 1 pasal : Pasal 287 ayat (1) jo Pasal 106 ayat (4) huruf a | G62: B2218BKY | H62: 11|SIM A | I62: F7761679 | J62: 299000 | K62: 1000
A63: 59 | B63: 860 | C63: 1129 | D63: XANON STEVEN | F63: 1 pasal : Pasal 287 ayat (1) jo Pasal 106 ayat (4) huruf a | G63: DP2177GO | H63: 50|BUKU KIR | I63: F7761716 | J63: 249000 | K63: 1000
A64: 60 | B64: 861 | C64: 1130 | D64: LILI SETIAWATY | E64: BTN PANAKUKANG INDAH 1 B3/12 | F64: 1 pasal : Pasal 287 ayat (1) jo Pasal 106 ayat (4) huruf a | G64: DD3136MO | H64: 20|STNK | I64: F7761628 | J64: 49000 | K64: 1000
A65: 61 | B65: 862 | C65: 1131 | D65: AIDIL | E65: JL SUKARIA | F65: 2 pasal : Pasal 291 ayat (2) Jo Pasal 106 ayat (8), 1 pasal : Pasal 281 jo Pasal 77 ayat (1) | G65: DD4877SF | H65: 40|KENDARAAN | I65: F7761928 | J65: 149000 | K65: 1000
A66: 62 | B66: 863 | C66: 1132 | D66: FAIS | E66: MAKASSAR | F66: 2 pasal : Pasal 291 ayat (2) Jo Pasal 106 ayat (8), 1 pasal : Pasal 281 jo Pasal 77 ayat (1) | G66: DD6592KN | H66: 40|KENDARAAN | I66: F7760343 | J66: 149000 | K66: 1000
A67: 63 | B67: 864 | C67: 1133 | D67: MUH RIFQI | E67: JL SUNU 3 | F67: 2 pasal : Pasal 281 jo Pasal 77 ayat (1), Pasal 285 ayat (1) Jo Pasal 106 ayat (3) | G67: DD6155FR | H67: 40|KENDARAAN | I67: F7761879 | J67: 149000 | K67: 1000
A68: 64 | B68: 865 | C68: 1134 | D68: HARDIANSYAH | E68: JL PONDOK KASIBU 1 | F68: 2 pasal : Pasal 281 jo Pasal 77 ayat (1), Pasal 285 ayat (1) Jo Pasal 106 ayat (3) | G68: DD4973KG | H68: 40|KENDARAAN | I68: F7761926 | J68: 249000 | K68: 1000
A69: 65 | B69: 866 | C69: 1135 | D69: ANANDA | E69: JL TINUMBU | F69: 2 pasal : Pasal 281 jo Pasal 77 ayat (1), Pasal 285 ayat (1) Jo Pasal 106 ayat (3) | G69: DD4747XP | H69: 40|KENDARAAN | I69: F7761884 | J69: 249000 | K69: 1000
A70: 66 | B70: 867 | C70: 1136 | D70: RONI AGUS | E70: KOMP DELTAMAS 2 BLOK C2 | F70: 1 pasal : Pasal 287 ayat (1) jo Pasal 106 ayat (4) huruf a dan Pasal 106 ayat (4) huruf b | G70: DD5519SU | H70: 20|STNK | I70: E7888331 | J70: 149000 | K70: 1000 | L70: E-TLE
A71: 67 | B71: 868 | C71: 1137 | D71: VIRA ST | F71: 1 pasal : Pasal 287 ayat (1) jo Pasal 106 ayat (4) huruf a dan Pasal 106 ayat (4) huruf b | G71: DD3729PA | H71: 20|STNK | I71: E7888332 | J71: 149000 | K71: 1000 | L71: E-TLE
A72: 68 | B72: 869 | C72: 1138 | D72: RAMLI HAJAR | E72: JL ONTA LAMA NO 71 | F72: 1 pasal : Pasal 287 ayat (1) jo Pasal 106 ayat (4) huruf a dan Pasal 106 ayat (4) huruf b | G72: DD4636KW | H72: 20|STNK | I72: E7888333 | J72: 149000 | K72: 1000 | L72: E-TLE
A73: 69 | B73: 870 | C73: 1139 | D73: SYAMSUL | F73: 1 pasal : Pasal 287 ayat (1) jo Pasal 106 ayat (4) huruf a dan Pasal 106 ayat (4) huruf b | G73: DD2993KZ | H73: 20|STNK | I73: E7888334 | J73: 149000 | K73: 1000 | L73: E-TLE
A74: 70 | B74: 871 | C74: 1140 | D74: MOHAMMAD FIRMAN | F74: 1 pasal : Pasal 287 ayat (1) jo Pasal 106 ayat (4) huruf a dan Pasal 106 ayat (4) huruf b | G74: DD3571XK | H74: 20|STNK | I74: E7888335 | J74: 149000 | K74: 1000 | L74: E-TLE
A75: 71 | B75: 872 | C75: 1141 | D75: MUHAMMAD IQBAL TATTA | E75: PERMATA HIJAU PERMAI BLK G NO | F75: 1 pasal : Pasal 287 ayat (1) jo Pasal 106 ayat (4) huruf a dan Pasal 106 ayat (4) huruf b | G75: DD6870UH | H75: 20|STNK | I75: E7888336 | J75: 149000 | K75: 1000 | L75: E-TLE
A76: 72 | B76: 873 | C76: 1142 | D76: AHMAD FAJAR | E76: JL DG TANTU | F76: 1 pasal : Pasal 287 ayat (1) jo Pasal 106 ayat (4) huruf a dan Pasal 106 ayat (4) huruf b | G76: DD5824KL | H76: 20|STNK | I76: E7888337 | J76: 149000 | K76: 1000 | L76: E-TLE
A77: 73 | B77: 874 | C77: 1143 | D77: SHASA WIDYA | F77: 1 pasal : Pasal 287 ayat (1) jo Pasal 106 ayat (4) huruf a dan Pasal 106 ayat (4) huruf b | G77: DD2258IM | H77: 20|STNK | I77: E7888338 | J77: 149000 | K77: 1000 | L77: E-TLE
A78: 74 | B78: 875 | C78: 1144 | D78: PRATIWI S | F78: 1 pasal : Pasal 287 ayat (1) jo Pasal 106 ayat (4) huruf a dan Pasal 106 ayat (4) huruf b | G78: DD2641KV | H78: 20|STNK | I78: E7888339 | J78: 149000 | K78: 1000 | L78: E-TLE
A79: 75 | B79: 876 | C79: 1145 | D79: WAHYUNI ANANDA MANGATTA | E79: JL HERTASNING BARAT 2 | F79: 1 pasal : Pasal 287 ayat (1) jo Pasal 106 ayat (4) huruf a dan Pasal 106 ayat (4) huruf b | G79: DD5790SG | H79: 20|STNK | I79: E7888340 | J79: 149000 | K79: 1000 | L79: E-TLE
A80: 76 | B80: 877 | C80: 1146 | D80: EDY KONGSIWI | E80: JL ABDULLAH DG SIRUA 125 | F80: 1 pasal : Pasal 287 ayat (1) jo Pasal 106 ayat (4) huruf a dan Pasal 106 ayat (4) huruf b | G80: DD3264KM | H80: 20|STNK | I80: E7888341 | J80: 149000 | K80: 1000 | L80: E-TLE
A81: 77 | B81: 878 | C81: 1147 | D81: TANZIL | E81: JL DA'WAH | F81: 1 pasal : Pasal 287 ayat (1) jo Pasal 106 ayat (4) huruf a dan Pasal 106 ayat (4) huruf b | G81: DD2353UR | H81: 20|STNK | I81: E7888342 | J81: 149000 | K81: 1000 | L81: E-TLE
A82: 78 | B82: 879 | C82: 1148 | D82: MUSTARI DG TALLI | E82: JL G LATIMOJONG 3 | F82: 1 pasal : Pasal 287 ayat (1) jo Pasal 106 ayat (4) huruf a dan Pasal 106 ayat (4) huruf b | G82: DD4720XT | H82: 20|STNK | I82: E7888343 | J82: 149000 | K82: 1000 | L82: E-TLE
A83: 79 | B83: 880 | C83: 1149 | D83: ATIRA L | E83: PERMATA SUDIANG RAYA | F83: 1 pasal : Pasal 287 ayat (1) jo Pasal 106 ayat (4) huruf a dan Pasal 106 ayat (4) huruf b | G83: DD4207SO | H83: 20|STNK | I83: E7888344 | J83: 149000 | K83: 1000 | L83: E-TLE
A84: 80 | B84: 881 | C84: 1150 | D84: KUSMAWATI | E84: MAKASSAR | F84: 1 pasal : Pasal 287 ayat (1) jo Pasal 106 ayat (4) huruf a dan Pasal 106 ayat (4) huruf b | G84: DD2827FD | H84: 20|STNK | I84: E7888345 | J84: 149000 | K84: 1000 | L84: E-TLE
A85: 81 | B85: 882 | C85: 1151 | D85: PEMERINTAH PROV SULSEL | E85: JL JEND URIP SUMAHARJO | F85: 1 pasal : Pasal 287 ayat (1) jo Pasal 106 ayat (4) huruf a dan Pasal 106 ayat (4) huruf b | G85: DD6807IQ | H85: 20|STNK | I85: E7888346 | J85: 149000 | K85: 1000 | L85: E-TLE
A86: 82 | B86: 883 | C86: 1152 | D86: SUPIANTI | E86: BATUDOANG MAKASSAR | F86: 1 pasal : Pasal 287 ayat (1) jo Pasal 106 ayat (4) huruf a dan Pasal 106 ayat (4) huruf b | G86: DD2371XT | H86: 20|STNK | I86: E7888347 | J86: 149000 | K86: 1000 | L86: E-TLE
A87: 83 | B87: 884 | C87: 1153 | D87: HJ HERLINA | E87: KAB WAJO | F87: 1 pasal : Pasal 287 ayat (1) jo Pasal 106 ayat (4) huruf a dan Pasal 106 ayat (4) huruf b | G87: DW5100BY | H87: 20|STNK | I87: E7888348 | J87: 149000 | K87: 1000 | L87: E-TLE
A88: 84 | B88: 885 | C88: 1154 | D88: M SUPRIYATNO | E88: JL MANUNGGAL 31 | F88: 1 pasal : Pasal 287 ayat (1) jo Pasal 106 ayat (4) huruf a dan Pasal 106 ayat (4) huruf b | G88: DD4177KO | H88: 20|STNK | I88: E7888349 | J88: 149000 | K88: 1000 | L88: E-TLE
A89: 85 | B89: 886 | C89: 1155 | D89: H SAKKA AT | E89: JL BARUKANG NO 29 | F89: 1 pasal : Pasal 287 ayat (1) jo Pasal 106 ayat (4) huruf a dan Pasal 106 ayat (4) huruf b | G89: DD5655QE | H89: 20|STNK | I89: E7888350 | J89: 149000 | K89: 1000 | L89: E-TLE
A90: 86 | B90: 887 | C90: 1156 | D90: NASIR | E90: JL BARUKANG UTARA MKS | F90: 1 pasal : Pasal 287 ayat (1) jo Pasal 106 ayat (4) huruf a dan Pasal 106 ayat (4) huruf b | G90: DD5776K | H90: 20|STNK | I90: E7888351 | J90: 149000 | K90: 1000 | L90: E-TLE
A91: 87 | B91: 888 | C91: 1157 | D91: FREDY SAMUEL | E91: JL S CENRANA | F91: 1 pasal : Pasal 287 ayat (1) jo Pasal 106 ayat (4) huruf a dan Pasal 106 ayat (4) huruf b | G91: DD2679QP | H91: 20|STNK | I91: E7888352 | J91: 149000 | K91: 1000 | L91: E-TLE
A92: 88 | B92: 889 | C92: 1158 | D92: WIDYA HASBILLAH | F92: 1 pasal : Pasal 287 ayat (1) jo Pasal 106 ayat (4) huruf a dan Pasal 106 ayat (4) huruf b | G92: DD3291XF | H92: 20|STNK | I92: E7888353 | J92: 149000 | K92: 1000 | L92: E-TLE
A93: 89 | B93: 890 | C93: 1159 | D93: M RIZAL | F93: 1 pasal : Pasal 287 ayat (1) jo Pasal 106 ayat (4) huruf a dan Pasal 106 ayat (4) huruf b | G93: DD5008LN | H93: 20|STNK | I93: E7888354 | J93: 149000 | K93: 1000 | L93: E-TLE
A94: 90 | B94: 891 | C94: 1160 | D94: SAHABUDDIN | F94: 1 pasal : Pasal 287 ayat (1) jo Pasal 106 ayat (4) huruf a dan Pasal 106 ayat (4) huruf b | G94: DD6088VI | H94: 20|STNK | I94: E7888355 | J94: 149000 | K94: 1000 | L94: E-TLE
A95: 91 | B95: 892 | C95: 1161 | D95: GATOT SOEWARGO | E95: JL BAJI PANGASENG NO 17 | F95: 1 pasal : Pasal 287 ayat (1) jo Pasal 106 ayat (4) huruf a dan Pasal 106 ayat (4) huruf b | G95: DD4574RV | H95: 20|STNK | I95: E7888356 | J95: 149000 | K95: 1000 | L95: E-TLE
A96: 92 | B96: 893 | C96: 1162 | D96: IRFAN DG TIRO | E96: JL PELITA IV MKS | F96: 1 pasal : Pasal 287 ayat (1) jo Pasal 106 ayat (4) huruf a dan Pasal 106 ayat (4) huruf b | G96: DD4544RS | H96: 20|STNK | I96: E7888357 | J96: 149000 | K96: 1000 | L96: E-TLE
A97: 93 | B97: 894 | C97: 1163 | D97: MIRANTI K | F97: 1 pasal : Pasal 287 ayat (1) jo Pasal 106 ayat (4) huruf a dan Pasal 106 ayat (4) huruf b | G97: DD6628JM | H97: 20|STNK | I97: E7888358 | J97: 149000 | K97: 1000 | L97: E-TLE
A98: 94 | B98: 895 | C98: 1164 | D98: SUPRIADI | E98: JL TAMANGAPA RAYA NO 192 A | F98: 1 pasal : Pasal 287 ayat (1) jo Pasal 106 ayat (4) huruf a dan Pasal 106 ayat (4) huruf b | G98: DD3602XW | H98: 20|STNK | I98: E7888359 | J98: 149000 | K98: 1000 | L98: E-TLE
A99: 95 | B99: 896 | C99: 1165 | D99: ASRUL | E99: JL MAPPAODDANG NO 34 | F99: 1 pasal : Pasal 287 ayat (1) jo Pasal 106 ayat (4) huruf a dan Pasal 106 ayat (4) huruf b | G99: DD2369XD | H99: 20|STNK | I99: E7888360 | J99: 149000 | K99: 1000 | L99: E-TLE
A100: 96 | B100: 897 | C100: 1166 | D100: RIZAL | E100: JL SINASSARA NO 38 | F100: 1 pasal : Pasal 287 ayat (1) jo Pasal 106 ayat (4) huruf a dan Pasal 106 ayat (4) huruf b | G100: DD3247RM | H100: 20|STNK | I100: E7888361 | J100: 149000 | K100: 1000 | L100: E-TLE
A101: 97 | B101: 898 | C101: 1167 | D101: MUTMAINNAH | E101: MAKASSAR | F101: 1 pasal : Pasal 287 ayat (1) jo Pasal 106 ayat (4) huruf a dan Pasal 106 ayat (4) huruf b | G101: DD4462QM | H101: 20|STNK | I101: E7888362 | J101: 149000 | K101: 1000 | L101: E-TLE
A102: 98 | B102: 899 | C102: 1168 | D102: YULI | E102: JL SAROPPO NO 195 | F102: 1 pasal : Pasal 287 ayat (1) jo Pasal 106 ayat (4) huruf a dan Pasal 106 ayat (4) huruf b | G102: DD3873RQ | H102: 20|STNK | I102: E7888363 | J102: 149000 | K102: 1000 | L102: E-TLE
A103: 99 | B103: 900 | C103: 1169 | D103: RATIH | F103: 1 pasal : Pasal 287 ayat (1) jo Pasal 106 ayat (4) huruf a dan Pasal 106 ayat (4) huruf b | G103: DD6709QZ | H103: 20|STNK | I103: E7888364 | J103: 149000 | K103: 1000 | L103: E-TLE
A104: 100 | B104: 901 | C104: 1170 | D104: DRS BURHANUDDIN | E104: JL DG NGADDE MKS | F104: 1 pasal : Pasal 287 ayat (1) jo Pasal 106 ayat (4) huruf a dan Pasal 106 ayat (4) huruf b | G104: DD3593AN | H104: 20|STNK | I104: E7888365 | J104: 149000 | K104: 1000 | L104: E-TLE
A105: 101 | B105: 902 | C105: 1171 | D105: RAHMAWATI | E105: JL LANDAK BARU KANAL SEL | F105: 1 pasal : Pasal 287 ayat (1) jo Pasal 106 ayat (4) huruf a dan Pasal 106 ayat (4) huruf b | G105: DD3356XT | H105: 20|STNK | I105: E7888366 | J105: 149000 | K105: 1000 | L105: E-TLE
A106: 102 | B106: 903 | C106: 1172 | D106: PUSPITASARI | F106: 1 pasal : Pasal 287 ayat (1) jo Pasal 106 ayat (4) huruf a dan Pasal 106 ayat (4) huruf b | G106: DD5461KM | H106: 20|STNK | I106: E7888367 | J106: 149000 | K106: 1000 | L106: E-TLE
A107: 103 | B107: 904 | C107: 1173 | D107: SAHRI MULYA BASRI | E107: TACCIRI KAB GOWA | F107: 1 pasal : Pasal 287 ayat (1) jo Pasal 106 ayat (4) huruf a dan Pasal 106 ayat (4) huruf b | G107: DD6580YI | H107: 20|STNK | I107: E7888368 | J107: 149000 | K107: 1000 | L107: E-TLE
A108: 104 | B108: 905 | C108: 1174 | D108: ARIFIN SAMAD | E108: JL DG NGEPPE KOMP PETERNAKAN MKS | F108: 1 pasal : Pasal 287 ayat (1) jo Pasal 106 ayat (4) huruf a dan Pasal 106 ayat (4) huruf b | G108: DD2504M | H108: 20|STNK | I108: E7888369 | J108: 149000 | K108: 1000 | L108: E-TLE
A109: 105 | B109: 906 | C109: 1175 | D109: JANO HITLER MANGINDAAN | E109: BTN TRITURA 6 MKS | F109: 1 pasal : Pasal 287 ayat (1) jo Pasal 106 ayat (4) huruf a dan Pasal 106 ayat (4) huruf b | G109: DD3310AS | H109: 20|STNK | I109: E7888370 | J109: 149000 | K109: 1000 | L109: E-TLE
A110: 106 | B110: 907 | C110: 1176 | D110: SYAFRI RUDDIN | E110: JL G BAMBAPUANG STP 1 3 | F110: 1 pasal : Pasal 287 ayat (1) jo Pasal 106 ayat (4) huruf a dan Pasal 106 ayat (4) huruf b | G110: DD3419RQ | H110: 20|STNK | I110: E7888371 | J110: 149000 | K110: 1000 | L110: E-TLE
A111: 107 | B111: 908 | C111: 1177 | D111: ELLYSA YUAN | E111: JL SULTAN ABDULLAH PERHUBLA MKS | F111: 1 pasal : Pasal 287 ayat (1) jo Pasal 106 ayat (4) huruf a dan Pasal 106 ayat (4) huruf b | G111: DD5063KP | H111: 20|STNK | I111: E7888372 | J111: 149000 | K111: 1000 | L111: E-TLE
A112: 108 | B112: 909 | C112: 1178 | D112: ARY ARFIAN | E112: JL BTP BLOK AE 415 | F112: 1 pasal : Pasal 287 ayat (1) jo Pasal 106 ayat (4) huruf a dan Pasal 106 ayat (4) huruf b | G112: DD2323ST | H112: 20|STNK | I112: E7888373 | J112: 149000 | K112: 1000 | L112: E-TLE
A113: 109 | B113: 910 | C113: 1179 | D113: USMAN | E113: JL H KALLA | F113: 1 pasal : Pasal 287 ayat (1) jo Pasal 106 ayat (4) huruf a dan Pasal 106 ayat (4) huruf b | G113: DD6347VP | H113: 20|STNK | I113: E7888374 | J113: 149000 | K113: 1000 | L113: E-TLE
A114: 110 | B114: 911 | C114: 1180 | D114: FIRMAN H | F114: 1 pasal : Pasal 287 ayat (1) jo Pasal 106 ayat (4) huruf a dan Pasal 106 ayat (4) huruf b | G114: DD3106RW | H114: 20|STNK | I114: E7888375 | J114: 149000 | K114: 1000 | L114: E-TLE
A115: 111 | B115: 912 | C115: 1181 | D115: KAMALUDDIN T | E115: JL KANDEA LR 118 NO 31 | F115: 1 pasal : Pasal 287 ayat (1) jo Pasal 106 ayat (4) huruf a dan Pasal 106 ayat (4) huruf b | G115: DD4149QW | H115: 20|STNK | I115: E7888376 | J115: 149000 | K115: 1000 | L115: E-TLE
A116: 112 | B116: 913 | C116: 1182 | D116: MAYA ASTUTI | E116: JL KIJANG MKS | F116: 1 pasal : Pasal 287 ayat (1) jo Pasal 106 ayat (4) huruf a dan Pasal 106 ayat (4) huruf b | G116: DD4950KP | H116: 20|STNK | I116: E7888377 | J116: 149000 | K116: 1000 | L116: E-TLE
A117: 113 | B117: 914 | C117: 1183 | D117: MUH FADLY | E117: JL RAPPOCINI RAYA NO 12 A | F117: 1 pasal : Pasal 287 ayat (1) jo Pasal 106 ayat (4) huruf a dan Pasal 106 ayat (4) huruf b | G117: DD2264XF | H117: 20|STNK | I117: E7888378 | J117: 149000 | K117: 1000 | L117: E-TLE
A118: 114 | B118: 915 | C118: 1184 | D118: PT ASURANSI BINA DANA | E118: JL S SADDANG KOMP LATANETE | F118: 1 pasal : Pasal 287 ayat (1) jo Pasal 106 ayat (4) huruf a dan Pasal 106 ayat (4) huruf b | G118: DD5014QL | H118: 20|STNK | I118: E7888379 | J118: 149000 | K118: 1000 | L118: E-TLE
A119: 115 | B119: 916 | C119: 1185 | D119: KASMAWATI | E119: JL LANDAK BARU MKS | F119: 1 pasal : Pasal 287 ayat (1) jo Pasal 106 ayat (4) huruf a dan Pasal 106 ayat (4) huruf b | G119: DD3227QM | H119: 20|STNK | I119: E7888380 | J119: 149000 | K119: 1000 | L119: E-TLE
A120: 116 | B120: 917 | C120: 1186 | D120: MUHAMMAD SALEH | E120: JL ADE IRMA NASUTION | F120: 1 pasal : Pasal 287 ayat (1) jo Pasal 106 ayat (4) huruf a dan Pasal 106 ayat (4) huruf b | G120: DD3262KK | H120: 20|STNK | I120: E7888381 | J120: 149000 | K120: 1000 | L120: E-TLE
A121: 117 | B121: 918 | C121: 1187 | D121: M AFDAL | F121: 1 pasal : Pasal 287 ayat (1) jo Pasal 106 ayat (4) huruf a dan Pasal 106 ayat (4) huruf b | G121: DD3836FQ | H121: 20|STNK | I121: E7888382 | J121: 149000 | K121: 1000 | L121: E-TLE
A122: 118 | B122: 919 | C122: 1188 | D122: SUSIANTI | E122: MAKASSAR | F122: 1 pasal : Pasal 287 ayat (1) jo Pasal 106 ayat (4) huruf a dan Pasal 106 ayat (4) huruf b | G122: DD4809XL | H122: 20|STNK | I122: E7888383 | J122: 149000 | K122: 1000 | L122: E-TLE
A123: 119 | B123: 920 | C123: 1189 | D123: GASOLI RAHMAT | E123: MAKASSAR | F123: 1 pasal : Pasal 287 ayat (1) jo Pasal 106 ayat (4) huruf a dan Pasal 106 ayat (4) huruf b | G123: DD4309QE | H123: 20|STNK | I123: E7888384 | J123: 149000 | K123: 1000 | L123: E-TLE
A124: 120 | B124: 921 | C124: 1190 | D124: RAHMAWATI M | E124: TALLASALAPANG MKS | F124: 1 pasal : Pasal 287 ayat (1) jo Pasal 106 ayat (4) huruf a dan Pasal 106 ayat (4) huruf b | G124: DD6950RI | H124: 20|STNK | I124: E7888385 | J124: 149000 | K124: 1000 | L124: E-TLE
A125: 121 | B125: 922 | C125: 1191 | D125: NUNUNG RAHMAWATY | E125: BTN MINASA UPA | F125: 1 pasal : Pasal 287 ayat (1) jo Pasal 106 ayat (4) huruf a dan Pasal 106 ayat (4) huruf b | G125: DD3489AS | H125: 20|STNK | I125: E7888386 | J125: 149000 | K125: 1000 | L125: E-TLE
A126: 122 | B126: 923 | C126: 1192 | D126: FIRAYANTI S | F126: 1 pasal : Pasal 287 ayat (1) jo Pasal 106 ayat (4) huruf a dan Pasal 106 ayat (4) huruf b | G126: DD6549KI | H126: 20|STNK | I126: E7888387 | J126: 149000 | K126: 1000 | L126: E-TLE
A127: 123 | B127: 924 | C127: 1193 | D127: HIDAYATULLAH | F127: 1 pasal : Pasal 287 ayat (1) jo Pasal 106 ayat (4) huruf a dan Pasal 106 ayat (4) huruf b | G127: DD5619RE | H127: 20|STNK | I127: E7888388 | J127: 149000 | K127: 1000 | L127: E-TLE
A128: 124 | B128: 925 | C128: 1194 | D128: MOH YAHYA M | E128: PATTALASSANG | F128: 1 pasal : Pasal 287 ayat (1) jo Pasal 106 ayat (4) huruf a dan Pasal 106 ayat (4) huruf b | G128: DD3552AV | H128: 20|STNK | I128: E7888389 | J128: 149000 | K128: 1000 | L128: E-TLE
A129: 125 | B129: 926 | C129: 1195 | D129: RAHMAT HIDAYAT | E129: KAB GOWA | F129: 1 pasal : Pasal 287 ayat (1) jo Pasal 106 ayat (4) huruf a dan Pasal 106 ayat (4) huruf b | G129: DD4074VD | H129: 20|STNK | I129: E7888390 | J129: 149000 | K129: 1000 | L129: E-TLE
M130: =SUM(J5:J129) -> 17975000 | N130: =SUM(K5:K129) -> 125000
K131: T O T A L | M131: =SUM(M130) -> 17975000 | N131: =SUM(N130) -> 125000

Sheet Tgl. 30.04.2021
A1: PENGADILAN NEGERI MAKASSAR
A2: TANGGAL 30.04.2021
D3: P O L R E S T A B E S
A4: NO. | B4: NO. BULAN | C4: NO. REG | D4: NAMA TERDAKWA/ TERPIDANA | E4: ALAMAT TERDAKWA/ TERPIDANA | F4: PASAL YANG DILANGGAR | G4: NO. POLISI | H4: BARANG BUKTI | I4: NO. TILANG | J4: DENDA | K4: ONGKOS PERKARA
A5: 1 | B5: 927 | C5: 1196 | D5: ADI ANSAR | E5: JL IR SUTAMI | F5: 2 pasal : Pasal 280 jo Pasal 68 ayat (1),Pasal 281 jo Pasal 77 ayat (1) | G5: DD5028VS | H5: 20|STNK | I5: F7761669 | J5: 149000 | K5: 1000
A6: 2 | B6: 928 | C6: 1197 | D6: NURDIN | E6: JL BARAWAJA | F6: 1 pasal : Pasal 291 ayat (2) Jo Pasal 106 ayat (8) | G6: DD5779LI | H6: 10|SIM C | I6: F7761549 | J6: 99000 | K6: 1000
A7: 3 | B7: 929 | C7: 1198 | D7: ANDI ACHMAD BASHIT | E7: JL BORONG RAYA | F7: 1 pasal : Pasal 281 jo Pasal 77 ayat (1) | G7: DD6350SK | H7: 20|STNK | I7: F7761688 | J7: 99000 | K7: 1000
A8: 4 | B8: 930 | C8: 1199 | D8: SILAN | E8: MAKASSAR | F8: 1 pasal : Pasal 291 ayat (2) Jo Pasal 106 ayat (8) | G8: DD5356CI | H8: 20|STNK | I8: F7761886 | J8: 99000 | K8: 1000
A9: 5 | B9: 931 | C9: 1200 | D9: INDRIYANI | E9: JL PANNAMPU | F9: 1 pasal : Pasal 281 jo Pasal 77 ayat (1) | G9: DD5215RU | H9: 20|STNK | I9: F7761697 | J9: 99000 | K9: 1000
A10: 6 | B10: 932 | C10: 1201 | D10: IRWANSYAH | E10: MANURUKI 2 | F10: 1 pasal : Pasal 285 ayat (1) Jo Pasal 106 ayat (3) | G10: DW2878DN | H10: 20|STNK | I10: F7761768 | J10: 174000 | K10: 1000
A11: 7 | B11: 933 | C11: 1202 | D11: RYAN RIYANTO | E11: JL. SKARDA 2 | F11: 1 pasal : Pasal 285 ayat (1) Jo Pasal 106 ayat (3) | G11: DD--- | H11: 10|SIM C | I11: F7760336 | J11: 39000 | K11: 1000
A12: 8 | B12: 934 | C12: 1203 | D12: HJ. BANSUHARI DG. SIANG | E12: MAKASSAR | F12: 1 pasal : Pasal 287 ayat (1) jo Pasal 106 ayat (4) huruf a | G12: DD8722MV | H12: 20|STNK | I12: F7760337 | J12: 149000 | K12: 1000
A13: 9 | B13: 935 | C13: 1204 | D13: HUSNA | E13: JL. MANURUKI 2 | F13: 1 pasal : Pasal 291 ayat (1) Jo Pasal 106 ayat (8) | G13: DD5305LF | H13: 20|STNK | I13: F7761640 | J13: 99000 | K13: 1000
A14: 10 | B14: 936 | C14: 1205 | D14: ELY | E14: MAKASSAR | F14: 1 pasal : Pasal 287 ayat (2) jo Pasal 106 ayat (4) huruf c | G14: DD1544SZ | H14: 20|STNK | I14: F7761836 | J14: 149000 | K14: 1000
A15: 11 | B15: 937 | C15: 1206 | D15: SULASMINI | E15: MAKASSAR | F15: 1 pasal : Pasal 287 ayat (2) jo Pasal 106 ayat (4) huruf c | G15: DD4772UT | H15: 20|STNK | I15: F7761695 | J15: 149000 | K15: 1000
A16: 12 | B16: 938 | C16: 1207 | D16: MARWAH IBRAHIM | E16: JL. BOLU | F16: 1 pasal : Pasal 291 ayat (1) Jo Pasal 106 ayat (8) | G16: DD4609QF | H16: 20|STNK | I16: F7761698 | J16: 99000 | K16: 1000
... A82: 78 | B82: 1004 | C82: 1273 | D82: YOGI SETIAWAN | E82: JL BADOKA | F82: 2 pasal : Pasal 281 jo Pasal 77 ayat (1),Pasal 291 ayat (2) Jo Pasal 106 ayat (8) | G82: DD4899UZ | H82: 40|KENDARAAN | I82: F7761814 | J82: 249000 | K82: 1000
A83: 79 | B83: 1005 | C83: 1274 | D83: ALAM | F83: 2 pasal : Pasal 281 jo Pasal 77 ayat (1),Pasal 291 ayat (2) Jo Pasal 106 ayat (8) | G83: DD6922QP | H83: 40|KENDARAAN | I83: F7761889 | J83: 149000 | K83: 1000
A84: 80 | B84: 1006 | C84: 1275 | D84: ASRUL | E84: JL PALLANTIKANG | F84: 2 pasal : Pasal 281 jo Pasal 77 ayat (1),Pasal 285 ayat (1) Jo Pasal 106 ayat (3) | G84: DD5485CL | H84: 40|KENDARAAN | I84: F7761927 | J84: 249000 | K84: 1000
A85: 81 | B85: 1007 | C85: 1276 | D85: ISMAIL MARSUKI | E85: JL JIPANG NO 11 | F85: 2 pasal : Pasal 280 jo Pasal 68 ayat (1),Pasal 281 jo Pasal 77 ayat (1) | G85: DD6836YK | H85: 40|KENDARAAN | I85: F7761883 | J85: 249000 | K85: 1000
A86: 82 | B86: 1008 | C86: 1277 | D86: DIRGA | E86: JL AB LAMBOGO | F86: 2 pasal : Pasal 281 jo Pasal 77 ayat (1),Pasal 285 ayat (1) Jo Pasal 106 ayat (3) | G86: DD3062KE | H86: 40|KENDARAAN | I86: F7761855 | J86: 249000 | K86: 1000
A87: 83 | B87: 1009 | C87: 1278 | D87: FITRA | E87: JL S SADDANG | F87: 2 pasal : Pasal 281 jo Pasal 77 ayat (1),Pasal 291 ayat (2) Jo Pasal 106 ayat (8) | G87: DD3145QR | H87: 40|KENDARAAN | I87: F7761765 | J87: 149000 | K87: 1000
A88: 84 | B88: 1010 | C88: 1279 | D88: ABDI | E88: MAKASSAR | F88: 2 pasal : Pasal 281 jo Pasal 77 ayat (1),Pasal 291 ayat (2) Jo Pasal 106 ayat (8) | G88: DD4182UJ | H88: 40|KENDARAAN | I88: F7760862 | J88: 149000 | K88: 1000
A89: 85 | B89: 1011 | C89: 1280 | D89: MUH ASDAR | E89: JL TEUKU UMAR | F89: 1 pasal : Pasal 281 jo Pasal 77 ayat (1) | G89: DD------------ | H89: 40|KENDARAAN | I89: F7761811 | J89: 149000 | K89: 1000
A90: 86 | B90: 1012 | C90: 1281 | D90: WAHYUDI | E90: JL H KALLA | F90: 1 pasal : Pasal 281 jo Pasal 77 ayat (1) | G90: DD4549KO | H90: 40|KENDARAAN | I90: F7761882 | J90: 149000 | K90: 1000
A91: 87 | B91: 1013 | C91: 1282 | D91: YUSUF | E91: JL H KALLA | F91: 1 pasal : Pasal 281 jo Pasal 77 ayat (1) | G91: DD3270 | H91: 40|KENDARAAN | I91: F7761880 | J91: 149000 | K91: 1000
A92: 88 | B92: 1014 | C92: 1283 | D92: FAYED | E92: JL SATANGA | F92: 2 pasal : Pasal 281 jo Pasal 77 ayat (1),Pasal 285 ayat (1) Jo Pasal 106 ayat (3) | G92: DD4748XM | H92: 40|KENDARAAN | I92: F7760338 | J92: 249000 | K92: 1000
A93: 89 | B93: 1015 | C93: 1284 | D93: MUH FAHMI | E93: JL KANDEA | F93: 2 pasal : Pasal 281 jo Pasal 77 ayat (1),Pasal 285 ayat (1) Jo Pasal 106 ayat (3) | G93: DD1300SS | H93: 40|KENDARAAN | I93: F7762037 | J93: 149000 | K93: 1000
A94: 90 | B94: 1016 | C94: 1285 | D94: HASMAN | E94: JL PACCERAKANG | F94: 1 pasal : Pasal 291 ayat (2) Jo Pasal 106 ayat (8) | G94: H45MAN | H94: 40|KENDARAAN | I94: F7761896 | J94: 249000 | K94: 1000
A95: 91 | B95: 1017 | C95: 1286 | D95: ARAS | E95: JL KARAENG MAKKASAWU | F95: 2 pasal : Pasal 280 jo Pasal 68 ayat (1),Pasal 281 jo Pasal 77 ayat (1) | G95: DD------------ | H95: 40|KENDARAAN | I95: F7762033 | J95: 249000 | K95: 1000
... A97: 93 | B97: 1019 | C97: 1288 | D97: ACHMAD ARIQ | E97: JL TAMALANREA | F97: 1 pasal : Pasal 291 ayat (2) Jo Pasal 106 ayat (8) | G97: DD6123KQ | H97: 40|KENDARAAN | I97: F7760345 | J97: 249000 | K97: 1000
A98: 94 | B98: 1020 | C98: 1289 | D98: HARIANTO | F98: 1 pasal : Pasal 287 ayat (1) jo Pasal 106 ayat (4) huruf a | G98: DP3350HQ | H98: 60|SIM INTERNASIONAL | I98: F7761871 | J98: 249000 | K98: 1000
A99: 95 | B99: 1021 | C99: 1290 | D99: RAFLI | E99: BUMI PESONA | F99: 2 pasal : Pasal 287 jo Pasal 68 ayat (5), Pasal 285 ayat (1) Jo Pasal 106 ayat (3) | G99: DD5555XX | H99: 20|STNK | I99: F7761960 | J99: 39000 | K99: 1000
A100: 96 | B100: 1022 | C100: 1291 | D100: SRIYANAH JURMASARI | E100: SOPPENG | F100: 1 pasal : Pasal 287 ayat (1) jo Pasal 106 ayat (4) huruf a dan Pasal 106 ayat (4) huruf b | G100: DD6082LK | H100: 10|SIM C | I100: F7761493 | J100: 99000 | K100: 1000
A101: 97 | B101: 1023 | C101: 1292 | D101: RESKY ATMANEGARA | E101: KAB BULUKUMBA | F101: 1 pasal : Pasal 291 ayat (2) Jo Pasal 106 ayat (8) | G101: DD6097HM | H101: 20|STNK | I101: F7760405 | J101: 99000 | K101: 1000
A102: 98 | B102: 1024 | C102: 1293 | D102: PUNSUNG RAHARJO | F102: 1 pasal : Pasal 291 ayat (1) Jo Pasal 106 ayat (8) | G102: B3648SEM | H102: 20|STNK | I102: F7761487 | J102: 99000 | K102: 1000
A103: 99 | B103: 1025 | C103: 1294 | D103: HENDRI | E103: BONTOLOE | F103: 1 pasal : Pasal 285 ayat (1) Jo Pasal 106 ayat (3) | G103: DD4825HP | H103: 20|STNK | I103: F7761486 | J103: 39000 | K103: 1000
A104: 100 | B104: 1026 | C104: 1295 | D104: MUHAMMAD AMIR | E104: JL PAHLAWAN BANTAENG | F104: 1 pasal : Pasal 285 ayat (1) Jo Pasal 106 ayat (3) | G104: DD5852FC | H104: 10|SIM C | I104: F7761902 | J104: 99000 | K104: 1000
L105: =SUM(J5:J104) -> 13900000 | M105: =SUM(K5:K104) -> 100000
A108: PENGADILAN NEGERI MAKASSAR
A109: TANGGAL 30.04.2021
D110: P J R
A111: NO. | B111: NO. BULAN | C111: NO. REG | D111: NAMA TERDAKWA/ TERPIDANA | E111: ALAMAT TERDAKWA/ TERPIDANA | F111: PASAL YANG DILANGGAR | G111: NO. POLISI | H111: BARANG BUKTI | I111: NO. TILANG | J111: DENDA | K111: ONGKOS PERKARA
A112: 1 | B112: 1027 | C112: 1296 | D112: ALIF DANDI ARIFIN | E112: KAB. SOPPENG | F112: 1 pasal : Pasal 287 ayat (1) jo Pasal 106 ayat (4) huruf a | G112: DD86005KS | H112: 20|STNK | I112: E7763198 | J112: 149000 | K112: 1000
L113: =SUM(J112) -> 149000 | M113: =SUM(K112) -> 1000
J114: T O T A L | L114: =SUM(L105:L113) -> 14049000 | M114: =SUM(M105:M113) -> 101000

Sheet Lap. Bulan 5
A1: LAPORAN PERKARA LALU LINTAS (TILANG) / PERKARA PIDANA CEPAT (TIPIRING)
A2: BULAN MEI 2021
A4: NO. | B4: TANGGAL SIDANG | C4: NO. PERKARA | F4: KESATUAN | J4: JUMLAH BERKAS | K4: JUMLAH DENDA | L4: JUMLAH BIAYA PERKARA | M4: KET. BEBAS | N4: HAKIM | O4: PANITERA PENGGANTI | P4: TGL PENYERAHAN KEJAKSAAN
F6: A | G6: B | H6: C | I6: D
A7: 1 | B7: 44323 | C7: =SUM('Tgl. 07.05.2021'!C5) -> 1297 | D7: S/D | E7: =SUM('Tgl. 07.05.2021'!C263) -> 1555 | F7: ='Tgl. 07.05.2021'!A263 -> 259 | G7: 0 | H7: 0 | I7: 0 | J7: =SUM(F7:I7) -> 259 | K7: =SUM('Tgl. 07.05.2021'!M265) -> 35341000 | L7: =SUM(J7*1000)-(M7*1000) -> 259000 | M7: 0 | N7: FRANKLIN B TAMARA,S.H.,M.H. | O7: YOHANA DESY LOLOK,S.H. | P7: 44323
A8: 2 | B8: 44337 | C8: =SUM('Tgl. 21.05.2021'!C5) -> 1556 | D8: S/D | E8: =SUM('Tgl. 21.05.2021'!C78) -> 1623 | F8: ='Tgl. 21.05.2021'!A71 -> 67 | G8: 0 | H8: ='Tgl. 21.05.2021'!A78 -> 1 | I8: 0 | J8: =SUM(F8:I8) -> 68 | K8: =SUM('Tgl. 21.05.2021'!L80) -> 8732000 | L8: =SUM(J8*1000)-(M8*1000) -> 68000 | M8: 0 | N8: TIMOTIUS DJEMEY,S.H. | O8: ABDULLAH,A.Md. | P8: 44337
A9: 3 | B9: 44344 | C9: =SUM('Tgl. 28.05.2021'!C5) -> 1624 | D9: S/D | E9: =SUM('Tgl. 28.05.2021'!C223) -> 1842 | F9: ='Tgl. 28.05.2021'!A223 -> 219 | G9: 0 | H9: 0 | I9: 0 | J9: =SUM(F9:I9) -> 219 | K9: =SUM('Tgl. 28.05.2021'!M225) -> 37121000 | L9: =SUM(J9*1000)-(M9*1000) -> 219000 | M9: 0 | N9: YASRI,SH.,M.H. | O9: NURIYA AWAD,S.H. | P9: 44344
A10: JUMLAH KESELURUHAN : | F10: =SUM(F7:F9) -> 545 | G10: =SUM(G7:G9) -> 0 | H10: =SUM(H7:H9) -> 1 | I10: =SUM(I7:I9) -> 0 | J10: =SUM(J7:J9) -> 546 | K10: =SUM(K7:K9) -> 81194000 | L10: =SUM(L7:L9) -> 546000 | M10: =SUM(M7:M9) -> 0
A11: KETERANGAN :
A12: A= POLRESTABES | E12: C= PJR
A13: B= PELABUHAN | E13: D= DITLANTAS
A15: TIPIRING | C15: : | D15: 1 BERKAS

Sheet Tgl. 07.05.2021
A1: PENGADILAN NEGERI MAKASSAR
A2: TANGGAL 07.05.2021
D3: P O L R E S T A B E S
A4: NO. | B4: NO. BULAN | C4: NO. REG | D4: NAMA TERDAKWA/ TERPIDANA | E4: ALAMAT TERDAKWA/ TERPIDANA | F4: PASAL YANG DILANGGAR | G4: NO. POLISI | H4: BARANG BUKTI | I4: NO. TILANG | J4: DENDA | K4: ONGKOS PERKARA
A5: 1 | B5: 1 | C5: 1297 | D5: IRWAN | F5: 1 pasal : Pasal 289 jo Pasal 106 ayat (6) | G5: DD1383KQ | H5: 90|BUKTI ELEKTRONIK | I5: F7763003 | J5: 249000 | K5: 1000
A6: 2 | B6: 2 | C6: 1298 | D6: ERNI WINATA | E6: JL.DR RATULANGI NO.200 E., RT : 1/2, PARANG, MAMAJANG, KOTA MAKASSAR, SULAWESI SELATAN | F6: 1 pasal : Pasal 289 jo Pasal 106 ayat (6) | G6: DD1511KG | H6: 90|BUKTI ELEKTRONIK | I6: F7763002 | J6: 249000 | K6: 1000
A7: 3 | B7: 3 | C7: 1299 | D7: YAN STEVEN NELSON LEGRAND | F7: 1 pasal : Pasal 289 jo Pasal 106 ayat (6) | G7: DD1152MN | H7: 90|BUKTI ELEKTRONIK | I7: F7763015 | J7: 249000 | K7: 1000
A8: 4 | B8: 4 | C8: 1300 | D8: NENSYA URSIA | F8: 1 pasal : Pasal 289 jo Pasal 106 ayat (6) | G8: DD1739UH | H8: 90|BUKTI ELEKTRONIK | I8: F7763004 | J8: 249000 | K8: 1000
A9: 5 | B9: 5 | C9: 1301 | D9: JEMMY | F9: 1 pasal : Pasal 289 jo Pasal 106 ayat (6) | G9: DD1015QZ | H9: 90|BUKTI ELEKTRONIK | I9: F7763016 | J9: 249000 | K9: 1000
A10: 6 | B10: 6 | C10: 1302 | D10: NG SHEN HWA | F10: 1 pasal : Pasal 289 jo Pasal 106 ayat (6) | G10: DD1344SC | H10: 90|BUKTI ELEKTRONIK | I10: F7763009 | J10: 249000 | K10: 1000
A11: 7 | B11: 7 | C11: 1303 | D11: YANTO SUYANDI | F11: 1 pasal : Pasal 289 jo Pasal 106 ayat (6) | G11: DD1844OT | H11: 90|BUKTI ELEKTRONIK | I11: F7763010 | J11: 249000 | K11: 1000
A12: 8 | B12: 8 | C12: 1304 | D12: MOH. IQBAL | F12: 1 pasal : Pasal 289 jo Pasal 106 ayat (6) | G12: DD1842VC | H12: 90|BUKTI ELEKTRONIK | I12: F7763013 | J12: 249000 | K12: 1000
A13: 9 | B13: 9 | C13: 1305 | D13: EDY GUNAWAN | F13: 1 pasal : Pasal 289 jo Pasal 106 ayat (6) | G13: DD8839RG | H13: 90|BUKTI ELEKTRONIK | I13: F7763001 | J13: 249000 | K13: 1000
A14: 10 | B14: 10 | C14: 1306 | D14: EBZAN D | F14: 1 pasal : Pasal 289 jo Pasal 106 ayat (6) | G14: DD1835SW | H14: 90|BUKTI ELEKTRONIK | I14: F7763014 | J14: 249000 | K14: 1000
A15: 11 | B15: 11 | C15: 1307 | D15: ISWAN ISMAIL | F15: 1 pasal : Pasal 289 jo Pasal 106 ayat (6) | G15: DD1002S | H15: 90|BUKTI ELEKTRONIK | I15: F7763012 | J15: 249000 | K15: 1000
A16: 12 | B16: 12 | C16: 1308 | D16: HERIK SIROWATO | F16: 1 pasal : Pasal 289 jo Pasal 106 ayat (6) | G16: DD1594M | H16: 90|BUKTI ELEKTRONIK | I16: F7763005 | J16: 249000 | K16: 1000
A17: 13 | B17: 13 | C17: 1309 | D17: H. BAHARUDDIN S | F17: 1 pasal : Pasal 289 jo Pasal 106 ayat (6) | G17: DD1568VK | H17: 90|BUKTI ELEKTRONIK | I17: F7763007 | J17: 249000 | K17: 1000
A18: 14 | B18: 14 | C18: 1310 | D18: WAWAN GUNAWAN | E18: MAROS | F18: 1 pasal : Pasal 289 jo Pasal 106 ayat (6) | G18: DD--- | H18: 10|SIM C | I18: F7761111 | J18: 149000 | K18: 1000
A19: 15 | B19: 15 | C19: 1311 | D19: MOH. YASRI | E19: TAKALAR | F19: 1 pasal : Pasal 291 ayat (2) Jo Pasal 106 ayat (8) | G19: DD4006MT | H19: 20|STNK | I19: F7760688 | J19: 39000 | K19: 1000
A20: 16 | B20: 16 | C20: 1312 | D20: DIANA | E20: MAKASSAR | F20: 1 pasal : Pasal 287 ayat (3) jo Pasal 106 ayat (4) huruf e | G20: DD6429NY | H20: 20|STNK | I20: F7761718 | J20: 99000 | K20: 1000
A21: 17 | B21: 17 | C21: 1313 | D21: IRWAN | E21: JENEPONTO```` | F21: 1 pasal : Pasal 288 ayat (1) jo Pasal 106 ayat (5) huruf a | G21: DD3309SB | H21: 10|SIM C | I21: F7761915 | J21: 149000 | K21: 1000
A22: 18 | B22: 18 | C22: 1314 | D22: MUH JUNAEDI | E22: JL KORBAN | F22: 1 pasal : Pasal 291 ayat (2) Jo Pasal 106 ayat (8) | G22: DD3077QC | H22: 20|STNK | I22: F7762024 | J22: 199000 | K22: 1000
A23: 19 | B23: 19 | C23: 1315 | D23: ISHAK | F23: 1 pasal : Pasal 287 ayat (1) jo Pasal 106 ayat (4) huruf a | G23: DW6305FL | H23: 20|STNK | I23: F7761796 | J23: 149000 | K23: 1000
A24: 20 | B24: 20 | C24: 1316 | D24: KRISDAYANTY | E24: TANATORAJA | F24: 1 pasal : Pasal 288 ayat (1) jo Pasal 106 ayat (5) huruf a | G24: DD6067QO | H24: 10|SIM C | I24: F7761770 | J24: 99000 | K24: 1000
A25: 21 | B25: 21 | C25: 1317 | D25: JEAN | E25: KOMP LILI | F25: 1 pasal : Pasal 281 jo Pasal 77 ayat (1) | G25: DD4753CT | H25: 20|STNK | I25: F7761911 | J25: 99000 | K25: 1000
A26: 22 | B26: 22 | C26: 1318 | D26: ILHAM NUR | E26: KAB LUWU | F26: 1 pasal : Pasal 287 ayat (1) jo Pasal 106 ayat (4) huruf a | G26: DP3395FD | H26: 10|SIM C | I26: F7761933 | J26: 99000 | K26: 1000
A27: 23 | B27: 23 | C27: 1319 | D27: A INDAH | E27: GOWA | F27: 1 pasal : Pasal 281 jo Pasal 77 ayat (1) | G27: DD6425HV | H27: 20|STNK | I27: F7762105 | J27: 149000 | K27: 1000
A28: 24 | B28: 24 | C28: 1320 | D28: NURHALISA | E28: BULUKUMBA | F28: 1 pasal : Pasal 288 ayat (1) jo Pasal 106 ayat (5) huruf a | G28: DD3170FM | H28: 10|SIM C | I28: F7762022 | J28: 149000 | K28: 1000
A29: 25 | B29: 25 | C29: 1321 | D29: SOFYAN | E29: SMATA GOWA | F29: 1 pasal : Pasal 287 ayat (1) jo Pasal 106 ayat (4) huruf a | G29: DP1262GJ | H29: 20|STNK | I29: F7761971 | J29: 99000 | K29: 1000
A30: 26 | B30: 26 | C30: 1322 | D30: MUH. SYAHRUL | E30: GALESONG SELATAN | F30: 1 pasal : Pasal 287 ayat (2) jo Pasal 106 ayat (4) huruf c | G30: DD8950BF | H30: 20|STNK | I30: F7761954 | J30: 174000 | K30: 1000
A31: 27 | B31: 27 | C31: 1323 | D31: TEDDY | E31: JL BOULEVARD | F31: 1 pasal : Pasal 285 ayat (1) Jo Pasal 106 ayat (3) | G31: DD4539V | H31: 20|STNK | I31: F7761750 | J31: 99000 | K31: 1000
A32: 28 | B32: 28 | C32: 1324 | D32: KHAIRUNNAS A | E32: BUTTA KEKE KAB BULUKUMBA | F32: 1 pasal : Pasal 287 ayat (1) jo Pasal 106 ayat (4) huruf a | G32: DD5671HS | H32: 50|BUKU KIR | I32: F7761749 | J32: 99000 | K32: 1000
A33: 29 | B33: 29 | C33: 1325 | D33: ANDI AGUS | E33: JL ABD KADIR BTN HARTACO | F33: 1 pasal : Pasal 287 ayat (1) jo Pasal 106 ayat (4) huruf a | G33: DD1396TR | H33: 20|STNK | I33: F7760399 | J33: 149000 | K33: 1000
A34: 30 | B34: 30 | C34: 1326 | D34: SURANTA MULI | E34: JL. SASTRA II/A 51 | F34: 1 pasal : Pasal 287 ayat (2) jo Pasal 106 ayat (4) huruf c | G34: DD1061MQ | H34: 20|STNK | I34: F7761783 | J34: 99000 | K34: 1000
A35: 31 | B35: 31 | C35: 1327 | D35: ANDI ARDIANTO | E35: BTP JL. KERUKUNAN BARAT MAKASSAR | F35: 1 pasal : Pasal 285 ayat (1) Jo Pasal 106 ayat (3) | G35: DD5866XS | H35: 10|SIM C | I35: E7894907 | J35: 174000 | K35: 1000
A36: 32 | B36: 32 | C36: 1328 | D36: ANJAS SANJAYA | F36: 1 pasal : Pasal 280 jo Pasal 68 ayat (1) | G36: DD5144YC | H36: 10|SIM C | I36: F7761900 | J36: 149000 | K36: 1000
A37: 33 | B37: 33 | C37: 1329 | D37: SANDY | E37: KANDEA | F37: 1 pasal : Pasal 287 ayat (2) jo Pasal 106 ayat (4) huruf c | G37: DD4746UW | H37: 20|STNK | I37: F7761023 | J37: 149000 | K37: 1000
A38: 34 | B38: 34 | C38: 1330 | D38: NURHAEDAH | E38: JL. ANDI TONRO | F38: 1 pasal : Pasal 287 ayat (2) jo Pasal 106 ayat (4) huruf c | G38: DD1690UV | H38: 20|STNK | I38: F7761875 | J38: 149000 | K38: 1000
A39: 35 | B39: 35 | C39: 1331 | D39: ERIK SAPUTRA | E39: J;. DAYA | F39: 1 pasal : Pasal 291 ayat (2) Jo Pasal 106 ayat (8) | G39: DD4983R | H39: 20|STNK | I39: F7761825 | J39: 174000 | K39: 1000
A40: 36 | B40: 36 | C40: 1332 | D40: ILHAM | E40: JL. MANURUKI 2 NO.102 C MAKASSAR | F40: 1 pasal : Pasal 291 ayat (1) Jo Pasal 106 ayat (8) | G40: DD3100IF | H40: 20|STNK;30|SIM & STNK | I40: F7761823 | J40: 149000 | K40: 1000
A41: 37 | B41: 37 | C41: 1333 | D41: SADDAH | E41: MAKASSAR | F41: 1 pasal : Pasal 291 ayat (1) Jo Pasal 106 ayat (8) | G41: DD2844US | H41: 20|STNK | I41: F7760344 | J41: 99000 | K41: 1000
A42: 38 | B42: 38 | C42: 1334 | D42: ANDI SAKTI JASWAN | E42: DUSUN BONTOMANAI BULUKUMBA | F42: 1 pasal : Pasal 287 ayat (2) jo Pasal 106 ayat (4) huruf c | G42: DD1541QB | H42: 10|SIM C | I42: F7762014 | J42: 149000 | K42: 1000
A43: 39 | B43: 39 | C43: 1335 | D43: RAIHANAH | E43: MAKASSAR | F43: 1 pasal : Pasal 287 ayat (1) jo Pasal 106 ayat (4) huruf a | G43: DW6928ER | H43: 20|STNK | I43: F7761951 | J43: 99000 | K43: 1000
A44: 40 | B44: 40 | C44: 1336 | D44: AURA | E44: JL. ADIPURA MKS | F44: 1 pasal : Pasal 288 ayat (2) jo Pasal 106 ayat (5) huruf b | G44: DD5151VC | H44: 20|STNK | I44: F7761709 | J44: 39000 | K44: 1000
A45: 41 | B45: 41 | C45: 1337 | D45: IBOL | E45: JL. SUNU MKS | F45: 1 pasal : Pasal 291 ayat (1) Jo Pasal 106 ayat (8) | G45: DD3486SJ | H45: 20|STNK | I45: F7761843 | J45: 199000 | K45: 1000
A46: 42 | B46: 42 | C46: 1338 | D46: AKBAR | E46: MAKASSAR | F46: 1 pasal : Pasal 287 ayat (2) jo Pasal 106 ayat (4) huruf c | G46: DW2134DI | H46: 20|STNK | I46: F7761948 | J46: 99000 | K46: 1000
A47: 43 | B47: 43 | C47: 1339 | D47: ADITYA NPUTRA | E47: GOWA | F47: 1 pasal : Pasal 287 ayat (1) jo Pasal 106 ayat (4) huruf a | G47: DD1571YD | H47: 20|STNK | I47: F7761708 | J47: 99000 | K47: 1000
A48: 44 | B48: 44 | C48: 1340 | D48: MUH. IBNU AKBAR | E48: MAKASSAR | F48: 1 pasal : Pasal 288 ayat (2) jo Pasal 106 ayat (5) huruf b | G48: DD1838LR | H48: 20|STNK | I48: F7761707 | J48: 99000 | K48: 1000
... A52: 48 | B52: 48 | C52: 1344 | D52: NADYA MAGFIRA | E52: JL. PAJJAING MAKASSAR | F52: 1 pasal : Pasal 291 ayat (2) Jo Pasal 106 ayat (8) | G52: DD5233L | H52: 10|SIM C | I52: F7762015 | J52: 99000 | K52: 1000
A53: 49 | B53: 49 | C53: 1345 | D53: SAHARUDDIN | F53: 1 pasal : Pasal 287 ayat (1) jo Pasal 106 ayat (4) huruf a | G53: DD4726QE | H53: 20|STNK | I53: F7761850 | J53: 199000 | K53: 1000
A54: 50 | B54: 50 | C54: 1346 | D54: PAUL | F54: 1 pasal : Pasal 287 ayat (1) jo Pasal 106 ayat (4) huruf a | G54: DD2051SA | H54: 20|STNK | I54: F7761848 | J54: 149000 | K54: 1000
A55: 51 | B55: 51 | C55: 1347 | D55: PAUL | F55: 1 pasal : Pasal 291 ayat (1) Jo Pasal 106 ayat (8) | G55: DD2067XK | H55: 20|STNK | I55: F7761842 | J55: 99000 | K55: 1000
A56: 52 | B56: 52 | C56: 1348 | D56: ARDIANSAH | F56: 1 pasal : Pasal 287 ayat (1) jo Pasal 106 ayat (4) huruf a | G56: DD3490SO | H56: 10|SIM C | I56: F7761586 | J56: 99000 | K56: 1000
A57: 53 | B57: 53 | C57: 1349 | D57: JAYADI | F57: 1 pasal : Pasal 287 ayat (2) jo Pasal 106 ayat (4) huruf c | G57: DD2504HV | H57: 10|SIM C | I57: F7761947 | J57: 99000 | K57: 1000
A58: 54 | B58: 54 | C58: 1350 | D58: SYAHARUDDIN | E58: MAKASSAR | F58: 1 pasal : Pasal 287 ayat (2) jo Pasal 106 ayat (4) huruf c | G58: DD3669RJ | H58: 20|STNK | I58: F7761946 | J58: 99000 | K58: 1000
A59: 55 | B59: 55 | C59: 1351 | D59: IRFAN BAKRI | F59: 1 pasal : Pasal 291 ayat (2) Jo Pasal 106 ayat (8) | G59: DD6239SW | H59: 10|SIM C | I59: F7761841 | J59: 39000 | K59: 1000
A60: 56 | B60: 56 | C60: 1352 | D60: IGNATIUS | F60: 1 pasal : Pasal 287 ayat (2) jo Pasal 106 ayat (4) huruf c | G60: DD1133IW | H60: 11|SIM A | I60: F7761955 | J60: 149000 | K60: 1000
A61: 57 | B61: 57 | C61: 1353 | D61: RUSLI | E61: JL. BARUKANG MKS | F61: 1 pasal : Pasal 291 ayat (1) Jo Pasal 106 ayat (8) | G61: DD--- | H61: 10|SIM C | I61: F7761918 | J61: 149000 | K61: 1000
A62: 58 | B62: 58 | C62: 1354 | D62: FITRI | E62: MAKASSAR | F62: 1 pasal : Pasal 287 ayat (2) jo Pasal 106 ayat (4) huruf c | G62: DP6272HE | H62: 20|STNK | I62: F7762041 | J62: 99000 | K62: 1000
A63: 59 | B63: 59 | C63: 1355 | D63: REGA RAYARDI | E63: MAKASSAR | F63: 1 pasal : Pasal 287 ayat (1) jo Pasal 106 ayat (4) huruf a | G63: B1330TYT | H63: 20|STNK | I63: F7761985 | J63: 149000 | K63: 1000
A64: 60 | B64: 60 | C64: 1356 | D64: SULIS WIDIANTOKO | E64: JL. KURUNGAN BASSI MAMUJU | F64: 1 pasal : Pasal 287 ayat (2) jo Pasal 106 ayat (4) huruf c | G64: DD1839OB | H64: 10|SIM C | I64: F7761950 | J64: 99000 | K64: 1000
A65: 61 | B65: 61 | C65: 1357 | D65: RUDI APRIANTO | E65: TODDOPULI RAYA | F65: 1 pasal : Pasal 287 ayat (1) jo Pasal 106 ayat (4) huruf a | G65: DD3898HP | H65: 20|STNK | I65: F7761945 | J65: 149000 | K65: 1000
A66: 62 | B66: 62 | C66: 1358 | D66: SRI WAHYUNI | E66: MAKASSAR | F66: 1 pasal : Pasal 287 ayat (2) jo Pasal 106 ayat (4) huruf c | G66: DD3354WI | H66: 20|STNK | I66: F7762042 | J66: 99000 | K66: 1000
A67: 63 | B67: 63 | C67: 1359 | D67: ST. AISYAH | E67: JL. TRAKTOR 3 MKS | F67: 1 pasal : Pasal 287 ayat (2) jo Pasal 106 ayat (4) huruf c | G67: DD885JZ | H67: 10|SIM C | I67: F7760756 | J67: 99000 | K67: 1000
A68: 64 | B68: 64 | C68: 1360 | D68: RUSLI | E68: MAKASSAR | F68: 1 pasal : Pasal 287 ayat (1) jo Pasal 106 ayat (4) huruf a | G68: DD8910IP | H68: 20|STNK | I68: F7761781 | J68: 99000 | K68: 1000
A69: 65 | B69: 65 | C69: 1361 | D69: ANDI FAHRIANTO | E69: JL MELATI | F69: 1 pasal : Pasal 287 ayat (1) jo Pasal 106 ayat (4) huruf a | G69: DD1948IT | H69: 20|STNK | I69: F7761952 | J69: 149000 | K69: 1000
A70: 66 | B70: 66 | C70: 1362 | D70: HASNI | F70: 1 pasal : Pasal 291 ayat (1) Jo Pasal 106 ayat (8) | G70: DD5663KG | H70: 20|STNK | I70: F7761694 | J70: 39000 | K70: 1000
A71: 67 | B71: 67 | C71: 1363 | D71: WAHIDA | E71: MAKASSAR | F71: 1 pasal : Pasal 287 ayat (2) jo Pasal 106 ayat (4) huruf c | G71: DD1275Q | H71: 20|STNK | I71: F7761831 | J71: 174000 | K71: 1000
A72: 68 | B72: 68 | C72: 1364 | D72: MUH. BAGAS | E72: MAKASSAR | F72: 1 pasal : Pasal 287 ayat (1) jo Pasal 106 ayat (4) huruf a | G72: DD2264XG | H72: 20|STNK | I72: F7762043 | J72: 99000 | K72: 1000
A73: 69 | B73: 69 | C73: 1365 | D73: BURHANUDDIN B | E73: BULU- BULU MAROS | F73: 1 pasal : Pasal 287 ayat (2) jo Pasal 106 ayat (4) huruf c | G73: DD1660TR | H73: 20|STNK | I73: F7761832 | J73: 149000 | K73: 1000
A74: 70 | B74: 70 | C74: 1366 | D74: AGUNG RAHID | E74: JL KANDEA | F74: 1 pasal : Pasal 288 ayat (2) jo Pasal 106 ayat (5) huruf b | G74: DD5381UA | H74: 20|STNK | I74: F7762019 | J74: 99000 | K74: 1000
A75: 71 | B75: 71 | C75: 1367 | D75: MUH FAISAL RUSLI | E75: MAKASSAR | F75: 1 pasal : Pasal 285 ayat (1) Jo Pasal 106 ayat (3) | G75: DD4439KI | H75: 20|STNK | I75: F7762013 | J75: 39000 | K75: 1000
A76: 72 | B76: 72 | C76: 1368 | D76: SULAEMAN | E76: BANGKALA JENEPONTO | F76: 1 pasal : Pasal 287 ayat (1) jo Pasal 106 ayat (4) huruf a | G76: DD3706GK | H76: 20|STNK | I76: F7761738 | J76: 99000 | K76: 1000
A77: 73 | B77: 73 | C77: 1369 | D77: IRVAN HARDIAYANTO | E77: JL CENDRAWASIH | F77: 1 pasal : Pasal 280 jo Pasal 68 ayat (1) | G77: DD5188SN | H77: 20|STNK | I77: F7762021 | J77: 39000 | K77: 1000
A78: 74 | B78: 74 | C78: 1370 | D78: SRI WAHYUNI | E78: JL BAJI PASAWI | F78: 1 pasal : Pasal 287 ayat (1) jo Pasal 106 ayat (4) huruf a | G78: DD5177MQ | H78: 20|STNK | I78: F7761990 | J78: 99000 | K78: 1000
A79: 75 | B79: 75 | C79: 1371 | D79: JAQUELINE | E79: JL KOMP PALU | F79: 1 pasal : Pasal 287 ayat (1) jo Pasal 106 ayat (4) huruf a | G79: DD1531HU | H79: 20|STNK | I79: F7761953 | J79: 39000 | K79: 1000
A80: 76 | B80: 76 | C80: 1372 | D80: M ARFANDI | E80: PARANGLOE GOWA | F80: 1 pasal : Pasal 288 ayat (1) jo Pasal 106 ayat (5) huruf a | G80: DD8572NI | H80: 11|SIM A | I80: F7762020 | J80: 149000 | K80: 1000
A81: 77 | B81: 77 | C81: 1373 | D81: MA'ARUF | E81: BONE | F81: 1 pasal : Pasal 287 ayat (1) jo Pasal 106 ayat (4) huruf a | G81: DD------------ | H81: 10|SIM C | I81: F7761494 | J81: 99000 | K81: 1000
A82: 78 | B82: 78 | C82: 1374 | D82: A MAKKARAKALANGI | E82: JL GOTONG ROYONG | F82: 1 pasal : Pasal 287 ayat (1) jo Pasal 106 ayat (4) huruf a | G82: DD4124KA | H82: 10|SIM C | I82: F7761739 | J82: 39000 | K82: 1000
... A86: 82 | B86: 82 | C86: 1378 | D86: MUH ANIL | E86: JL PAMPANG | F86: 1 pasal : Pasal 285 ayat (1) Jo Pasal 106 ayat (3) | G86: DD6879UZ | H86: 40|KENDARAAN | I86: F7762161 | J86: 249000 | K86: 1000
A87: 83 | B87: 83 | C87: 1379 | D87: ISLAHUL FIQRI | F87: 1 pasal : Pasal 291 ayat (1) Jo Pasal 106 ayat (8) | G87: DD4478KH | H87: 40|KENDARAAN | I87: F7761998 | J87: 249000 | K87: 1000
A88: 84 | B88: 84 | C88: 1380 | D88: BILY FORMULA | F88: 1 pasal : Pasal 291 ayat (2) Jo Pasal 106 ayat (8) | G88: DD5120SB | H88: 40|KENDARAAN | I88: F7762039 | J88: 249000 | K88: 1000
A89: 85 | B89: 85 | C89: 1381 | D89: FAHRUL | E89: JL MUH YAMIN | F89: 1 pasal : Pasal 291 ayat (2) Jo Pasal 106 ayat (8) | G89: DD5100MF | H89: 40|KENDARAAN | I89: F7762038 | J89: 249000 | K89: 1000
A90: 86 | B90: 86 | C90: 1382 | D90: ADI | F90: 1 pasal : Pasal 288 ayat (1) jo Pasal 106 ayat (5) huruf a | G90: DD6688XX | H90: 40|KENDARAAN | I90: F7762018 | J90: 299000 | K90: 1000
A91: 87 | B91: 87 | C91: 1383 | D91: ARYA | F91: 1 pasal : Pasal 288 ayat (1) jo Pasal 106 ayat (5) huruf a | G91: DD4913XL | H91: 40|KENDARAAN | I91: F7762000 | J91: 299000 | K91: 1000
A92: 88 | B92: 88 | C92: 1384 | D92: M EKA SAPUTRA | F92: 1 pasal : Pasal 288 ayat (1) jo Pasal 106 ayat (5) huruf a | G92: DD4727MF | H92: 40|KENDARAAN | I92: F7762116 | J92: 299000 | K92: 1000
A93: 89 | B93: 89 | C93: 1385 | D93: RAHMAT CHARIS | E93: JL ST ALAUDIDN | F93: 1 pasal : Pasal 291 ayat (1) Jo Pasal 106 ayat (8) | G93: DD3630SC | H93: 20|STNK | I93: F7762023 | J93: 249000 | K93: 1000
A94: 90 | B94: 90 | C94: 1386 | D94: RESKY | E94: JL DR SUHASODO | F94: 2 pasal : Pasal 285 ayat (1) Jo Pasal 106 ayat (3),Pasal 288 ayat (1) jo Pasal 106 ayat (5) huruf a | G94: DD6214KM | H94: 40|KENDARAAN | I94: F7762016 | J94: 349000 | K94: 1000
A95: 91 | B95: 91 | C95: 1387 | D95: RESKI | E95: MAKASSAR | F95: 1 pasal : Pasal 291 ayat (2) Jo Pasal 106 ayat (8) | G95: DD2123UU | H95: 40|KENDARAAN | I95: F7761846 | J95: 249000 | K95: 1000
A96: 92 | B96: 92 | C96: 1388 | D96: ABD RAHMAN TAHIR | F96: 1 pasal : Pasal 287 ayat (1) jo Pasal 106 ayat (4) huruf a dan Pasal 106 ayat (4) huruf b | G96: DD4588RU | H96: 20|STNK | I96: E7888391 | J96: 149000 | K96: 1000 | L96: E-TLE
A97: 93 | B97: 93 | C97: 1389 | D97: RUSNAWATI | F97: 1 pasal : Pasal 287 ayat (1) jo Pasal 106 ayat (4) huruf a dan Pasal 106 ayat (4) huruf b | G97: DD5142MD | H97: 20|STNK | I97: E7888392 | J97: 149000 | K97: 1000 | L97: E-TLE
A98: 94 | B98: 94 | C98: 1390 | D98: THALIB | F98: 1 pasal : Pasal 287 ayat (1) jo Pasal 106 ayat (4) huruf a dan Pasal 106 ayat (4) huruf b | G98: DD6494MG | H98: 20|STNK | I98: E7888393 | J98: 149000 | K98: 1000 | L98: E-TLE
A99: 95 | B99: 95 | C99: 1391 | D99: NATALIA SANGANDE | F99: 1 pasal : Pasal 287 ayat (1) jo Pasal 106 ayat (4) huruf a dan Pasal 106 ayat (4) huruf b | G99: DD6956VT | H99: 20|STNK | I99: E7888394 | J99: 149000 | K99: 1000 | L99: E-TLE
A100: 96 | B100: 96 | C100: 1392 | D100: SIKKI | E100: JATIA DSN TABBANGA GOWA | F100: 1 pasal : Pasal 287 ayat (1) jo Pasal 106 ayat (4) huruf a dan Pasal 106 ayat (4) huruf b | G100: DD5380YI | H100: 20|STNK | I100: E7888395 | J100: 149000 | K100: 1000 | L100: E-TLE
A101: 97 | B101: 97 | C101: 1393 | D101: SRI SARWANA | E101: JL SUKAMANA NO 14 | F101: 1 pasal : Pasal 287 ayat (1) jo Pasal 106 ayat (4) huruf a dan Pasal 106 ayat (4) huruf b | G101: DD4028VC | H101: 20|STNK | I101: E7888396 | J101: 149000 | K101: 1000 | L101: E-TLE
A102: 98 | B102: 98 | C102: 1394 | D102: ARILI | F102: 1 pasal : Pasal 287 ayat (1) jo Pasal 106 ayat (4) huruf a dan Pasal 106 ayat (4) huruf b | G102: DD6081RD | H102: 20|STNK | I102: E7888397 | J102: 149000 | K102: 1000 | L102: E-TLE
A103: 99 | B103: 99 | C103: 1395 | D103: HJ.MULIATI BIN H SAHRIL | F103: 1 pasal : Pasal 287 ayat (1) jo Pasal 106 ayat (4) huruf a dan Pasal 106 ayat (4) huruf b | G103: DD6764DT | H103: 20|STNK | I103: E7888398 | J103: 149000 | K103: 1000 | L103: E-TLE
A104: 100 | B104: 100 | C104: 1396 | D104: SUPARMAN | E104: ASRAMA YONKAN | F104: 1 pasal : Pasal 287 ayat (1) jo Pasal 106 ayat (4) huruf a dan Pasal 106 ayat (4) huruf b | G104: DD3727RE | H104: 20|STNK | I104: E7888399 | J104: 149000 | K104: 1000 | L104: E-TLE
A105: 101 | B105: 101 | C105: 1397 | D105: LAODE RUSLI | E105: BTN JENETALASA BLK C7/2 | F105: 1 pasal : Pasal 287 ayat (1) jo Pasal 106 ayat (4) huruf a dan Pasal 106 ayat (4) huruf b | G105: DD3941LY | H105: 20|STNK | I105: E7888400 | J105: 149000 | K105: 1000 | L105: E-TLE
A106: 102 | B106: 102 | C106: 1398 | D106: ANNIZA MALLARANGAN | F106: 1 pasal : Pasal 287 ayat (1) jo Pasal 106 ayat (4) huruf a dan Pasal 106 ayat (4) huruf b | G106: DD5379KB | H106: 20|STNK | I106: E7888401 | J106: 149000 | K106: 1000 | L106: E-TLE
...

Sheet Tgl. 21.05.2021
A1: PENGADILAN NEGERI MAKASSAR
A2: TANGGAL 21.05.2021
D3: P O L R E S T A B E S
A4: NO. | B4: NO. BULAN | C4: NO. REG | D4: NAMA TERDAKWA/ TERPIDANA | E4: ALAMAT TERDAKWA/ TERPIDANA | F4: PASAL YANG DILANGGAR | G4: NO. POLISI | H4: BARANG BUKTI | I4: NO. TILANG | J4: DENDA | K4: ONGKOS PERKARA
A5: 1 | B5: 260 | C5: 1556 | D5: FAHMI | E5: JL. MINASSAUPA | F5: 1 pasal : Pasal 288 ayat (2) jo Pasal 106 ayat (5) huruf b | G5: DD3964UY | H5: 20|STNK | I5: F7756835 | J5: 99000 | K5: 1000
A6: 2 | B6: 261 | C6: 1557 | D6: A AZIS | E6: JL MACCINI | F6: 1 pasal : Pasal 287 ayat (1) jo Pasal 106 ayat (4) huruf a | G6: DD2559UV | H6: 20|STNK | I6: F7761751 | J6: 49000 | K6: 1000
A7: 3 | B7: 262 | C7: 1558 | D7: ABDULLAH | E7: MAROS | F7: 1 pasal : Pasal 281 jo Pasal 77 ayat (1) | G7: DD8562CF | H7: 20|STNK | I7: F7761348 | J7: 199000 | K7: 1000
A8: 4 | B8: 263 | C8: 1559 | D8: ANUGRAH ILAHI | E8: SINJAI | F8: 1 pasal : Pasal 291 ayat (1) Jo Pasal 106 ayat (8) | G8: DW6755OH | H8: 10|SIM C | I8: F7762157 | J8: 99000 | K8: 1000
A9: 5 | B9: 264 | C9: 1560 | D9: ABD KADIR | E9: SINJAI | F9: 1 pasal : Pasal 287 ayat (1) jo Pasal 106 ayat (4) huruf a | G9: DD4246XX | H9: 10|SIM C | I9: F7762135 | J9: 99000 | K9: 1000
A10: 6 | B10: 265 | C10: 1561 | D10: M FARHAN | E10: MAKASSAR | F10: 1 pasal : Pasal 281 jo Pasal 77 ayat (1) | G10: DD1965MR | H10: 20|STNK | I10: F7761981 | J10: 199000 | K10: 1000
A11: 7 | B11: 266 | C11: 1562 | D11: KADEK JUNIARTA | E11: BULELENG | F11: 1 pasal : Pasal 287 ayat (1) jo Pasal 106 ayat (4) huruf a | G11: DD1728XX | H11: 11|SIM A | I11: F7762160 | J11: 149000 | K11: 1000
A12: 8 | B12: 267 | C12: 1563 | D12: SULKIFLI | E12: MAKASSAR | F12: 1 pasal : Pasal 287 ayat (1) jo Pasal 106 ayat (4) huruf a | G12: DW6698AK | H12: 20|STNK | I12: F7762156 | J12: 99000 | K12: 1000
A13: 9 | B13: 268 | C13: 1564 | D13: H FAHRUN | E13: JL LAMURU | F13: 1 pasal : Pasal 287 ayat (1) jo Pasal 106 ayat (4) huruf a | G13: DD1740UA | H13: 20|STNK | I13: F7761932 | J13: 99000 | K13: 1000
A14: 10 | B14: 269 | C14: 1565 | D14: RAMLAN | E14: BTN TABORONG | F14: 1 pasal : Pasal 287 ayat (1) jo Pasal 106 ayat (4) huruf a | G14: DD1052RK | H14: 20|STNK | I14: F7762100 | J14: 149000 | K14: 1000
A15: 11 | B15: 270 | C15: 1566 | D15: SULAEMAN | E15: GOWA | F15: 1 pasal : Pasal 287 ayat (1) jo Pasal 106 ayat (4) huruf a | G15: DD8452IM | H15: 20|STNK | I15: F7762125 | J15: 149000 | K15: 1000
A16: 12 | B16: 271 | C16: 1567 | D16: FATURAHMAN | E16: MAKASSAR | F16: 1 pasal : Pasal 288 ayat (2) jo Pasal 106 ayat (5) huruf b | G16: DP2373LE | H16: 20|STNK | I16: F7761983 | J16: 49000 | K16: 1000
... A40: 36 | B40: 295 | C40: 1591 | D40: RIO | E40: ANTANG | F40: 1 pasal : Pasal 280 jo Pasal 68 ayat (1) | G40: DD6752TO | H40: 20|STNK | I40: F7762099 | J40: 149000 | K40: 1000
A41: 37 | B41: 296 | C41: 1592 | D41: ROY YINIARTO | F41: 1 pasal : Pasal 291 ayat (1) Jo Pasal 106 ayat (8) | G41: DD2635VT | H41: 20|STNK | I41: F7761967 | J41: 99000 | K41: 1000
A42: 38 | B42: 297 | C42: 1593 | D42: ARDYANTO | F42: 1 pasal : Pasal 281 jo Pasal 77 ayat (1) | G42: DD4519KG | H42: 20|STNK | I42: F7761970 | J42: 149000 | K42: 1000
A43: 39 | B43: 298 | C43: 1594 | D43: MEIDIR | F43: 1 pasal : Pasal 287 ayat (2) jo Pasal 106 ayat (4) huruf c | G43: DD1568AI | H43: 20|STNK | I43: F7761587 | J43: 149000 | K43: 1000
A44: 40 | B44: 299 | C44: 1595 | D44: IRFAN | F44: 1 pasal : Pasal 287 ayat (2) jo Pasal 106 ayat (4) huruf c | G44: DD1615XJ | H44: 20|STNK | I44: F7761588 | J44: 49000 | K44: 1000
A45: 41 | B45: 300 | C45: 1596 | D45: SYAHRIL SHOBIRIN | E45: JL P KEMERDEKAAN | F45: 1 pasal : Pasal 280 jo Pasal 68 ayat (1) | G45: DC6396BG | H45: 20|STNK | I45: F7761940 | J45: 149000 | K45: 1000
A46: 42 | B46: 301 | C46: 1597 | D46: HERMASYAH | E46: PASAR NARU BETUN MALAKA | F46: 1 pasal : Pasal 287 ayat (2) jo Pasal 106 ayat (4) huruf c | G46: DW455US | H46: 12|SIM BI;14|SIM BI UMUM | I46: F7762155 | J46: 149000 | K46: 1000
A47: 43 | B47: 302 | C47: 1598 | D47: MUHAMMAD NURDYANSYAH | E47: MAKASSAR | F47: 1 pasal : Pasal 287 ayat (1) jo Pasal 106 ayat (4) huruf a | G47: DD1386BC | H47: 20|STNK | I47: F7762151 | J47: 49000 | K47: 1000
A48: 44 | B48: 303 | C48: 1599 | D48: REZKY | E48: PAKATTO KAB GOWA | F48: 2 pasal : Pasal 281 jo Pasal 77 ayat (1),Pasal 287 ayat (1) jo Pasal 106 ayat (4) huruf a | G48: DD2115QU | H48: 20|STNK | I48: F7762109 | J48: 149000 | K48: 1000
A49: 45 | B49: 304 | C49: 1600 | D49: ASHAR | E49: TOMPOBULU KAB MAROS | F49: 3 pasal : Pasal 281 jo Pasal 77 ayat (1),Pasal 285 ayat (1) Jo Pasal 106 ayat (3),Pasal 287 ayat (1) jo Pasal 106 ayat (4) huruf a | G49: DD6096TT | H49: 20|STNK | I49: F7762110 | J49: 199000 | K49: 1000
A50: 46 | B50: 305 | C50: 1601 | D50: ILHAM | E50: GOWA | F50: 1 pasal : Pasal 281 jo Pasal 77 ayat (1) | G50: DD8738BF | H50: 20|STNK | I50: F7761903 | J50: 149000 | K50: 1000
A51: 47 | B51: 306 | C51: 1602 | D51: BINTANG | E51: GOWA | F51: 1 pasal : Pasal 285 ayat (1) Jo Pasal 106 ayat (3) | G51: DD5244YT | H51: 20|STNK | I51: F7761904 | J51: 49000 | K51: 1000
A52: 48 | B52: 307 | C52: 1603 | D52: NURAENI | E52: JL G BAWAKARAENG | F52: 1 pasal : Pasal 287 ayat (1) jo Pasal 106 ayat (4) huruf a | G52: DD6741YO | H52: 10|SIM C | I52: F7761982 | J52: 99000 | K52: 1000
A53: 49 | B53: 308 | C53: 1604 | D53: RODNEY ALVIN | E53: KAB KOLAKA | F53: 1 pasal : Pasal 287 ayat (1) jo Pasal 106 ayat (4) huruf a | G53: DD------------ | H53: 11|SIM A | I53: F7762153 | J53: 99000 | K53: 1000
A54: 50 | B54: 309 | C54: 1605 | D54: SERILUS KEKO | E54: JL. ABD MUTHALIB DG NARANG | F54: 1 pasal : Pasal 287 ayat (1) jo Pasal 106 ayat (4) huruf a | G54: DD8791SJ | H54: 50|BUKU KIR | I54: F7762108 | J54: 149000 | K54: 1000
A55: 51 | B55: 310 | C55: 1606 | D55: SAPUTRA SYAM | E55: JL TANJUNG | F55: 1 pasal : Pasal 287 ayat (1) jo Pasal 106 ayat (4) huruf a | G55: DD2207 | H55: 10|SIM C | I55: F7762154 | J55: 99000 | K55: 1000
A56: 52 | B56: 311 | C56: 1607 | D56: SUDIRMAN | E56: MAKASSAR | F56: 1 pasal : Pasal 287 ayat (1) jo Pasal 106 ayat (4) huruf a | G56: DB1709CI | H56: 20|STNK | I56: F7761937 | J56: 199000 | K56: 1000
A57: 53 | B57: 312 | C57: 1608 | D57: EKA BUNGIN | F57: 1 pasal : Pasal 287 ayat (1) jo Pasal 106 ayat (4) huruf a | G57: DD3268U | H57: 20|STNK | I57: F7761939 | J57: 99000 | K57: 1000
A58: 54 | B58: 313 | C58: 1609 | D58: RIYADI | E58: MAKASSAR | F58: 1 pasal : Pasal 287 ayat (1) jo Pasal 106 ayat (4) huruf a | G58: DD8188SA | H58: 20|STNK | I58: F7762149 | J58: 199000 | K58: 1000
A59: 55 | B59: 314 | C59: 1610 | D59: MUH PIHO | E59: GOWA | F59: 1 pasal : Pasal 287 ayat (1) jo Pasal 106 ayat (4) huruf a | G59: DD3352MJ | H59: 20|STNK | I59: F7761942 | J59: 99000 | K59: 1000
A60: 56 | B60: 315 | C60: 1611 | D60: SAMAUN BAHTA | F60: 1 pasal : Pasal 291 ayat (2) Jo Pasal 106 ayat (8) | G60: DD4473XB | H60: 20|STNK | I60: F7762106 | J60: 49000 | K60: 1000
A61: 57 | B61: 316 | C61: 1612 | D61: FAHRI AZIS | E61: JL KANDEA 3 | F61: 1 pasal : Pasal 291 ayat (1) Jo Pasal 106 ayat (8) | G61: DD4982SN | H61: 20|STNK | I61: F7761699 | J61: 99000 | K61: 1000
A62: 58 | B62: 317 | C62: 1613 | D62: ZAINAL | E62: JL SUKARIA | F62: 1 pasal : Pasal 291 ayat (1) Jo Pasal 106 ayat (8) | G62: DD4099MV | H62: 20|STNK | I62: F7761925 | J62: 99000 | K62: 1000
A63: 59 | B63: 318 | C63: 1614 | D63: HERMAN | E63: DUSUN BUGIS | F63: 1 pasal : Pasal 291 ayat (1) Jo Pasal 106 ayat (8) | G63: DD6074XF | H63: 20|STNK | I63: F7761924 | J63: 99000 | K63: 1000
A64: 60 | B64: 319 | C64: 1615 | D64: RAHMAWATI | E64: JL BARUKANG | F64: 1 pasal : Pasal 291 ayat (1) Jo Pasal 106 ayat (8) | G64: DD6690KS | H64: 20|STNK | I64: F7761923 | J64: 149000 | K64: 1000
A65: 61 | B65: 320 | C65: 1616 | D65: WENDI | E65: SOPPENG | F65: 1 pasal : Pasal 307 Jo Pasal 169 ayat (1) | G65: DW8654CD | H65: 20|STNK | I65: F7761919 | J65: 149000 | K65: 1000
A66: 62 | B66: 321 | C66: 1617 | D66: RAIHAN | E66: MAROS | F66: 1 pasal : Pasal 280 jo Pasal 68 ayat (1) | G66: DD5331TP | H66: 20|STNK | I66: F7762150 | J66: 149000 | K66: 1000
A67: 63 | B67: 322 | C67: 1618 | D67: ANUGRAH ILAHI | E67: JL CENDRAWASIH | F67: 1 pasal : Pasal 291 ayat (1) Jo Pasal 106 ayat (8) | G67: DD5299MQ | H67: 40|KENDARAAN | I67: F7761921 | J67: 249000 | K67: 1000
A68: 64 | B68: 323 | C68: 1619 | D68: ABD SALAM | E68: JL TODOPULI | F68: 1 pasal : Pasal 281 jo Pasal 77 ayat (1) | G68: DC3367CS | H68: 40|KENDARAAN | I68: F7762148 | J68: 249000 | K68: 1000
A69: 65 | B69: 324 | C69: 1620 | D69: ANDI AGUS, SPD, MPD | E69: UNJURUIYA KEP SELAYAR | F69: 1 pasal : Pasal 287 ayat (1) jo Pasal 106 ayat (4) huruf a | G69: DD5156VP | H69: 40|KENDARAAN | I69: F7761752 | J69: 349000 | K69: 1000
A70: 66 | B70: 325 | C70: 1621 | D70: ARHAM | E70: BTN PAROPO BLK A/26 | F70: 1 pasal : Pasal 287 ayat (1) jo Pasal 106 ayat (4) huruf a | G70: DD1925RN | H70: 20|STNK | I70: F7762107 | J70: 249000 | K70: 1000
A71: 67 | B71: 326 | C71: 1622 | D71: TABITHA PURBA | E71: PROF ABD RAHMAN BASALAMA | F71: 1 pasal : Pasal 287 ayat (1) jo Pasal 106 ayat (4) huruf a | G71: D2763ABB | H71: 20|STNK | I71: F7761755 | J71: 249000 | K71: 1000
L72: =SUM(J5:J71) -> 8583000 | M72: =SUM(K5:K71) -> 67000
A75: TANGGAL 21.05.2021
D76: P J R
A77: NO. | B77: NO. BULAN | C77: NO. REG | D77: NAMA TERDAKWA/ TERPIDANA | E77: ALAMAT TERDAKWA/ TERPIDANA | F77: PASAL YANG DILANGGAR | G77: NO. POLISI | H77: BARANG BUKTI | I77: NO. TILANG | J77: DENDA | K77: ONGKOS PERKARA
A78: 1 | B78: 327 | C78: 1623 | D78: SUDIRMAN | E78: JL.ABD KADIR MKS | F78: 307 AYAT (1) | G78: DD8052RH | H78: 20|STNK | I78: E7763223 | J78: 149000 | K78: 1000
L79: =SUM(J78) -> 149000 | M79: =SUM(K78) -> 1000
J80: T O T A L | L80: =SUM(L72:L79) -> 8732000 | M80: =SUM(M72:M79) -> 68000

Sheet Tgl. 28.05.2021
A1: PENGADILAN NEGERI MAKASSAR
A2: TANGGAL 28.05.2021
D3: P O L R E S T A B E S
A4: NO. | B4: NO. BULAN | C4: NO. REG | D4: NAMA TERDAKWA/ TERPIDANA | E4: ALAMAT TERDAKWA/ TERPIDANA | F4: PASAL YANG DILANGGAR | G4: NO. POLISI | H4: BARANG BUKTI | I4: NO. TILANG | J4: DENDA | K4: ONGKOS PERKARA
A5: 1 | B5: 328 | C5: 1624 | D5: MUHAMMAD SALEH SAID | F5: 1 pasal : Pasal 283 jo Pasal 106 ayat (1); GUN HP | G5: DD1438MH | H5: 20|STNK | I5: F7763058 | J5: 249000 | K5: 1000 | L5: E-TLE
A6: 2 | B6: 329 | C6: 1625 | D6: RIFALDY AHMAD FAHREZY | F6: 1 pasal : Pasal 289 jo Pasal 106 ayat (6) | G6: DD1097R | H6: 20|STNK | I6: F7763037 | J6: 249000 | K6: 1000 | L6: E-TLE
A7: 3 | B7: 330 | C7: 1626 | D7: IKHWAN WAHYUDDIN | F7: 1 pasal : Pasal 289 jo Pasal 106 ayat (6) | G7: DD1154MA | H7: 20|STNK | I7: F7763024 | J7: 249000 | K7: 1000 | L7: E-TLE
A8: 4 | B8: 331 | C8: 1627 | D8: ANDI HAFNI ZAHARA | F8: 1 pasal : Pasal 289 jo Pasal 106 ayat (6) | G8: DD1587XU | H8: 20|STNK | I8: F7763067 | J8: 149000 | K8: 1000 | L8: E-TLE
A9: 5 | B9: 332 | C9: 1628 | D9: MUH ULA | F9: 1 pasal : Pasal 287 ayat (1) jo Pasal 106 ayat (4) huruf a dan Pasal 106 ayat (4) huruf b | G9: DD------------ | H9: 10|SIM C | I9: F7761778 | J9: 249000 | K9: 1000 | L9: E-TLE
A10: 6 | B10: 333 | C10: 1629 | D10: MARSANI B | F10: 1 pasal : Pasal 289 jo Pasal 106 ayat (6) | G10: DD1040KY | H10: 20|STNK | I10: F7763071 | J10: 249000 | K10: 1000 | L10: E-TLE
A11: 7 | B11: 334 | C11: 1630 | D11: JACKY GUNAWI OEI | F11: 1 pasal : Pasal 283 jo Pasal 106 ayat (1); GUN HP | G11: DD1208UP | H11: 20|STNK | I11: F7763057 | J11: 249000 | K11: 1000 | L11: E-TLE
A12: 8 | B12: 335 | C12: 1631 | D12: MUCHSIN RAMLAN | F12: 1 pasal : Pasal 289 jo Pasal 106 ayat (6) | G12: DD1954SA | H12: 20|STNK | I12: F7763048 | J12: 249000 | K12: 1000 | L12: E-TLE
A13: 9 | B13: 336 | C13: 1632 | D13: NABILA AMALYAH PUTRI | F13: 1 pasal : Pasal 289 jo Pasal 106 ayat (6) | G13: DD1527IS | H13: 20|STNK | I13: F7763059 | J13: 249000 | K13: 1000 | L13: E-TLE
A14: 10 | B14: 337 | C14: 1633 | D14: KANGSA TUNGKUMAS | F14: 1 pasal : Pasal 289 jo Pasal 106 ayat (6) | G14: DD1868KY | H14: 20|STNK | I14: F7763028 | J14: 249000 | K14: 1000 | L14: E-TLE
A15: 11 | B15: 338 | C15: 1634 | D15: H. SUDIRMAN | F15: 1 pasal : Pasal 289 jo Pasal 106 ayat (6) | G15: DD1271LH | H15: 20|STNK | I15: F7763030 | J15: 249000 | K15: 1000 | L15: E-TLE
A16: 12 | B16: 339 | C16: 1635 | D16: H. SYAMSIR | F16: 1 pasal : Pasal 289 jo Pasal 106 ayat (6) | G16: DD270HT | H16: 20|STNK | I16: F7763029 | J16: 249000 | K16: 1000 | L16: E-TLE
... A19: 15 | B19: 342 | C19: 1638 | D19: SHURYA GUNAWAN | F19: 1 pasal : Pasal 289 jo Pasal 106 ayat (6) | G19: DD1605MV | H19: 20|STNK | I19: F7763031 | J19: 249000 | K19: 1000 | L19: E-TLE
A20: 16 | B20: 343 | C20: 1639 | D20: HUSMAN DAHLAN (H USMAN DAHLAN) | E20: JL MUNA NO 10, RT : 2/6, MELAYU, WAJO, KOTA MAKASSAR, SULAWESI SELATAN | F20: 1 pasal : Pasal 289 jo Pasal 106 ayat (6) | G20: DD10HU | H20: 20|STNK | I20: F7763046 | J20: 249000 | K20: 1000 | L20: E-TLE
A21: 17 | B21: 344 | C21: 1640 | D21: AMBO ASSE | F21: 1 pasal : Pasal 289 jo Pasal 106 ayat (6) | G21: DD1593SB | H21: 20|STNK | I21: F7763044 | J21: 249000 | K21: 1000 | L21: E-TLE
A22: 18 | B22: 345 | C22: 1641 | D22: LUKMAN HOLY | F22: 1 pasal : Pasal 289 jo Pasal 106 ayat (6) | G22: DD1832KH | H22: 20|STNK | I22: F7763038 | J22: 249000 | K22: 1000 | L22: E-TLE
A23: 19 | B23: 346 | C23: 1642 | D23: ANDI MUHAMMAD FARID RAMADHAN | F23: 1 pasal : Pasal 289 jo Pasal 106 ayat (6) | G23: DD1952IU | H23: 20|STNK | I23: F7763032 | J23: 249000 | K23: 1000 | L23: E-TLE
A24: 20 | B24: 347 | C24: 1643 | D24: KAHARUDDIN YUNUS | F24: 1 pasal : Pasal 289 jo Pasal 106 ayat (6) | G24: DD1530AP | H24: 20|STNK | I24: F7763043 | J24: 249000 | K24: 1000 | L24: E-TLE
A25: 21 | B25: 348 | C25: 1644 | D25: USMAN | F25: 1 pasal : Pasal 289 jo Pasal 106 ayat (6) | G25: DD1794VC | H25: 20|STNK | I25: F7763018 | J25: 249000 | K25: 1000 | L25: E-TLE
A26: 22 | B26: 349 | C26: 1645 | D26: PITHER DERI | F26: 1 pasal : Pasal 289 jo Pasal 106 ayat (6) | G26: DD1057BI | H26: 20|STNK | I26: F7763017 | J26: 249000 | K26: 1000 | L26: E-TLE
A27: 23 | B27: 350 | C27: 1646 | D27: YOHAN SIDA | F27: 1 pasal : Pasal 289 jo Pasal 106 ayat (6) | G27: DD1396QV | H27: 20|STNK | I27: F7763023 | J27: 249000 | K27: 1000 | L27: E-TLE
A28: 24 | B28: 351 | C28: 1647 | D28: MUH. IKHWAL TAJUDDIN | F28: 1 pasal : Pasal 289 jo Pasal 106 ayat (6) | G28: DD1594UK | H28: 20|STNK | I28: F7763021 | J28: 249000 | K28: 1000 | L28: E-TLE
A29: 25 | B29: 352 | C29: 1648 | D29: HJ NURALAM | F29: 1 pasal : Pasal 289 jo Pasal 106 ayat (6) | G29: DD1217RQ | H29: 20|STNK | I29: F7763035 | J29: 249000 | K29: 1000 | L29: E-TLE
A30: 26 | B30: 353 | C30: 1649 | D30: BRYAN RAMADHAB BRAHMAN | F30: 1 pasal : Pasal 289 jo Pasal 106 ayat (6) | G30: DD1020XR | H30: 20|STNK | I30: F7763050 | J30: 249000 | K30: 1000 | L30: E-TLE
A31: 27 | B31: 354 | C31: 1650 | D31: DRS. H.M.TAHIR LARIBE | F31: 1 pasal : Pasal 289 jo Pasal 106 ayat (6) | G31: DD59WT | H31: 20|STNK | I31: F7763053 | J31: 249000 | K31: 1000 | L31: E-TLE
A32: 28 | B32: 355 | C32: 1651 | D32: ABD. AZIS A. | F32: 1 pasal : Pasal 289 jo Pasal 106 ayat (6) | G32: DD1418KF | H32: 20|STNK | I32: F7763052 | J32: 249000 | K32: 1000 | L32: E-TLE
... A43: 39 | B43: 366 | C43: 1662 | D43: A.SAHARUDDIN, DRS, MM | F43: 1 pasal : Pasal 289 jo Pasal 106 ayat (6) | G43: DD88SQ | H43: 20|STNK | I43: F7763066 | J43: 249000 | K43: 1000 | L43: E-TLE
A44: 40 | B44: 367 | C44: 1663 | D44: NURDIAH S, ST (NURDIAH S,ST) | E44: BTP JL KERUKUNAN BARAT 8 BLOK J NO 173, RT : 3/13, BUNTUSU, TAMALANREA, KOTA MAKASSAR, SULAWESI SELATAN | F44: 1 pasal : Pasal 289 jo Pasal 106 ayat (6) | G44: DD1654RT | H44: 20|STNK | I44: F7763072 | J44: 249000 | K44: 1000 | L44: E-TLE
A45: 41 | B45: 368 | C45: 1664 | D45: SAHRUDDIN | F45: 1 pasal : Pasal 289 jo Pasal 106 ayat (6) | G45: DD1356TU | H45: 20|STNK | I45: F7763068 | J45: 249000 | K45: 1000 | L45: E-TLE
A46: 42 | B46: 369 | C46: 1665 | D46: MUDIANTO | F46: 1 pasal : Pasal 289 jo Pasal 106 ayat (6) | G46: DD1761I | H46: 20|STNK | I46: F7763069 | J46: 249000 | K46: 1000 | L46: E-TLE
A47: 43 | B47: 370 | C47: 1666 | D47: BAHAR DG NABA | F47: 1 pasal : Pasal 289 jo Pasal 106 ayat (6) | G47: DD1672YZ | H47: 20|STNK | I47: F7763077 | J47: 249000 | K47: 1000 | L47: E-TLE
A48: 44 | B48: 371 | C48: 1667 | D48: HODHY SURYADI | F48: 1 pasal : Pasal 289 jo Pasal 106 ayat (6) | G48: DD1154QJ | H48: 20|STNK | I48: F7763081 | J48: 249000 | K48: 1000 | L48: E-TLE
A49: 45 | B49: 372 | C49: 1668 | D49: IRFAN | F49: 1 pasal : Pasal 289 jo Pasal 106 ayat (6) | G49: DD1637QD | H49: 20|STNK | I49: F7763073 | J49: 249000 | K49: 1000 | L49: E-TLE
A50: 46 | B50: 373 | C50: 1669 | D50: SHERLY SORENSEN | F50: 1 pasal : Pasal 289 jo Pasal 106 ayat (6) | G50: DD1830SC | H50: 20|STNK | I50: F7763082 | J50: 249000 | K50: 1000 | L50: E-TLE
A51: 47 | B51: 374 | C51: 1670 | D51: MUJAHID WAHAB | F51: 1 pasal : Pasal 289 jo Pasal 106 ayat (6) | G51: DD123ZA | H51: 20|STNK | I51: F7763075 | J51: 249000 | K51: 1000 | L51: E-TLE
A52: 48 | B52: 375 | C52: 1671 | D52: ARIEF SURYA | F52: 1 pasal : Pasal 289 jo Pasal 106 ayat (6) | G52: DD1951UD | H52: 20|STNK | I52: F7763063 | J52: 249000 | K52: 1000 | L52: E-TLE
A53: 49 | B53: 376 | C53: 1672 | D53: MUH. BASIR | F53: 1 pasal : Pasal 289 jo Pasal 106 ayat (6) | G53: DD1650RV | H53: 20|STNK | I53: F7763049 | J53: 249000 | K53: 1000 | L53: E-TLE
A54: 50 | B54: 377 | C54: 1673 | D54: DEDY GUNAWAN | F54: 1 pasal : Pasal 289 jo Pasal 106 ayat (6) | G54: DD1057SE | H54: 20|STNK | I54: F7763079 | J54: 249000 | K54: 1000 | L54: E-TLE
A55: 51 | B55: 378 | C55: 1674 | D55: RAKIMIN | F55: 1 pasal : Pasal 289 jo Pasal 106 ayat (6) | G55: DD1532SA | H55: 20|STNK | I55: F7763085 | J55: 249000 | K55: 1000 | L55: E-TLE
A56: 52 | B56: 379 | C56: 1675 | D56: ADITYA BAGAS PRATAMA | F56: 1 pasal : Pasal 289 jo Pasal 106 ayat (6) | G56: DD1876YJ | H56: 20|STNK | I56: F7763083 | J56: 249000 | K56: 1000 | L56: E-TLE
... A59: 55 | B59: 382 | C59: 1678 | D59: HJ. JUHARIAH | F59: 1 pasal : Pasal 289 jo Pasal 106 ayat (6) | G59: DD1923OU | H59: 20|STNK | I59: F7763074 | J59: 249000 | K59: 1000 | L59: E-TLE
A60: 56 | B60: 383 | C60: 1679 | D60: SRI YAWAHARLAL | E60: BTN GOWA LESTARI BLOK C.5 NO 14, RT : 4/6, BATANGKALUKU, SOMBA UPU, GOWA, SULAWESI SELATAN | F60: 1 pasal : Pasal 289 jo Pasal 106 ayat (6) | G60: DD1758YM | H60: 20|STNK | I60: F7763076 | J60: 249000 | K60: 1000 | L60: E-TLE
A61: 57 | B61: 384 | C61: 1680 | D61: ANDI MARLIAH BAKRI | F61: 1 pasal : Pasal 289 jo Pasal 106 ayat (6) | G61: DD1449XQ | H61: 20|STNK | I61: F7763080 | J61: 249000 | K61: 1000 | L61: E-TLE
A62: 58 | B62: 385 | C62: 1681 | D62: YUDIANTO | F62: 1 pasal : Pasal 289 jo Pasal 106 ayat (6) | G62: DD1933VZ | H62: 20|STNK | I62: F7763086 | J62: 249000 | K62: 1000 | L62: E-TLE
A63: 59 | B63: 386 | C63: 1682 | D63: MAX WIJOYO SUHARTO KASY | F63: 1 pasal : Pasal 289 jo Pasal 106 ayat (6) | G63: DD1810VK | H63: 20|STNK | I63: F7763027 | J63: 249000 | K63: 1000 | L63: E-TLE
A64: 60 | B64: 387 | C64: 1683 | D64: HANDY SUMAWI | F64: 1 pasal : Pasal 289 jo Pasal 106 ayat (6) | G64: DD1153IS | H64: 20|STNK | I64: F7763047 | J64: 249000 | K64: 1000 | L64: E-TLE
A65: 61 | B65: 388 | C65: 1684 | D65: NURFITRA YANTO S.PD, MPD (NURFITRA YANTO) | E65: DUSUN MAONGAN, RT : 1/, SABBANG, SABBANG, LUWU UTARA, SULAWESI SELATAN | F65: 1 pasal : Pasal 289 jo Pasal 106 ayat (6) | G65: DD1400RS | H65: 20|STNK | I65: F7763022 | J65: 249000 | K65: 1000 | L65: E-TLE
A66: 62 | B66: 389 | C66: 1685 | D66: IKBAL UMAR | F66: 1 pasal : Pasal 289 jo Pasal 106 ayat (6) | G66: DD1291KS | H66: 20|STNK | I66: F7763025 | J66: 249000 | K66: 1000 | L66: E-TLE
A67: 63 | B67: 390 | C67: 1686 | D67: MUH BASRI HN | F67: 1 pasal : Pasal 289 jo Pasal 106 ayat (6) | G67: DD8HR | H67: 20|STNK | I67: F7763042 | J67: 249000 | K67: 1000 | L67: E-TLE
A68: 64 | B68: 391 | C68: 1687 | D68: RAKIMIN | F68: 1 pasal : Pasal 289 jo Pasal 106 ayat (6) | G68: DD1532SA | H68: 20|STNK | I68: F7763036 | J68: 249000 | K68: 1000 | L68: E-TLE
A69: 65 | B69: 392 | C69: 1688 | D69: IKSAN ZAM ZAMI | F69: 1 pasal : Pasal 289 jo Pasal 106 ayat (6) | G69: DD1317OR | H69: 20|STNK | I69: F7763034 | J69: 249000 | K69: 1000 | L69: E-TLE
A70: 66 | B70: 393 | C70: 1689 | D70: H. SAIFUL ALAM | F70: 1 pasal : Pasal 289 jo Pasal 106 ayat (6) | G70: DD28SK | H70: 20|STNK | I70: F7763020 | J70: 249000 | K70: 1000 | L70: E-TLE
A71: 67 | B71: 394 | C71: 1690 | D71: BASRI S. | F71: 1 pasal : Pasal 289 jo Pasal 106 ayat (6) | G71: DD1540QF | H71: 20|STNK | I71: F7763040 | J71: 249000 | K71: 1000 | L71: E-TLE
A72: 68 | B72: 395 | C72: 1691 | D72: M. ICSAN NOOR DARWIS | F72: 1 pasal : Pasal 289 jo Pasal 106 ayat (6) | G72: DD1510VC | H72: 20|STNK | I72: F7763039 | J72: 249000 | K72: 1000 | L72: E-TLE
A73: 69 | B73: 396 | C73: 1692 | D73: DELLY WIJAYA | F73: 1 pasal : Pasal 289 jo Pasal 106 ayat (6) | G73: DD1138VA | H73: 20|STNK | I73: F7763041 | J73: 249000 | K73: 1000 | L73: E-TLE
A74: 70 | B74: 397 | C74: 1693 | D74: H. HUSNI NASUCHA, SH | F74: 1 pasal : Pasal 289 jo Pasal 106 ayat (6) | G74: DD1810KR | H74: 20|STNK | I74: F7763045 | J74: 249000 | K74: 1000 | L74: E-TLE
A75: 71 | B75: 398 | C75: 1694 | D75: ASRIANTO | E75: JL MACCINI GUSUNG | F75: 1 pasal : Pasal 281 jo Pasal 77 ayat (1) | G75: DD2988QG | H75: 20|STNK | I75: F7762165 | J75: 149000 | K75: 1000
A76: 72 | B76: 399 | C76: 1695 | D76: WILDIARTU DALAME | E76: JL. MAKULA KEL. KAERO TORAJA | F76: 1 pasal : Pasal 287 ayat (1) jo Pasal 106 ayat (4) huruf a | G76: DD1217BB | H76: 11|SIM A | I76: F7761994 | J76: 149000 | K76: 1000
A77: 73 | B77: 400 | C77: 1696 | D77: SARAH | E77: JL. GOWA | F77: 1 pasal : Pasal 281 jo Pasal 77 ayat (1) | G77: DD5681YZ | H77: 20|STNK | I77: F7762262 | J77: 149000 | K77: 1000
A78: 74 | B78: 401 | C78: 1697 | D78: ENDA UTARI USMAN | E78: JAYAPURA | F78: 1 pasal : Pasal 287 ayat (2) jo Pasal 106 ayat (4) huruf c | G78: DD--- | H78: 11|SIM A | I78: F7762264 | J78: 39000 | K78: 1000
A79: 75 | B79: 402 | C79: 1698 | D79: HERLINA R | E79: JL. ABD DG SIRUA NO 46/54 | F79: 1 pasal : Pasal 288 ayat (1) jo Pasal 106 ayat (5) huruf a | G79: DD2774XX | H79: 10|SIM C | I79: F7762111 | J79: 99000 | K79: 1000
A80: 76 | B80: 403 | C80: 1699 | D80: SUDARWIN PAKPAHAN | E80: PERUM PERMATA SEPATAN | F80: 1 pasal : Pasal 287 ayat (1) jo Pasal 106 ayat (4) huruf a | G80: B4803PBE | H80: 10|SIM C | I80: F7762112 | J80: 39000 | K80: 1000
A81: 77 | B81: 404 | C81: 1700 | D81: SYUKRON NASIR | E81: JL MUH JUFRI | F81: 1 pasal : Pasal 291 ayat (1) Jo Pasal 106 ayat (8) | G81: DD4853XE | H81: 20|STNK | I81: F7762216 | J81: 149000 | K81: 1000
A82: 78 | B82: 405 | C82: 1701 | D82: HAMSIL | E82: JL TAMALATE | F82: 1 pasal : Pasal 287 ayat (1) jo Pasal 106 ayat (4) huruf a dan Pasal 106 ayat (4) huruf b | G82: DD4606UQ | H82: 20|STNK | I82: F7761975 | J82: 149000 | K82: 1000
A83: 79 | B83: 406 | C83: 1702 | D83: SRI RAMADANI | E83: MAKASSAR | F83: 1 pasal : Pasal 287 ayat (1) jo Pasal 106 ayat (4) huruf a dan Pasal 106 ayat (4) huruf b | G83: DD6738RO | H83: 20|STNK | I83: F7762249 | J83: 99000 | K83: 1000
A84: 80 | B84: 407 | C84: 1703 | D84: SITTI WAHYUNI | F84: 1 pasal : Pasal 287 ayat (1) jo Pasal 106 ayat (4) huruf a dan Pasal 106 ayat (4) huruf b | G84: DD4240LL | H84: 20|STNK | I84: F7762196 | J84: 39000 | K84: 1000
A85: 81 | B85: 408 | C85: 1704 | D85: MORDAHI | E85: JL GUNUNG MERAPI | F85: 1 pasal : Pasal 287 ayat (1) jo Pasal 106 ayat (4) huruf a dan Pasal 106 ayat (4) huruf b | G85: DD6567KN | H85: 20|STNK | I85: F7761973 | J85: 39000 | K85: 1000
A86: 82 | B86: 409 | C86: 1705 | D86: ERNAWATI | F86: 1 pasal : Pasal 287 ayat (1) jo Pasal 106 ayat (4) huruf a dan Pasal 106 ayat (4) huruf b | G86: DD4087KU | H86: 20|STNK | I86: F7761974 | J86: 99000 | K86: 1000
A87: 83 | B87: 410 | C87: 1706 | D87: YUSRIAH | F87: 1 pasal : Pasal 287 ayat (1) jo Pasal 106 ayat (4) huruf a dan Pasal 106 ayat (4) huruf b | G87: DP3826KT | H87: 20|STNK | I87: F7762256 | J87: 174000 | K87: 1000
A88: 84 | B88: 411 | C88: 1707 | D88: ANITA MARCEL | E88: JL KAJENJENG | F88: 1 pasal : Pasal 287 ayat (1) jo Pasal 106 ayat (4) huruf a dan Pasal 106 ayat (4) huruf b | G88: DD2095QU | H88: 20|STNK | I88: F7762260 | J88: 149000 | K88: 1000
A89: 85 | B89: 412 | C89: 1708 | D89: SITTI HADIJAH | E89: GALESONG UTARA | F89: 1 pasal : Pasal 287 ayat (1) jo Pasal 106 ayat (4) huruf a dan Pasal 106 ayat (4) huruf b | G89: DD3414CU | H89: 20|STNK | I89: F7762259 | J89: 39000 | K89: 1000
A90: 86 | B90: 413 | C90: 1709 | D90: FADILLAH | E90: BTN PELITA | F90: 1 pasal : Pasal 287 ayat (1) jo Pasal 106 ayat (4) huruf a dan Pasal 106 ayat (4) huruf b | G90: DD4325XE | H90: 20|STNK | I90: F7762257 | J90: 99000 | K90: 1000
A91: 87 | B91: 414 | C91: 1710 | D91: NURHAYATI.K | E91: ANTANG | F91: 2 pasal : Pasal 287 ayat (2) jo Pasal 106 ayat (4) huruf c,Pasal 288 ayat (2) jo Pasal 106 ayat (5) huruf b | G91: DD2336UK | H91: 20|STNK | I91: F7762244 | J91: 149000 | K91: 1000
A92: 88 | B92: 415 | C92: 1711 | D92: YOHANES FALENTINUS | E92: KONAWE | F92: 1 pasal : Pasal 287 ayat (2) jo Pasal 106 ayat (4) huruf c | G92: DD9195PA | H92: 12|SIM BI;15|SIM BII UMUM;17|SIM BII | I92: F7761805 | J92: 199000 | K92: 1000
A93: 89 | B93: 416 | C93: 1712 | D93: HARTAS AMRI | E93: BTP KERUKUNAN | F93: 1 pasal : Pasal 287 ayat (1) jo Pasal 106 ayat (4) huruf a dan Pasal 106 ayat (4) huruf b | G93: DD------------ | H93: 11|SIM A | I93: F7762290 | J93: 99000 | K93: 1000
A94: 90 | B94: 417 | C94: 1713 | D94: SITTI MUJAHIDA | E94: NUSA TML INDAH | F94: 1 pasal : Pasal 287 ayat (1) jo Pasal 106 ayat (4) huruf a dan Pasal 106 ayat (4) huruf b | G94: DD1522XW | H94: 11|SIM A | I94: F7762287 | J94: 149000 | K94: 1000
A95: 91 | B95: 418 | C95: 1714 | D95: ALFIRA | E95: MAKASSAR | F95: 1 pasal : Pasal 287 ayat (1) jo Pasal 106 ayat (4) huruf a dan Pasal 106 ayat (4) huruf b | G95: DD3160YR | H95: 20|STNK | I95: F7762299 | J95: 99000 | K95: 1000
A96: 92 | B96: 419 | C96: 1715 | D96: MUTIA SARI | F96: 1 pasal : Pasal 281 jo Pasal 77 ayat (1) | G96: DD3488VF | H96: 20|STNK | I96: F7762139 | J96: 99000 | K96: 1000
A97: 93 | B97: 420 | C97: 1716 | D97: HAEDIR | F97: 1 pasal : Pasal 287 ayat (1) jo Pasal 106 ayat (4) huruf a dan Pasal 106 ayat (4) huruf b | G97: DD5663RP | H97: 20|STNK | I97: F7762288 | J97: 39000 | K97: 1000
A98: 94 | B98: 421 | C98: 1717 | D98: AGUNG SETYA | E98: TAKALAR | F98: 1 pasal : Pasal 288 ayat (2) jo Pasal 106 ayat (5) huruf b | G98: DD8974BF | H98: 20|STNK | I98: F7762269 | J98: 174000 | K98: 1000
A99: 95 | B99: 422 | C99: 1718 | D99: RISTAM | F99: 1 pasal : Pasal 288 ayat (2) jo Pasal 106 ayat (5) huruf b | G99: DD6914MO | H99: 20|STNK | I99: F7762170 | J99: 99000 | K99: 1000
A100: 96 | B100: 423 | C100: 1719 | D100: TRIANI | F100: 1 pasal : Pasal 287 ayat (1) jo Pasal 106 ayat (4) huruf a dan Pasal 106 ayat (4) huruf b | G100: DD6506NK | H100: 20|STNK | I100: F7762127 | J100: 39000 | K100: 1000
A101: 97 | B101: 424 | C101: 1720 | D101: HARIYATI | E101: JL DG TATA | F101: 1 pasal : Pasal 287 ayat (1) jo Pasal 106 ayat (4) huruf a dan Pasal 106 ayat (4) huruf b | G101: DD------------ | H101: 10|SIM C | I101: F7762129 | J101: 39000 | K101: 1000
A102: 98 | B102: 425 | C102: 1721 | D102: MUH JUNAID | F102: 1 pasal : Pasal 287 ayat (1) jo Pasal 106 ayat (4) huruf a dan Pasal 106 ayat (4) huruf b | G102: DD1843IV | H102: 20|STNK | I102: F7762236 | J102: 149000 | K102: 1000
A103: 99 | B103: 426 | C103: 1722 | D103: ADI | E103: JL CITRA PERMAI | F103: 1 pasal : Pasal 289 jo Pasal 106 ayat (6) | G103: DD1671XR | H103: 20|STNK | I103: F7762130 | J103: 199000 | K103: 1000
A104: 100 | B104: 427 | C104: 1723 | D104: SRIWAHYUNI | E104: BONTONOMPO GOWA | F104: 1 pasal : Pasal 287 ayat (1) jo Pasal 106 ayat (4) huruf a dan Pasal 106 ayat (4) huruf b | G104: DD2746YT | H104: 10|SIM C | I104: F7762134 | J104: 99000 | K104: 1000
A105: 101 | B105: 428 | C105: 1724 | D105: MIFTAHULJANNAH | E105: JL TENTARA PELAJAR | F105: 1 pasal : Pasal 287 ayat (1) jo Pasal 106 ayat (4) huruf a dan Pasal 106 ayat (4) huruf b | G105: DP2999UQ | H105: 10|SIM C | I105: F7762245 | J105: 39000 | K105: 1000
A106: 102 | B106: 429 | C106: 1725 | D106: ANNISA NURUL | E106: JAKARTA PUSAT | F106: 1 pasal : Pasal 288 ayat (1) jo Pasal 106 ayat (5) huruf a | G106: DD1305PR | H106: 11|SIM A | I106: F7761590 | J106: 174000 | K106: 1000
A107: 103 | B107: 430 | C107: 1726 | D107: ARFIAN | E107: JL INSPEKSI KANAL | F107: 1 pasal : Pasal 287 ayat (2) jo Pasal 106 ayat (4) huruf c | G107: DD1530VD | H107: 20|STNK | I107: F7762183 | J107: 149000 | K107: 1000
A108: 104 | B108: 431 | C108: 1727 | D108: INDAH | E108: MAKASSAR | F108: 1 pasal : Pasal 287 ayat (1) jo Pasal 106 ayat (4) huruf a | G108: DD1449XF | H108: 20|STNK | I108: F7762238 | J108: 149000 | K108: 1000
A109: 105 | B109: 432 | C109: 1728 | D109: TIADI | E109: BPH | F109: 1 pasal : Pasal 287 ayat (1) jo Pasal 106 ayat (4) huruf a | G109: DD1230XF | H109: 20|STNK | I109: F7761936 | J109: 149000 | K109: 1000
A110: 106 | B110: 433 | C110: 1729 | D110: HAMDIAWAN | E110: JL BAJI PAMAI | F110: 1 pasal : Pasal 287 ayat (1) jo Pasal 106 ayat (4) huruf a dan Pasal 106 ayat (4) huruf b | G110: DD1144ZZ | H110: 20|STNK | I110: F7762232 | J110: 39000 | K110: 1000
A111: 107 | B111: 434 | C111: 1730 | D111: AMAR | E111: MAKASSAR | F111: 1 pasal : Pasal 287 ayat (2) jo Pasal 106 ayat (4) huruf c | G111: DW1125AF | H111: 20|STNK | I111: F7761720 | J111: 149000 | K111: 1000
A112: 108 | B112: 435 | C112: 1731 | D112: CRAMELADO | E112: JL SUNGAI PAREMAN | F112: 1 pasal : Pasal 287 ayat (1) jo Pasal 106 ayat (4) huruf a | G112: DD171JW | H112: 20|STNK | I112: F7762181 | J112: 149000 | K112: 1000
A113: 109 | B113: 436 | C113: 1732 | D113: FADIL | E113: GOWA | F113: 1 pasal : Pasal 285 ayat (1) Jo Pasal 106 ayat (3) | G113: DD4453YP | H113: 20|STNK | I113: F7762071 | J113: 39000 | K113: 1000
A114: 110 | B114: 437 | C114: 1733 | D114: ANDI AKBAR | E114: JL KETIMUN | F114: 1 pasal : Pasal 287 ayat (1) jo Pasal 106 ayat (4) huruf a dan Pasal 106 ayat (4) huruf b | G114: DD8807 | H114: 11|SIM A | I114: F7761122 | J114: 149000 | K114: 1000
...

Sheet Lap. Bulan 6
A1: LAPORAN PERKARA LALU LINTAS (TILANG) / PERKARA PIDANA CEPAT (TIPIRING)
A2: BULAN JUNI 2021
A4: NO. | B4: TANGGAL SIDANG | C4: NO. PERKARA | F4: KESATUAN | J4: JUMLAH BERKAS | K4: JUMLAH DENDA | L4: JUMLAH BIAYA PERKARA | M4: KET. BEBAS | N4: HAKIM | O4: PANITERA PENGGANTI | P4: TGL PENYERAHAN KEJAKSAAN
F6: A | G6: B | H6: C | I6: D
A7: 1 | B7: 44351 | C7: =SUM('Tgl. 04.06.2021'!C5) -> 1843 | D7: S/D | E7: =SUM('Tgl. 04.06.2021'!C63) -> 1894 | F7: ='Tgl. 04.06.2021'!A52 -> 48 | G7: 0 | H7: ='Tgl. 04.06.2021'!A63 -> 4 | I7: 0 | J7: =SUM(F7:I7) -> 52 | K7: =SUM('Tgl. 04.06.2021'!L65) -> 7773000 | L7: =SUM(J7*1000)-(M7*1000) -> 52000 | M7: 0 | N7: YASRI,S.H.,M.H. | O7: SUDARMONO,S.H. | P7: 44351
A8: 2 | B8: 44358 | C8: =SUM('Tgl. 11.06.2021'!C5) -> 1895 | D8: S/D | E8: =SUM('Tgl. 11.06.2021'!C170) -> 2045 | F8: ='Tgl. 11.06.2021'!A140 -> 136 | G8: ='Tgl. 11.06.2021'!A161 -> 13 | H8: ='Tgl. 11.06.2021'!A170 -> 2 | I8: 0 | J8: =SUM(F8:I8) -> 151 | K8: =SUM('Tgl. 11.06.2021'!L172) -> 22879000 | L8: =SUM(J8*1000)-(M8*1000) -> 151000 | M8: 0 | N8: ACHMAD RASYID,S.H.,M.H. | O8: NURMALA GITA SARI,S.H.,M.H. | P8: 44358
A9: 3 | B9: 44365 | C9: =SUM('Tgl. 18.06.2021'!C5) -> 2046 | D9: S/D | E9: =SUM('Tgl. 18.06.2021'!C201) -> 2228 | F9: ='Tgl. 18.06.2021'!A154 -> 150 | G9: ='Tgl. 18.06.2021'!A186 -> 25 | H9: ='Tgl. 18.06.2021'!A201 -> 8 | I9: 0 | J9: =SUM(F9:I9) -> 183 | K9: =SUM('Tgl. 18.06.2021'!L203) -> 27647000 | L9: =SUM(J9*1000)-(M9*1000) -> 183000 | M9: 0 | N9: YASRI,S.H.,M.H. | O9: ANDI HAJERAWATI,S.H. | P9: 44365
A10: 4 | B10: 44372 | C10: =SUM('Tgl. 25.06.2021'!C5) -> 2229 | D10: S/D | E10: =SUM('Tgl. 25.06.2021'!C205) -> 2408 | F10: ='Tgl. 25.06.2021'!A151 -> 147 | G10: ='Tgl. 25.06.2021'!A183 -> 25 | H10: ='Tgl. 25.06.2021'!A196 -> 6 | I10: ='Tgl. 25.06.2021'!A205 -> 2 | J10: =SUM(F10:I10) -> 180 | K10: =SUM('Tgl. 25.06.2021'!M207) -> 23660000 | L10: =SUM(J10*1000)-(M10*1000) -> 180000 | M10: 0 | N10: YASRI, S.H. | O10: FAISAL MUSTAFA,S.H. | P10: 44372
A11: JUMLAH KESELURUHAN : | F11: =SUM(F7:F10) -> 481 | G11: =SUM(G7:G10) -> 63 | H11: =SUM(H7:H10) -> 20 | I11: =SUM(I7:I10) -> 2 | J11: =SUM(J7:J10) -> 566 | K11: =SUM(K7:K10) -> 81959000 | L11: =SUM(L7:L10) -> 566000 | M11: =SUM(M7:M10) -> 0
A12: KETERANGAN :
A13: A= POLRESTABES | E13: C= PJR
A14: B= PELABUHAN | E14: D= DITLANTAS
A16: TIPIRING | C16: : | D16: 1 BERKAS

Sheet Tgl. 04.06.2021
A1: PENGADILAN NEGERI MAKASSAR
A2: TANGGAL 04.06.2021
D3: P O L R E S T A B E S
A4: NO. | B4: NO. BULAN | C4: NO. REG | D4: NAMA TERDAKWA/ TERPIDANA | E4: ALAMAT TERDAKWA/ TERPIDANA | F4: PASAL YANG DILANGGAR | G4: NO. POLISI | H4: BARANG BUKTI | I4: NO. TILANG | J4: DENDA | K4: ONGKOS PERKARA
A5: 1 | B5: 1 | C5: 1843 | D5: USMAN | F5: 1 pasal : Pasal 289 jo Pasal 106 ayat (6) | G5: DD1736SK | H5: 20|STNK | I5: F7763092 | J5: 249000 | K5: 1000
A6: 2 | B6: 2 | C6: 1844 | D6: ANDI RAFI GUSFI PRATAMA | F6: 1 pasal : Pasal 289 jo Pasal 106 ayat (6) | G6: DD1195MH | H6: 20|STNK | I6: F7763091 | J6: 249000 | K6: 1000
A7: 3 | B7: 3 | C7: 1845 | D7: HILMAN OEI | F7: 1 pasal : Pasal 289 jo Pasal 106 ayat (6) | G7: DD1720IB | H7: 20|STNK | I7: F7763094 | J7: 249000 | K7: 1000
A8: 4 | B8: 4 | C8: 1846 | D8: SUKIRMAN | F8: 1 pasal : Pasal 289 jo Pasal 106 ayat (6) | G8: DD1531YD | H8: 20|STNK | I8: F7763089 | J8: 249000 | K8: 1000
A9: 5 | B9: 5 | C9: 1847 | D9: MARLINA DJAFAR | E9: JL.KORBAN 40.000 NO.57, RT : 5/3, WALA-WALAYA, TALLO, KOTA MAKASSAR, SULAWESI SELATAN | F9: 1 pasal : Pasal 289 jo Pasal 106 ayat (6) | G9: DD1387SH | H9: 20|STNK | I9: F7763093 | J9: 249000 | K9: 1000
A10: 6 | B10: 6 | C10: 1848 | D10: KADIR HALID | F10: 1 pasal : Pasal 289 jo Pasal 106 ayat (6) | G10: DD1596SN | H10: 20|STNK | I10: F7763097 | J10: 249000 | K10: 1000
A11: 7 | B11: 7 | C11: 1849 | D11: SIMON MANGNGI | F11: 1 pasal : Pasal 289 jo Pasal 106 ayat (6) | G11: DD1701RK | H11: 20|STNK | I11: F7763096 | J11: 249000 | K11: 1000
A12: 8 | B12: 8 | C12: 1850 | D12: YASMIN. STP | F12: 1 pasal : Pasal 289 jo Pasal 106 ayat (6) | G12: DD1720MO | H12: 20|STNK | I12: F7763095 | J12: 249000 | K12: 1000
A13: 9 | B13: 9 | C13: 1851 | D13: RUDI WIJAYA | F13: 1 pasal : Pasal 289 jo Pasal 106 ayat (6) | G13: DD1363RD | H13: 20|STNK | I13: F7763090 | J13: 249000 | K13: 1000
A14: 10 | B14: 10 | C14: 1852 | D14: HENDRA ZHAISAR RUSLI | F14: 1 pasal : Pasal 289 jo Pasal 106 ayat (6) | G14: DD1809SO | H14: 20|STNK | I14: F7763088 | J14: 249000 | K14: 1000
A15: 11 | B15: 11 | C15: 1853 | D15: NURFADILAH HASANUDDIN | F15: 1 pasal : Pasal 289 jo Pasal 106 ayat (6) | G15: DD1449V | H15: 20|STNK | I15: F7763087 | J15: 249000 | K15: 1000
A16: 12 | B16: 12 | C16: 1854 | D16: MUH DARMAWAN | E16: CAMBAYA TAKALAR | F16: 1 pasal : Pasal 287 ayat (1) jo Pasal 106 ayat (4) huruf a | G16: DD4589CY | H16: 20|STNK | I16: F7762255 | J16: 99000 | K16: 1000
A17: 13 | B17: 13 | C17: 1855 | D17: M IRWAN | E17: MAKASSAR | F17: 1 pasal : Pasal 287 ayat (1) jo Pasal 106 ayat (4) huruf a | G17: DD6701YG | H17: 20|STNK | I17: F7762311 | J17: 99000 | K17: 1000
A18: 14 | B18: 14 | C18: 1856 | D18: JAHRUL RAMADHAN | E18: MAKASSAR | F18: 1 pasal : Pasal 287 ayat (1) jo Pasal 106 ayat (4) huruf a | G18: DD6424NW | H18: 20|STNK | I18: F7761867 | J18: 49000 | K18: 1000
A19: 15 | B19: 15 | C19: 1857 | D19: RESKY | E19: JL IR SUTAMI | F19: 1 pasal : Pasal 291 ayat (1) Jo Pasal 106 ayat (8) | G19: DD4798VD | H19: 20|STNK | I19: F7762048 | J19: 149000 | K19: 1000
A20: 16 | B20: 16 | C20: 1858 | D20: DEDY ANDRIANTO | E20: JL RAPPOCINI | F20: 1 pasal : Pasal 287 ayat (1) jo Pasal 106 ayat (4) huruf a | G20: DD5922RA | H20: 20|STNK | I20: F7762356 | J20: 49000 | K20: 1000
A21: 17 | B21: 17 | C21: 1859 | D21: MELATI | E21: SKARDA | F21: 1 pasal : Pasal 287 ayat (1) jo Pasal 106 ayat (4) huruf a | G21: DP5114TD | H21: 20|STNK | I21: F7762254 | J21: 99000 | K21: 1000
A22: 18 | B22: 18 | C22: 1860 | D22: MASTANNING | E22: JL ST ALAUDDIN | F22: 1 pasal : Pasal 287 ayat (1) jo Pasal 106 ayat (4) huruf a | G22: DD4471KI | H22: 20|STNK | I22: F7762251 | J22: 99000 | K22: 1000
A23: 19 | B23: 19 | C23: 1861 | D23: MUH ASWAR | E23: JL TEUKU UMAR | F23: 1 pasal : Pasal 287 ayat (1) jo Pasal 106 ayat (4) huruf a | G23: DD3453AT | H23: 20|STNK | I23: F7762253 | J23: 49000 | K23: 1000
A24: 20 | B24: 20 | C24: 1862 | D24: RACHMAT HIDAYAT | E24: BTN MINASA UPA | F24: 1 pasal : Pasal 287 ayat (1) jo Pasal 106 ayat (4) huruf a | G24: DD2317KC | H24: 10|SIM C | I24: F7762252 | J24: 149000 | K24: 1000
A25: 21 | B25: 21 | C25: 1863 | D25: SAFAR | E25: JL AB LAMBOGO | F25: 1 pasal : Pasal 287 ayat (1) jo Pasal 106 ayat (4) huruf a | G25: DD6966NU | H25: 20|STNK | I25: F7762146 | J25: 149000 | K25: 1000
A26: 22 | B26: 22 | C26: 1864 | D26: MARYATI | E26: GOWA | F26: 1 pasal : Pasal 287 ayat (1) jo Pasal 106 ayat (4) huruf a | G26: DD8480BZ | H26: 20|STNK | I26: F7762375 | J26: 149000 | K26: 1000
A27: 23 | B27: 23 | C27: 1865 | D27: MUHAMMAD ARIF | E27: SOPPENG | F27: 1 pasal : Pasal 287 ayat (1) jo Pasal 106 ayat (4) huruf a | G27: DW5096CA | H27: 20|STNK | I27: F7762276 | J27: 49000 | K27: 1000
... A50: 46 | B50: 46 | C50: 1888 | D50: MUH.NURHALIM | E50: TAKALAR | F50: 1 pasal : Pasal 291 ayat (2) Jo Pasal 106 ayat (8) | G50: DD6338XX | H50: 10|SIM C | I50: F7762334 | J50: 149000 | K50: 1000
A51: 47 | B51: 47 | C51: 1889 | D51: FATIN | F51: 1 pasal : Pasal 288 ayat (2) jo Pasal 106 ayat (5) huruf b | G51: KT5592YO | H51: 40|KENDARAAN | I51: F7762309 | J51: 249000 | K51: 1000
A52: 48 | B52: 48 | C52: 1890 | D52: EKA PRA SETIAWAN | E52: MAKASSAR | F52: 1 pasal : Pasal 287 ayat (1) jo Pasal 106 ayat (4) huruf a | G52: DD1346ER | H52: 20|STNK | I52: F7762402 | J52: 249000 | K52: 1000
L53: =SUM(J5:J52) -> 7177000 | M53: =SUM(K5:K52) -> 48000
A56: PENGADILAN NEGERI MAKASSAR
A57: TANGGAL 04.06.2021
D58: P J R
A59: NO. | B59: NO. BULAN | C59: NO. REG | D59: NAMA TERDAKWA/ TERPIDANA | E59: ALAMAT TERDAKWA/ TERPIDANA | F59: PASAL YANG DILANGGAR | G59: NO. POLISI | H59: BARANG BUKTI | I59: NO. TILANG | J59: DENDA | K59: ONGKOS PERKARA
A60: 1 | B60: 49 | C60: 1891 | D60: ANTO | E60: KAB MAROS | F60: 288 Ayat (1) | G60: DD8435DJ | H60: 20|STNK | I60: E7763281 | J60: 149000 | K60: 1000
A61: 2 | B61: 50 | C61: 1892 | D61: ANDI ASHADI.A | E61: JL.KABILA TMR NO.1 MKS | F61: 288 Ayat (1) | G61: DN384MW | H61: 11|SIM A | I61: E7763282 | J61: 149000 | K61: 1000
A62: 3 | B62: 51 | C62: 1893 | D62: AMIRULLAH,SE | E62: TANETE RIAJA BARRU | F62: 288 Ayat(1) | G62: DT1452OB | H62: 11|SIM A | I62: E7763283 | J62: 149000 | K62: 1000
A63: 4 | B63: 52 | C63: 1894 | D63: M.KAMAL | E63: JL.KUBIS MKS | F63: 288 Ayat (2) | G63: DD1033BQ | H63: 20|STNK | I63: E7763284 | J63: 149000 | K63: 1000
L64: =SUM(J60:J63) -> 596000 | M64: =SUM(K60:K63) -> 4000
J65: T O T A L | L65: =SUM(L53:L64) -> 7773000 | M65: =SUM(M53:M64) -> 52000

Sheet Tgl. 11.06.2021
A1: PENGADILAN NEGERI MAKASSAR
A2: TANGGAL 11.06.2021
D3: P O L R E S T A B E S
A4: NO. | B4: NO. BULAN | C4: NO. REG | D4: NAMA TERDAKWA/ TERPIDANA | E4: ALAMAT TERDAKWA/ TERPIDANA | F4: PASAL YANG DILANGGAR | G4: NO. POLISI | H4: BARANG BUKTI | I4: NO. TILANG | J4: DENDA | K4: ONGKOS PERKARA
A5: 1 | B5: 53 | C5: 1895 | D5: NURLINDAH IBRAHIM | F5: 1 pasal : Pasal 289 jo Pasal 106 ayat (6) | G5: DD1637QN | H5: 20|STNK | I5: F7763138 | J5: 249000 | K5: 1000
A6: 2 | B6: 54 | C6: 1896 | D6: MUSTARI | F6: 1 pasal : Pasal 289 jo Pasal 106 ayat (6) | G6: DD1851UM | H6: 20|STNK | I6: F7763137 | J6: 249000 | K6: 1000
A7: 3 | B7: 55 | C7: 1897 | D7: PT. METTA MAKASSAR JAYAABADI | F7: 1 pasal : Pasal 289 jo Pasal 106 ayat (6) | G7: DD1188TS | H7: 20|STNK | I7: F7763136 | J7: 249000 | K7: 1000
A8: 4 | B8: 56 | C8: 1898 | D8: AMANG ADAMA | F8: 1 pasal : Pasal 289 jo Pasal 106 ayat (6) | G8: DD377AP | H8: 20|STNK | I8: F7763135 | J8: 249000 | K8: 1000
A9: 5 | B9: 57 | C9: 1899 | D9: LILY MARWI | F9: 1 pasal : Pasal 289 jo Pasal 106 ayat (6) | G9: DD1158QL | H9: 20|STNK | I9: F7763132 | J9: 249000 | K9: 1000
A10: 6 | B10: 58 | C10: 1900 | D10: ABD RAHIM | F10: 1 pasal : Pasal 289 jo Pasal 106 ayat (6) | G10: DD1639UC | H10: 20|STNK | I10: F7763130 | J10: 249000 | K10: 1000
A11: 7 | B11: 59 | C11: 1901 | D11: JAMES WILLIAM OEI | F11: 1 pasal : Pasal 289 jo Pasal 106 ayat (6) | G11: DD1430QZ | H11: 20|STNK | I11: F7763129 | J11: 249000 | K11: 1000
A12: 8 | B12: 60 | C12: 1902 | D12: SAPRIADI DG MALLI | F12: 1 pasal : Pasal 289 jo Pasal 106 ayat (6) | G12: DD1580KR | H12: 20|STNK | I12: F7763127 | J12: 249000 | K12: 1000
A13: 9 | B13: 61 | C13: 1903 | D13: NURHAYATI | F13: 1 pasal : Pasal 289 jo Pasal 106 ayat (6) | G13: DD1521KJ | H13: 20|STNK | I13: F7763125 | J13: 249000 | K13: 1000
A14: 10 | B14: 62 | C14: 1904 | D14: IRWAN RAHIM | F14: 1 pasal : Pasal 289 jo Pasal 106 ayat (6) | G14: DD1781QF | H14: 20|STNK | I14: F7763124 | J14: 249000 | K14: 1000
A15: 11 | B15: 63 | C15: 1905 | D15: HERMAN | F15: 1 pasal : Pasal 289 jo Pasal 106 ayat (6) | G15: DD1236RJ | H15: 20|STNK | I15: F7763123 | J15: 249000 | K15: 1000
A16: 12 | B16: 64 | C16: 1906 | D16: NOVITA SUCI RAMDHANI RUSLI | F16: 1 pasal : Pasal 289 jo Pasal 106 ayat (6) | G16: DD1502RA | H16: 20|STNK | I16: F7763122 | J16: 249000 | K16: 1000
A17: 13 | B17: 65 | C17: 1907 | D17: ARISMAN | F17: 1 pasal : Pasal 289 jo Pasal 106 ayat (6) | G17: DD1654VG | H17: 20|STNK | I17: F7763120 | J17: 249000 | K17: 1000
A18: 14 | B18: 66 | C18: 1908 | D18: SANDORA | E18: JL.ST ALAUDDIN K.KODAM VII WRB, RT : 1/2, MANNURUKI, TAMALATE, KOTA MAKASSAR, SULAWESI SELATAN | F18: 1 pasal : Pasal 289 jo Pasal 106 ayat (6) | G18: DD1021RE | H18: 20|STNK | I18: F7763119 | J18: 249000 | K18: 1000
A19: 15 | B19: 67 | C19: 1909 | D19: EDMAN | F19: 1 pasal : Pasal 289 jo Pasal 106 ayat (6) | G19: DD1819RG | H19: 20|STNK | I19: F7763118 | J19: 249000 | K19: 1000
A20: 16 | B20: 68 | C20: 1910 | D20: GLENN ANTONIO FAIHU | F20: 1 pasal : Pasal 289 jo Pasal 106 ayat (6) | G20: DD1625QE | H20: 20|STNK | I20: F7763117 | J20: 249000 | K20: 1000
A21: 17 | B21: 69 | C21: 1911 | D21: JUWITA SIMATUPANG | F21: 1 pasal : Pasal 289 jo Pasal 106 ayat (6) | G21: DD1231SB | H21: 20|STNK | I21: F7763116 | J21: 249000 | K21: 1000
A22: 18 | B22: 70 | C22: 1912 | D22: JOHANN TARRU | F22: 1 pasal : Pasal 289 jo Pasal 106 ayat (6) | G22: DD1947UD | H22: 20|STNK | I22: F7763115 | J22: 249000 | K22: 1000
A23: 19 | B23: 71 | C23: 1913 | D23: NURLAELY RAZAK, S.SOS, MM. | F23: 1 pasal : Pasal 289 jo Pasal 106 ayat (6) | G23: DD1513SS | H23: 20|STNK | I23: F7763113 | J23: 249000 | K23: 1000
A24: 20 | B24: 72 | C24: 1914 | D24: ANUGRAH FAISAL | F24: 1 pasal : Pasal 289 jo Pasal 106 ayat (6) | G24: DD1458XI | H24: 20|STNK | I24: F7763112 | J24: 249000 | K24: 1000
A25: 21 | B25: 73 | C25: 1915 | D25: MUHAMMAD ANWAR HADI | F25: 1 pasal : Pasal 289 jo Pasal 106 ayat (6) | G25: DD1390QJ | H25: 20|STNK | I25: F7763111 | J25: 249000 | K25: 1000
A26: 22 | B26: 74 | C26: 1916 | D26: STEVEN THUNGADI | F26: 1 pasal : Pasal 289 jo Pasal 106 ayat (6) | G26: DD288KV | H26: 20|STNK | I26: F7763110 | J26: 249000 | K26: 1000
A27: 23 | B27: 75 | C27: 1917 | D27: JEFRI CHANORY | F27: 1 pasal : Pasal 289 jo Pasal 106 ayat (6) | G27: DD1858KN | H27: 20|STNK | I27: F7763109 | J27: 249000 | K27: 1000
A28: 24 | B28: 76 | C28: 1918 | D28: AGUSTINI | F28: 1 pasal : Pasal 289 jo Pasal 106 ayat (6) | G28: DD111JY | H28: 20|STNK | I28: F7763108 | J28: 249000 | K28: 1000
A29: 25 | B29: 77 | C29: 1919 | D29: SYAHRIR ALAM (SYAHRIR SALAM) | E29: JL PK 1 KM 8 PURI ASRI RAYA NO 6, RT : 3/10, TAMALANREA INDAH, TAMALANREA, KOTA MAKASSAR, SULAWESI SELATAN | F29: 1 pasal : Pasal 289 jo Pasal 106 ayat (6) | G29: DD1279XK | H29: 20|STNK | I29: F7763106 | J29: 249000 | K29: 1000
