Workbook

Sheet Lap. Bulan 1 
A1: LAPORAN PERKARA LALU LINTAS (TILANG) / PERKARA PIDANA CEPAT (TIPIRING)
A2: BULAN JANUARI 2021
A4: NO. | B4: TANGGAL SIDANG | C4: NO. PERKARA | F4: KESATUAN | J4: JUMLAH BERKAS | K4: JUMLAH DENDA | L4: JUMLAH BIAYA PERKARA | M4: KET. BEBAS | N4: HAKIM | O4: PANITERA PENGGANTI | P4: TGL PENYERAHAN KEJAKSAAN
F6: A | G6: B | H6: C | I6: D
A7: 1 | B7: 44204 | C7: =SUM('Tgl. 08.01.2021'!C5) -> 1 | D7: S/D | E7: =SUM('Tgl. 08.01.2021'!C19) -> 15 | F7: 15 | G7: - | H7: - | I7: - | J7: =SUM(F7:I7) -> 15 | K7: =SUM('Tgl. 08.01.2021'!L21) -> 2785000 | L7: =SUM(J7*1000)-(M7*1000) -> 15000 | M7: 0 | N7: NI PUTU SRI INDAYANI,S.H.,M.H. | O7: ANDAYANI,S.H. | P7: 44204
A8: 2 | B8: 44211 | C8: =SUM('Tgl. 15.01.2021'!C5) -> 16 | D8: S/D | E8: =SUM('Tgl. 15.01.2021'!C12) -> 23 | F8: 8 | G8: - | H8: - | I8: - | J8: =SUM(F8:I8) -> 8 | K8: =SUM('Tgl. 15.01.2021'!L14) -> 1842000 | L8: =SUM(J8*1000)-(M8*1000) -> 8000 | M8: 0 | N8: M. YUSUF KARIM,S.H.,M.Hum | O8: BURHANUDDIN,S.H.,M.H. | P8: 44211
A9: 3 | B9: 44218 | C9: =SUM('Tgl. 22.01.2021'!C5) -> 24 | D9: S/D | E9: =SUM('Tgl. 22.01.2021'!C6) -> 25 | F9: 2 | G9: - | H9: - | I9: - | J9: =SUM(F9:I9) -> 2 | K9: =SUM('Tgl. 22.01.2021'!L8) -> 698000 | L9: =SUM(J9*1000)-(M9*1000) -> 2000 | M9: 0 | N9: RIYANTO ALOYSIUS,S.H.,M.H. | O9: ALID BURHAN,S.H. | P9: 44218
A10: 4 | B10: 44225 | C10: =SUM('Tgl. 29.01.2021'!C5) -> 26 | D10: S/D | E10: =SUM('Tgl. 29.01.2021'!C8) -> 29 | F10: 4 | G10: - | H10: - | I10: - | J10: =SUM(F10:I10) -> 4 | K10: =SUM('Tgl. 29.01.2021'!L10) -> 596000 | L10: =SUM(J10*1000)-(M10*1000) -> 4000 | M10: 0 | N10: RUSDIYANTO LOLEH,SH.,M.H. | O10: HJ. BONGKO DAENG | P10: 44225
A11: JUMLAH KESELURUHAN : | F11: =SUM(F7:F10) -> 29 | G11: =SUM(G7:G10) -> 0 | H11: =SUM(H7:H10) -> 0 | I11: =SUM(I7:I10) -> 0 | J11: =SUM(J7:J10) -> 29 | K11: =SUM(K7:K10) -> 5921000 | L11: =SUM(L7:L10) -> 29000 | M11: =SUM(M7:M10) -> 0
A12: KETERANGAN :
A13: A= POLRESTABES | E13: C= PJR
A14: B= PELABUHAN | E14: D= DITLANTAS
A16: TIPIRING | C16: : | D16: N I H I L

Sheet Tgl. 08.01.2021
A1: PENGADILAN NEGERI MAKASSAR
A2: TANGGAL 08.11.2021
D3: P O L R E S T A B E S
A4: NO. | B4: NO. BULAN | C4: NO. REG | D4: NAMA TERDAKWA/ TERPIDANA | E4: ALAMAT TERDAKWA/ TERPIDANA | F4: PASAL YANG DILANGGAR | G4: NO. POLISI | H4: BARANG BUKTI | I4: NO. TILANG | J4: DENDA | K4: ONGKOS PERKARA
A5: 1 | B5: 1 | C5: 1 | D5: ANDI AINUL | E5: BULUKUMBA | F5: 1 pasal : Pasal 297 | G5: DD6064ZZ | H5: 20|STNK | I5: F7760697 | J5: 249000 | K5: 1000
A6: 2 | B6: 2 | C6: 2 | D6: M PATIMBONG | E6: JL HARIMAU 77 | F6: 2 pasal : Pasal 288 ayat (2) jo Pasal 106 ayat (5) huruf b, Pasal 288 ayat (1) jo Pasal 106 ayat (5) huruf a | G6: DD--------- | H6: 40|KENDARAAN | I6: F7761180 | J6: 249000 | K6: 1000
A7: 3 | B7: 3 | C7: 3 | D7: NANDY WIJAYA | E7: BENTENG SOMBA OPU | F7: 1 pasal : Pasal 281 jo Pasal 77 ayat (1) | G7: DD2375XY | H7: 40|KENDARAAN | I7: F7761176 | J7: 249000 | K7: 1000
A8: 4 | B8: 4 | C8: 4 | D8: WAWAN | E8: BAROMBONG | F8: 2 pasal : Pasal 281 jo Pasal 77 ayat (1), Pasal 288 ayat (1) jo Pasal 106 ayat (5) huruf a | G8: DD3273CR | H8: 40|KENDARAAN | I8: F7761171 | J8: 249000 | K8: 1000
A9: 5 | B9: 5 | C9: 5 | D9: FIRMAN | E9: BAROMBONG | F9: 2 pasal : Pasal 288 ayat (2) jo Pasal 106 ayat (5) huruf b, Pasal 288 ayat (1) jo Pasal 106 ayat (5) huruf a | G9: DN5034KD | H9: 40|KENDARAAN | I9: F7760005 | J9: 149000 | K9: 1000
A10: 6 | B10: 6 | C10: 6 | D10: JAYA | E10: BULUKUMBA | F10: 1 pasal : Pasal 281 jo Pasal 77 ayat (1) | G10: DD4176SV | H10: 40|KENDARAAN | I10: F7760009 | J10: 149000 | K10: 1000
A11: 7 | B11: 7 | C11: 7 | D11: WAWAN | E11: BAROMBONG | F11: 2 pasal : Pasal 281 jo Pasal 77 ayat (1), Pasal 285 ayat (2) Jo Pasal 106 ayat (3) | G11: DD4097SD | H11: 40|KENDARAAN | I11: F7760007 | J11: 149000 | K11: 1000
A12: 8 | B12: 8 | C12: 8 | D12: M RAUL | E12: BULUKUMBA | F12: 2 pasal : Pasal 281 jo Pasal 77 ayat (1), Pasal 288 ayat (1) jo Pasal 106 ayat (5) huruf a | G12: DD6838VY | H12: 40|KENDARAAN | I12: F7760008 | J12: 149000 | K12: 1000
A13: 9 | B13: 9 | C13: 9 | D13: ZUL FADLI | E13: GOWA | F13: 2 pasal : Pasal 281 jo Pasal 77 ayat (1), Pasal 288 ayat (1) jo Pasal 106 ayat (5) huruf a | G13: DD6923YR | H13: 40|KENDARAAN | I13: F7760217 | J13: 149000 | K13: 1000
A14: 10 | B14: 10 | C14: 10 | D14: ISMAIL | E14: BAROMBONG GOWA | F14: 2 pasal : Pasal 288 ayat (2) jo Pasal 106 ayat (5) huruf b, Pasal 288 ayat (1) jo Pasal 106 ayat (5) huruf a | G14: DD3268YQ | H14: 40|KENDARAAN | I14: F7761178 | J14: 149000 | K14: 1000
A15: 11 | B15: 11 | C15: 11 | D15: ARDIANSYAH | E15: JL KARUWISI | F15: 2 pasal : Pasal 288 ayat (2) jo Pasal 106 ayat (5) huruf b, Pasal 288 ayat (1) jo Pasal 106 ayat (5) huruf a | G15: DD4389CH | H15: 40|KENDARAAN | I15: F7761179 | J15: 149000 | K15: 1000
A16: 12 | B16: 12 | C16: 12 | D16: NUR IKSAN | E16: BAROMBONG GOWA | F16: 2 pasal : Pasal 288 ayat (2) jo Pasal 106 ayat (5) huruf b, Pasal 288 ayat (1) jo Pasal 106 ayat (5) huruf a | G16: DD2971B | H16: 40|KENDARAAN | I16: F7761177 | J16: 149000 | K16: 1000
... A19: 15 | B19: 15 | C19: 15 | D19: M ALFANSURI | E19: BAROMBONG | F19: 1 pasal : Pasal 281 jo Pasal 77 ayat (1) | G19: DD4452YZ | H19: 40|KENDARAAN | I19: F7761173 | J19: 249000 | K19: 1000
L20: =SUM(J5:J19) -> 2785000 | M20: =SUM(K5:K19) -> 15000
J21: T O T A L | L21: =SUM(L20) -> 2785000 | M21: =SUM(M20) -> 15000
L1059: =SUM(#REF!) -> #REF! | M1059: =SUM(#REF!) -> #REF!
L1078: =SUM(#REF!) -> #REF! | M1078: =SUM(#REF!) -> #REF!
L1079: =SUM(L837:L1078) -> #REF! | M1079: =SUM(M837:M1078) -> #REF!

Sheet Tgl. 15.01.2021
A1: PENGADILAN NEGERI MAKASSAR
A2: TANGGAL 15.01.2021
D3: P O L R E S T A B E S
A4: NO. | B4: NO. BULAN | C4: NO. REG | D4: NAMA TERDAKWA/ TERPIDANA | E4: ALAMAT TERDAKWA/ TERPIDANA | F4: PASAL YANG DILANGGAR | G4: NO. POLISI | H4: BARANG BUKTI | I4: NO. TILANG | J4: DENDA | K4: ONGKOS PERKARA
A5: 1 | B5: 16 | C5: 16 | D5: MULYADI | E5: MONCONG LOE | F5: 2 pasal : Pasal 288 ayat (2) jo Pasal 106 ayat (5) huruf b, Pasal 288 ayat (1) jo Pasal 106 ayat (5) huruf a | G5: DD6780KN | H5: 40|KENDARAAN | I5: F7761044 | J5: 249000 | K5: 1000
A6: 2 | B6: 17 | C6: 17 | D6: HASAN | E6: JL BONTO DURI | F6: 2 pasal : Pasal 281 jo Pasal 77 ayat (1), Pasal 288 ayat (1) jo Pasal 106 ayat (5) huruf a | G6: DD3244PL | H6: 40|KENDARAAN | I6: F7761041 | J6: 199000 | K6: 1000
A7: 3 | B7: 18 | C7: 18 | D7: YUMSAR | E7: GOWA | F7: 2 pasal : Pasal 281 jo Pasal 77 ayat (1), Pasal 288 ayat (1) jo Pasal 106 ayat (5) huruf a | G7: DP4875HP | H7: 40|KENDARAAN | I7: F7757205 | J7: 249000 | K7: 1000
A8: 4 | B8: 19 | C8: 19 | D8: ISMAIL | E8: JL RAPPOKALLING | F8: 2 pasal : Pasal 281 jo Pasal 77 ayat (1), Pasal 288 ayat (1) jo Pasal 106 ayat (5) huruf a | G8: DD----------- | H8: 40|KENDARAAN | I8: F7761043 | J8: 249000 | K8: 1000
A9: 5 | B9: 20 | C9: 20 | D9: ANDI RENALDI | E9: DAYA, MANGGA TIGA | F9: 1 pasal : Pasal 297 | G9: DD----------- | H9: 40|KENDARAAN | I9: F7760953 | J9: 199000 | K9: 1000
A10: 6 | B10: 21 | C10: 21 | D10: ANUGRAH SAPUTRA | E10: ABLAM | F10: 2 pasal : Pasal 281 jo Pasal 77 ayat (1), Pasal 285 ayat (2) Jo Pasal 106 ayat (3) | G10: DD4626MT | H10: 40|KENDARAAN | I10: F7760465 | J10: 199000 | K10: 1000
A11: 7 | B11: 22 | C11: 22 | D11: M SAPUTRA | E11: JENE TALLASA | F11: 2 pasal : Pasal 281 jo Pasal 77 ayat (1), Pasal 288 ayat (1) jo Pasal 106 ayat (5) huruf a | G11: DD2073IS | H11: 40|KENDARAAN | I11: F7761042 | J11: 249000 | K11: 1000
A12: 8 | B12: 23 | C12: 23 | D12: PANDI | E12: BTP BLOK 4 | F12: 2 pasal : Pasal 288 ayat (2) jo Pasal 106 ayat (5) huruf b, Pasal 288 ayat (1) jo Pasal 106 ayat (5) huruf a | G12: DD2018UB | H12: 40|KENDARAAN | I12: F7760952 | J12: 249000 | K12: 1000
L13: =SUM(J5:J12) -> 1842000 | M13: =SUM(K5:K12) -> 8000
J14: T O T A L | L14: =SUM(L13) -> 1842000 | M14: =SUM(M13) -> 8000

Sheet Tgl. 22.01.2021
A1: PENGADILAN NEGERI MAKASSAR
A2: TANGGAL 22.01.2021
D3: P O L R E S T A B E S
A4: NO. | B4: NO. BULAN | C4: NO. REG | D4: NAMA TERDAKWA/ TERPIDANA | E4: ALAMAT TERDAKWA/ TERPIDANA | F4: PASAL YANG DILANGGAR | G4: NO. POLISI | H4: BARANG BUKTI | I4: NO. TILANG | J4: DENDA | K4: ONGKOS PERKARA
A5: 1 | B5: 24 | C5: 24 | D5: ASRUL | E5: JENEPONTO | F5: 2 pasal : Pasal 288 ayat (1) jo Pasal 106 ayat (5) huruf a,Pasal 288 ayat (2) jo Pasal 106 ayat (5) huruf b | G5: DD1421LC | H5: 40|KENDARAAN | I5: F7760835 | J5: 349000 | K5: 1000
A6: 2 | B6: 25 | C6: 25 | D6: ASMAR | E6: BTN WIDYA | F6: 1 pasal : Pasal 285 ayat (2) Jo Pasal 106 ayat (3) Jo Pasal 48 ayat (2) | G6: DD1939RN | H6: 40|KENDARAAN | I6: F7761175 | J6: 349000 | K6: 1000
L7: =SUM(J5:J6) -> 698000 | M7: =SUM(K5:K6) -> 2000
J8: T O T A L | L8: =SUM(L7) -> 698000 | M8: =SUM(M7) -> 2000

Sheet Tgl. 29.01.2021
A1: PENGADILAN NEGERI MAKASSAR
A2: TANGGAL 29.01.2021
D3: P O L R E S T A B E S
A4: NO. | B4: NO. BULAN | C4: NO. REG | D4: NAMA TERDAKWA/ TERPIDANA | E4: ALAMAT TERDAKWA/ TERPIDANA | F4: PASAL YANG DILANGGAR | G4: NO. POLISI | H4: BARANG BUKTI | I4: NO. TILANG | J4: DENDA | K4: ONGKOS PERKARA
A5: 1 | B5: 26 | C5: 26 | D5: MUH IKHSAN | E5: JL MNGERANGI | F5: 1 pasal : Pasal 281 jo Pasal 77 ayat (1) | G5: DD3980SL | H5: 20|STNK | I5: F7760870 | J5: 149000 | K5: 1000
A6: 2 | B6: 27 | C6: 27 | D6: ABDUL RAJAB | E6: JENEPONTO | F6: 1 pasal : Pasal 288 ayat (3) Jo Pasal 106 ayat (5) huruf c | G6: DD8487XX | H6: 11|SIM A | I6: F7760959 | J6: 149000 | K6: 1000
A7: 3 | B7: 28 | C7: 28 | D7: MUH REZA | E7: BTN ASABRI | F7: 2 pasal : Pasal 281 jo Pasal 77 ayat (1),Pasal 291 ayat (2) Jo Pasal 106 ayat (8) | G7: DD5827RW | H7: 20|STNK | I7: F7760527 | J7: 149000 | K7: 1000
A8: 4 | B8: 29 | C8: 29 | D8: AMANDA | F8: 2 pasal : Pasal 288 ayat (2) jo Pasal 106 ayat (5) huruf b,Pasal 291 ayat (2) Jo Pasal 106 ayat (8) | G8: DD5035KO | H8: 20|STNK | I8: F7760526 | J8: 149000 | K8: 1000
L9: =SUM(J5:J8) -> 596000 | M9: =SUM(K5:K8) -> 4000
J10: T O T A L | L10: =SUM(L9) -> 596000 | M10: =SUM(M9) -> 4000

Sheet Lap. Bulan 2 
A1: LAPORAN PERKARA LALU LINTAS (TILANG) / PERKARA PIDANA CEPAT (TIPIRING)
A2: BULAN FEBRUARI 2021
A4: NO. | B4: TANGGAL SIDANG | C4: NO. PERKARA | F4: KESATUAN | J4: JUMLAH BERKAS | K4: JUMLAH DENDA | L4: JUMLAH BIAYA PERKARA | M4: KET. BEBAS | N4: HAKIM | O4: PANITERA PENGGANTI | P4: TGL PENYERAHAN KEJAKSAAN
F6: A | G6: B | H6: C | I6: D
A7: 1 | B7: 44232 | C7: =SUM('Tgl. 05.02.2021'!C5) -> 30 | D7: S/D | E7: =SUM('Tgl. 05.02.2021'!C60) -> 85 | F7: 56 | G7: - | H7: - | I7: - | J7: =SUM(F7:I7) -> 56 | K7: =SUM('Tgl. 05.02.2021'!L62) -> 6744000 | L7: =SUM(J7*1000)-(M7*1000) -> 56000 | M7: 0 | N7: RIKA MONA PANDEGIROT,S.H.,M.H. | O7: SUGENG,S.H.,M.H. | P7: 44232
A8: 2 | B8: 44246 | C8: =SUM('Tgl. 19.02.2021'!C5) -> 86 | D8: S/D | E8: =SUM('Tgl. 19.02.2021'!C188) -> 269 | F8: 184 | G8: - | H8: - | I8: - | J8: =SUM(F8:I8) -> 184 | K8: =SUM('Tgl. 19.02.2021'!L190) -> 28616000 | L8: =SUM(J8*1000)-(M8*1000) -> 184000 | M8: 0 | N8: DODDY HENDRASAKTI,S.H. | O8: BESSE MARWIYAWATI,S.H. | P8: 44246
A9: JUMLAH KESELURUHAN : | F9: =SUM(F7:F8) -> 240 | G9: =SUM(G7:G8) -> 0 | H9: =SUM(H7:H8) -> 0 | I9: =SUM(I7:I8) -> 0 | J9: =SUM(J7:J8) -> 240 | K9: =SUM(K7:K8) -> 35360000 | L9: =SUM(L7:L8) -> 240000 | M9: =SUM(M7:M8) -> 0
A10: KETERANGAN :
A11: A= POLRESTABES | E11: C= PJR
A12: B= PELABUHAN | E12: D= DITLANTAS
A14: TIPIRING | C14: : | D14: N I H I L

Sheet Tgl. 05.02.2021
A1: PENGADILAN NEGERI MAKASSAR
A2: TANGGAL 05.02.2021
D3: P O L R E S T A B E S
A4: NO. | B4: NO. BULAN | C4: NO. REG | D4: NAMA TERDAKWA/ TERPIDANA | E4: ALAMAT TERDAKWA/ TERPIDANA | F4: PASAL YANG DILANGGAR | G4: NO. POLISI | H4: BARANG BUKTI | I4: NO. TILANG | J4: DENDA | K4: ONGKOS PERKARA
A5: 1 | B5: 1 | C5: 30 | D5: ABDUL GANI | E5: JL BARUKANG | F5: 2 pasal : Pasal 281 jo Pasal 77 ayat (1),Pasal 291 ayat (1) Jo Pasal 106 ayat (8) | G5: DD6231KQ | H5: 20|STNK | I5: F7760921 | J5: 149000 | K5: 1000
A6: 2 | B6: 2 | C6: 31 | D6: MUH AKBAR | E6: DESA NELAYAN | F6: 1 pasal : Pasal 281 jo Pasal 77 ayat (1) | G6: DD2186VI | H6: 20|STNK | I6: F7760944 | J6: 174000 | K6: 1000
A7: 3 | B7: 3 | C7: 32 | D7: ANARI | E7: GALESONG | F7: 1 pasal : Pasal 281 jo Pasal 77 ayat (1) | G7: DD4201GT | H7: 20|STNK | I7: F7760937 | J7: 49000 | K7: 1000
A8: 4 | B8: 4 | C8: 33 | D8: ANDI HENDRA | E8: PERUM NUSA HARAPAN | F8: 2 pasal : Pasal 285 ayat (1) Jo Pasal 106 ayat (3),Pasal 287 ayat (1) jo Pasal 106 ayat (4) huruf a dan Pasal 106 ayat (4) huruf b | G8: DD6341SK | H8: 10|SIM C | I8: F7760923 | J8: 174000 | K8: 1000
A9: 5 | B9: 5 | C9: 34 | D9: MUH ADRIANTO | E9: JL. MUH JUFRI LR 4/6 | F9: 2 pasal : Pasal 287 ayat (1) jo Pasal 106 ayat (4) huruf a,Pasal 288 ayat (2) jo Pasal 106 ayat (5) huruf b | G9: DD6238QO | H9: 20|STNK | I9: F7761036 | J9: 49000 | K9: 1000
A10: 6 | B10: 6 | C10: 35 | D10: NOVI | E10: MAKASSAR | F10: 1 pasal : Pasal 287 ayat (1) jo Pasal 106 ayat (4) huruf a dan Pasal 106 ayat (4) huruf b | G10: DD6797MD | H10: 20|STNK | I10: F7761281 | J10: 99000 | K10: 1000
A11: 7 | B11: 7 | C11: 36 | D11: AYUB PANGGALONGAN | E11: JL SUNU | F11: 1 pasal : Pasal 287 ayat (1) jo Pasal 106 ayat (4) huruf a | G11: DD8574HD | H11: 12|SIM BI | I11: F7760545 | J11: 149000 | K11: 1000
A12: 8 | B12: 8 | C12: 37 | D12: HAMZAH | E12: JL ABLAM | F12: 1 pasal : Pasal 287 ayat (1) jo Pasal 106 ayat (4) huruf a | G12: DD8580XI | H12: 20|STNK | I12: F7760909 | J12: 174000 | K12: 1000
A13: 9 | B13: 9 | C13: 38 | D13: AKHIRUDDIN | E13: JL KIJANG | F13: 1 pasal : Pasal 287 ayat (1) jo Pasal 106 ayat (4) huruf a | G13: DD---------- | H13: 11|SIM A | I13: F7760762 | J13: 149000 | K13: 1000
A14: 10 | B14: 10 | C14: 39 | D14: WAHYU WANSARIANSYAH | E14: JL P KEMERDEKAAN | F14: 1 pasal : Pasal 287 ayat (1) jo Pasal 106 ayat (4) huruf a | G14: DB8419EY | H14: 12|SIM BI | I14: F7760910 | J14: 149000 | K14: 1000
A15: 11 | B15: 11 | C15: 40 | D15: RIZAL | E15: KAB SIDRAP | F15: 1 pasal : Pasal 288 ayat (1) jo Pasal 106 ayat (5) huruf a | G15: DP8911DG | H15: 11|SIM A | I15: F7760894 | J15: 149000 | K15: 1000
A16: 12 | B16: 12 | C16: 41 | D16: -- | E16: -- | F16: 2 pasal : Pasal 291 ayat (2) Jo Pasal 106 ayat (8),Pasal 281 jo Pasal 77 ayat (1) | G16: DP2590SN | H16: 20|STNK | I16: F7761040 | J16: 149000 | K16: 1000
... A35: 31 | B35: 31 | C35: 60 | D35: ANDI AFRIZAL | E35: JL DG TATA | F35: 1 pasal : Pasal 287 ayat (1) jo Pasal 106 ayat (4) huruf a | G35: DD3054KH | H35: 20|STNK | I35: F7760925 | J35: 49000 | K35: 1000
A36: 32 | B36: 32 | C36: 61 | D36: BATARI TAJUDDIN | F36: 1 pasal : Pasal 287 ayat (1) jo Pasal 106 ayat (4) huruf a dan Pasal 106 ayat (4) huruf b | G36: DD5254MB | H36: 10|SIM C | I36: F7760585 | J36: 99000 | K36: 1000
A37: 33 | B37: 33 | C37: 62 | D37: LUSIANA | F37: 1 pasal : Pasal 287 ayat (1) jo Pasal 106 ayat (4) huruf a dan Pasal 106 ayat (4) huruf b | G37: DD1672UM | H37: 20|STNK | I37: F7760584 | J37: 149000 | K37: 1000
A38: 34 | B38: 34 | C38: 63 | D38: FAJAR WAHYUDI | E38: JL KORBAN 40000 | F38: 2 pasal : Pasal 280 jo Pasal 68 ayat (1),Pasal 288 ayat (1) jo Pasal 106 ayat (5) huruf a | G38: DD2616QI | H38: 10|SIM C | I38: F7760926 | J38: 49000 | K38: 1000
A39: 35 | B39: 35 | C39: 64 | D39: YUSNIDAR SH | E39: JL KOMP BUDI DAYA | F39: 1 pasal : Pasal 287 ayat (1) jo Pasal 106 ayat (4) huruf a dan Pasal 106 ayat (4) huruf b | G39: DD4251XF | H39: 10|SIM C | I39: F7760084 | J39: 49000 | K39: 1000
A40: 36 | B40: 36 | C40: 65 | D40: ILHAM | E40: MAKASSAR | F40: 1 pasal : Pasal 287 ayat (1) jo Pasal 106 ayat (4) huruf a | G40: DD4063KS | H40: 20|STNK | I40: F7760940 | J40: 49000 | K40: 1000
A41: 37 | B41: 37 | C41: 66 | D41: RAFLIYADI | E41: PALLANGGA | F41: 1 pasal : Pasal 285 ayat (1) Jo Pasal 106 ayat (3) | G41: DD5440YN | H41: 20|STNK | I41: F7760938 | J41: 99000 | K41: 1000
A42: 38 | B42: 38 | C42: 67 | D42: WAJDAN NOER | E42: JL KANGKUNG | F42: 1 pasal : Pasal 287 ayat (1) jo Pasal 106 ayat (4) huruf a | G42: DD3657DF | H42: 20|STNK | I42: F7760939 | J42: 149000 | K42: 1000
A43: 39 | B43: 39 | C43: 68 | D43: ROSTINA | E43: GOWA | F43: 1 pasal : Pasal 291 ayat (1) Jo Pasal 106 ayat (8) | G43: DD---------- | H43: 10|SIM C | I43: F7761304 | J43: 99000 | K43: 1000
A44: 40 | B44: 40 | C44: 69 | D44: ANGGA | E44: JL KERUNG-KERUNG | F44: 1 pasal : Pasal 287 ayat (1) jo Pasal 106 ayat (4) huruf a | G44: DD8650HE | H44: 20|STNK | I44: F7761305 | J44: 199000 | K44: 1000
A45: 41 | B45: 41 | C45: 70 | D45: AHMAD RYADI | E45: JL TEUKU UMAR | F45: 1 pasal : Pasal 287 ayat (1) jo Pasal 106 ayat (4) huruf a | G45: DD---------- | H45: 10|SIM C | I45: F7761291 | J45: 99000 | K45: 1000
A46: 42 | B46: 42 | C46: 71 | D46: RANDANI | E46: MAKASSAR | F46: 1 pasal : Pasal 287 ayat (1) jo Pasal 106 ayat (4) huruf a | G46: DD6187YW | H46: 20|STNK | I46: F7761010 | J46: 99000 | K46: 1000
A47: 43 | B47: 43 | C47: 72 | D47: AHMAD FUAD FAQIH | E47: BTN TAMARUNANG | F47: 2 pasal : Pasal 281 jo Pasal 77 ayat (1),Pasal 291 ayat (2) Jo Pasal 106 ayat (8) | G47: DD4043KV | H47: 20|STNK | I47: F7760922 | J47: 149000 | K47: 1000
A48: 44 | B48: 44 | C48: 73 | D48: JAMALUDDIN | E48: GOWA | F48: 1 pasal : Pasal 287 ayat (1) jo Pasal 106 ayat (4) huruf a | G48: DD2129BW | H48: 20|STNK | I48: F7761285 | J48: 99000 | K48: 1000
A49: 45 | B49: 45 | C49: 74 | D49: WITRY | E49: JL BANGKALA DALAM | F49: 1 pasal : Pasal 287 ayat (1) jo Pasal 106 ayat (4) huruf a | G49: DD5463RZ | H49: 20|STNK | I49: F7760787 | J49: 149000 | K49: 1000
... A60: 56 | B60: 56 | C60: 85 | D60: NADA KURNIAWAN | E60: BTN ASABRI BLK F1/14 | F60: 1 pasal : Pasal 287 ayat (1) jo Pasal 106 ayat (4) huruf a | G60: DD4769TI | H60: 20|STNK | I60: F7761263 | J60: 49000 | K60: 1000
L61: =SUM(J5:J60) -> 6744000 | M61: =SUM(K5:K60) -> 56000
J62: T O T A L | L62: =SUM(L61) -> 6744000 | M62: =SUM(M61) -> 56000

Sheet Tgl. 19.02.2021
A1: PENGADILAN NEGERI MAKASSAR
A2: TANGGAL 19.02.2021
D3: P O L R E S T A B E S
A4: NO. | B4: NO. BULAN | C4: NO. REG | D4: NAMA TERDAKWA/ TERPIDANA | E4: ALAMAT TERDAKWA/ TERPIDANA | F4: PASAL YANG DILANGGAR | G4: NO. POLISI | H4: BARANG BUKTI | I4: NO. TILANG | J4: DENDA | K4: ONGKOS PERKARA
A5: 1 | B5: 57 | C5: 86 | D5: ANDI TENRI | E5: JL BORONG RAYA | F5: 1 pasal : Pasal 287 ayat (1) jo Pasal 106 ayat (4) huruf a | G5: DD3802RK | H5: 20|STNK | I5: F7759090 | J5: 99000 | K5: 1000
A6: 2 | B6: 58 | C6: 87 | D6: SADDANG | E6: MAKASSAR | F6: 1 pasal : Pasal 287 ayat (1) jo Pasal 106 ayat (4) huruf a | G6: DD3218SP | H6: 20|STNK | I6: F7760085 | J6: 99000 | K6: 1000
A7: 3 | B7: 59 | C7: 88 | D7: MARAMBI | E7: JL GUNUNG SARI | F7: 1 pasal : Pasal 287 ayat (3) jo Pasal 106 ayat (4) huruf e | G7: DD3567VE | H7: 20|STNK | I7: F7760995 | J7: 99000 | K7: 1000
A8: 4 | B8: 60 | C8: 89 | D8: WAHYU | E8: JL PANDANG | F8: 1 pasal : Pasal 291 ayat (2) Jo Pasal 106 ayat (8) | G8: DP6436TB | H8: 20|STNK | I8: F7757194 | J8: 49000 | K8: 1000
A9: 5 | B9: 61 | C9: 90 | D9: AHMAD | E9: JL [PONGTIKU | F9: 1 pasal : Pasal 287 ayat (1) jo Pasal 106 ayat (4) huruf a | G9: DD1436KK | H9: 20|STNK | I9: F7760994 | J9: 174000 | K9: 1000
A10: 6 | B10: 62 | C10: 91 | D10: ABD MALIK | E10: JL RAPPOCINI | F10: 2 pasal : Pasal 288 ayat (2) jo Pasal 106 ayat (5) huruf b,Pasal 291 ayat (2) Jo Pasal 106 ayat (8) | G10: DD5539SO | H10: 20|STNK | I10: F7761159 | J10: 149000 | K10: 1000
A11: 7 | B11: 63 | C11: 92 | D11: JUNITA ROH KAMAYA | E11: WAJO | F11: 1 pasal : Pasal 291 ayat (2) Jo Pasal 106 ayat (8) | G11: DD2613NA | H11: 10|SIM C | I11: F7761158 | J11: 99000 | K11: 1000
A12: 8 | B12: 64 | C12: 93 | D12: SUHESTI | E12: JL MAKKIO BAJI | F12: 2 pasal : Pasal 291 ayat (2) Jo Pasal 106 ayat (8),Pasal 292 Jo Pasal 106 ayat (9) | G12: DD6742HR | H12: 20|STNK | I12: F7761303 | J12: 49000 | K12: 1000
A13: 9 | B13: 65 | C13: 94 | D13: NUR AINI | E13: KAB LUWU TIMUR | F13: 2 pasal : Pasal 288 ayat (1) jo Pasal 106 ayat (5) huruf a,Pasal 292 Jo Pasal 106 ayat (9) | G13: DD4782OK | H13: 10|SIM C | I13: F7760789 | J13: 99000 | K13: 1000
A14: 10 | B14: 66 | C14: 95 | D14: SYAMSUL BASRI | E14: JL BIRING ROMANG | F14: 1 pasal : Pasal 287 ayat (1) jo Pasal 106 ayat (4) huruf a | G14: DD5976UF | H14: 10|SIM C | I14: F7760083 | J14: 49000 | K14: 1000
A15: 11 | B15: 67 | C15: 96 | D15: MUH YUSRAN | E15: TAKALAR | F15: 1 pasal : Pasal 287 ayat (1) jo Pasal 106 ayat (4) huruf a dan Pasal 106 ayat (4) huruf b | G15: DD6069SI | H15: 10|SIM C | I15: F7760788 | J15: 49000 | K15: 1000
A16: 12 | B16: 68 | C16: 97 | D16: ADINDRA GUNAWAN | E16: BTN BUMI SAMATA | F16: 1 pasal : Pasal 287 ayat (1) jo Pasal 106 ayat (4) huruf a dan Pasal 106 ayat (4) huruf b | G16: DD2158LN | H16: BLOKIR STNK | I16: E7888001 | J16: 149000 | K16: 1000
... A37: 33 | B37: 89 | C37: 118 | D37: DIAN ANDRIANI | E37: JL KENANGA | F37: 1 pasal : Pasal 287 ayat (1) jo Pasal 106 ayat (4) huruf a dan Pasal 106 ayat (4) huruf b | G37: DD2469AS | H37: BLOKIR STNK | I37: E7888022 | J37: 149000 | K37: 1000
A38: 34 | B38: 90 | C38: 119 | E38: MAKASSAR | F38: 1 pasal : Pasal 287 ayat (1) jo Pasal 106 ayat (4) huruf a dan Pasal 106 ayat (4) huruf b | G38: DD2494RQ | H38: BLOKIR STNK | I38: E7888023 | J38: 149000 | K38: 1000
A39: 35 | B39: 91 | C39: 120 | D39: JUMRIAH | E39: JL VETRAN UTARA LR 295 | F39: 1 pasal : Pasal 287 ayat (1) jo Pasal 106 ayat (4) huruf a dan Pasal 106 ayat (4) huruf b | G39: DD4237MC | H39: BLOKIR STNK | I39: E7888024 | J39: 149000 | K39: 1000
A40: 36 | B40: 92 | C40: 121 | D40: SUARDY | E40: JL BUTTA-BUTTA CADDI | F40: 1 pasal : Pasal 287 ayat (1) jo Pasal 106 ayat (4) huruf a dan Pasal 106 ayat (4) huruf b | G40: DD3624QZ | H40: BLOKIR STNK | I40: E7888025 | J40: 149000 | K40: 1000
A41: 37 | B41: 93 | C41: 122 | D41: AZRIANI AZIS | E41: JL KUMALA 2 | F41: 1 pasal : Pasal 287 ayat (1) jo Pasal 106 ayat (4) huruf a dan Pasal 106 ayat (4) huruf b | G41: DD6967KR | H41: BLOKIR STNK | I41: E7888026 | J41: 149000 | K41: 1000
A42: 38 | B42: 94 | C42: 123 | D42: SALMA NURDIN | E42: JL BAYAM LR 3 | F42: 1 pasal : Pasal 287 ayat (1) jo Pasal 106 ayat (4) huruf a dan Pasal 106 ayat (4) huruf b | G42: DD4043MV | H42: BLOKIR STNK | I42: E7888027 | J42: 149000 | K42: 1000
A43: 39 | B43: 95 | C43: 124 | D43: Y A M I N | E43: P KEMERDEKAAN 18 | F43: 1 pasal : Pasal 287 ayat (1) jo Pasal 106 ayat (4) huruf a dan Pasal 106 ayat (4) huruf b | G43: DD2554OI | H43: BLOKIR STNK | I43: E7888028 | J43: 149000 | K43: 1000
A44: 40 | B44: 96 | C44: 125 | D44: JAKA IRAYA BAMBANG | E44: JL AMD NO 59 | F44: 1 pasal : Pasal 287 ayat (1) jo Pasal 106 ayat (4) huruf a dan Pasal 106 ayat (4) huruf b | G44: DD2593XF | H44: BLOKIR STNK | I44: E7888029 | J44: 149000 | K44: 1000
A45: 41 | B45: 97 | C45: 126 | D45: SRI REJEKI | E45: JL MUHAJIRIN 3 | F45: 1 pasal : Pasal 287 ayat (1) jo Pasal 106 ayat (4) huruf a dan Pasal 106 ayat (4) huruf b | G45: DD1386SS | H45: BLOKIR STNK | I45: E7888030 | J45: 249000 | K45: 1000
A46: 42 | B46: 98 | C46: 127 | D46: HJ NURLIA | E46: JL TINUMBU LR 154 | F46: 1 pasal : Pasal 287 ayat (1) jo Pasal 106 ayat (4) huruf a dan Pasal 106 ayat (4) huruf b | G46: DD2621RY | H46: BLOKIR STNK | I46: E7888031 | J46: 149000 | K46: 1000
A47: 43 | B47: 99 | C47: 128 | D47: SURAHMAN | E47: BTP BLOK J | F47: 1 pasal : Pasal 287 ayat (1) jo Pasal 106 ayat (4) huruf a dan Pasal 106 ayat (4) huruf b | G47: DD6064MN | H47: BLOKIR STNK | I47: E7888032 | J47: 149000 | K47: 1000
A48: 44 | B48: 100 | C48: 129 | D48: FATTAHULLAH | E48: JL P KEMERDEKAAN | F48: 1 pasal : Pasal 287 ayat (1) jo Pasal 106 ayat (4) huruf a dan Pasal 106 ayat (4) huruf b | G48: DD6730RE | H48: BLOKIR STNK | I48: E7888033 | J48: 149000 | K48: 1000
A49: 45 | B49: 101 | C49: 130 | D49: AHMAD ALI TAUFIK | E49: JL TUPAI | F49: 1 pasal : Pasal 287 ayat (1) jo Pasal 106 ayat (4) huruf a dan Pasal 106 ayat (4) huruf b | G49: DD2233MD | H49: BLOKIR STNK | I49: E7888034 | J49: 149000 | K49: 1000
A50: 46 | B50: 102 | C50: 131 | D50: HERU RISTANTO | E50: JL KELAPA TIGA | F50: 1 pasal : Pasal 287 ayat (1) jo Pasal 106 ayat (4) huruf a dan Pasal 106 ayat (4) huruf b | G50: DD3467MI | H50: BLOKIR STNK | I50: E7888035 | J50: 149000 | K50: 1000
... A91: 87 | B91: 143 | C91: 172 | D91: KHUSNI | E91: JL KEMAUAN | F91: 1 pasal : Pasal 287 ayat (1) jo Pasal 106 ayat (4) huruf a | G91: DD2781OV | H91: 20|STNK | I91: F7761319 | J91: 49000 | K91: 1000
A92: 88 | B92: 144 | C92: 173 | D92: JIEMLY | E92: BULUKUMBA | F92: 1 pasal : Pasal 303 Jo Pasal 137 ayat (4) huruf a,b dan huruf c | G92: 1331 | H92: 60|SIM INTERNASIONAL | I92: F7758657 | J92: 149000 | K92: 1000
A93: 89 | B93: 145 | C93: 174 | D93: ABDUL RAHMAN | E93: MAKASSAR | F93: 1 pasal : Pasal 291 ayat (1) Jo Pasal 106 ayat (8) | G93: DD2829SM | H93: 50|BUKU KIR | I93: F7756500 | J93: 99000 | K93: 1000
A94: 90 | B94: 146 | C94: 175 | D94: RAPAPE | E94: MAKASSAR | F94: 1 pasal : Pasal 285 ayat (1) Jo Pasal 106 ayat (3) | G94: DD4226SD | H94: 20|STNK | I94: F7760856 | J94: 99000 | K94: 1000
A95: 91 | B95: 147 | C95: 176 | D95: CADDI | E95: BONTO NOMPO | F95: 1 pasal : Pasal 287 ayat (1) jo Pasal 106 ayat (4) huruf a | G95: DD8617QT | H95: 20|STNK | I95: F7761302 | J95: 174000 | K95: 1000
A96: 92 | B96: 148 | C96: 177 | D96: AL QODRI RAMADHAN | E96: JL NURI | F96: 2 pasal : Pasal 281 jo Pasal 77 ayat (1),Pasal 291 ayat (1) Jo Pasal 106 ayat (8) | G96: DD4540HQ | H96: 10|SIM C | I96: F7761330 | J96: 174000 | K96: 1000
A97: 93 | B97: 149 | C97: 178 | D97: RIDWAN FATUR | E97: JL KARUWISI | F97: 1 pasal : Pasal 291 ayat (1) Jo Pasal 106 ayat (8) | G97: DD6898UF | H97: 20|STNK | I97: F7761331 | J97: 99000 | K97: 1000
A98: 94 | B98: 150 | C98: 179 | D98: JUSMAH | E98: MAKASSAR | F98: 1 pasal : Pasal 287 ayat (1) jo Pasal 106 ayat (4) huruf a | G98: DW6275FN | H98: 20|STNK | I98: F7761103 | J98: 99000 | K98: 1000
A99: 95 | B99: 151 | C99: 180 | D99: ANDRI | E99: MINASA TE'NE | F99: 2 pasal : Pasal 281 jo Pasal 77 ayat (1),Pasal 288 ayat (1) jo Pasal 106 ayat (5) huruf a | G99: F6857FAZ | H99: 20|STNK | I99: F7760859 | J99: 149000 | K99: 1000
A100: 96 | B100: 152 | C100: 181 | D100: ARIF | E100: GOWA | F100: 1 pasal : Pasal 287 ayat (1) jo Pasal 106 ayat (4) huruf a | G100: DD2117XB | H100: 20|STNK | I100: F7761137 | J100: 149000 | K100: 1000
...

Sheet Lap. Bulan 3 
A1: LAPORAN PERKARA LALU LINTAS (TILANG) / PERKARA PIDANA CEPAT (TIPIRING)
A2: BULAN MARET 2021
A4: NO. | B4: TANGGAL SIDANG | C4: NO. PERKARA | F4: KESATUAN | J4: JUMLAH BERKAS | K4: JUMLAH DENDA | L4: JUMLAH BIAYA PERKARA | M4: KET. BEBAS | N4: HAKIM | O4: PANITERA PENGGANTI | P4: TGL PENYERAHAN KEJAKSAAN
F6: A | G6: B | H6: C | I6: D
A7: 1 | B7: 44260 | C7: =SUM('Tgl. 05.03.2021'!C5) -> 270 | D7: S/D | E7: =SUM('Tgl. 05.03.2021'!C240) -> 498 | F7: ='Tgl. 05.03.2021'!A232 -> 228 | G7: 0 | H7: 0 | I7: ='Tgl. 05.03.2021'!A240 -> 1 | J7: =SUM(F7:I7) -> 229 | K7: =SUM('Tgl. 05.03.2021'!L242) -> 34194000 | L7: =SUM(J7*1000)-(M7*1000) -> 229000 | M7: 0 | N7: JAHORAS SIRINGO-RINGO,S.H.,M.H. | O7: Dra. PASIHA,M.H. | P7: 44260
A8: 2 | B8: 44267 | C8: =SUM('Tgl. 12.03.2021'!C5) -> 499 | D8: S/D | E8: =SUM('Tgl. 12.03.2021'!C41) -> 535 | F8: ='Tgl. 12.03.2021'!A41 -> 37 | G8: 0 | H8: 0 | I8: 0 | J8: =SUM(F8:I8) -> 37 | K8: =SUM('Tgl. 12.03.2021'!L43) -> 3888000 | L8: =SUM(J8*1000)-(M8*1000) -> 37000 | M8: 0 | N8: HENENG PUJADI,S.H.,M.H. | O8: ELIZABETH RANTEPADANG,S.H. | P8: 44267
A9: 3 | B9: 44274 | C9: =SUM('Tgl. 19.03.2021'!C5) -> 536 | D9: S/D | E9: =SUM('Tgl. 19.03.2021'!C141) -> 672 | F9: ='Tgl. 19.03.2021'!A141 -> 137 | G9: 0 | H9: 0 | I9: 0 | J9: =SUM(F9:I9) -> 137 | K9: =SUM('Tgl. 19.03.2021'!L143) -> 25383000 | L9: =SUM(J9*1000)-(M9*1000) -> 137000 | M9: 0 | N9: DR. ZULKIFLI,S.H.,M.H. | O9: SYAHRUL,S.H. | P9: 44274
A10: 4 | B10: 44281 | C10: =SUM('Tgl. 26.03.2021'!C5) -> 673 | D10: S/D | E10: =SUM('Tgl. 26.03.2021'!C76) -> 744 | F10: ='Tgl. 26.03.2021'!A76 -> 72 | G10: 0 | H10: 0 | I10: 0 | J10: =SUM(F10:I10) -> 72 | K10: =SUM('Tgl. 26.03.2021'!M78) -> 9353000 | L10: =SUM(J10*1000)-(M10*1000) -> 72000 | M10: 0 | N10: FAISAL AKBARUDDIN TAQWA,S.H.,M.H. | O10: SUDARMONO,S.H. | P10: 44281
A11: JUMLAH KESELURUHAN : | F11: =SUM(F7:F10) -> 474 | G11: =SUM(G7:G10) -> 0 | H11: =SUM(H7:H10) -> 0 | I11: =SUM(I7:I10) -> 1 | J11: =SUM(J7:J10) -> 475 | K11: =SUM(K7:K10) -> 72818000 | L11: =SUM(L7:L10) -> 475000 | M11: =SUM(M7:M10) -> 0
A12: KETERANGAN :
A13: A= POLRESTABES | E13: C= PJR
A14: B= PELABUHAN | E14: D= DITLANTAS
A16: TIPIRING | C16: : | D16: 1 BERKAS

Sheet Tgl. 05.03.2021
A1: PENGADILAN NEGERI MAKASSAR
A2: TANGGAL 05.03.2021
D3: P O L R E S T A B E S
A4: NO. | B4: NO. BULAN | C4: NO. REG | D4: NAMA TERDAKWA/ TERPIDANA | E4: ALAMAT TERDAKWA/ TERPIDANA | F4: PASAL YANG DILANGGAR | G4: NO. POLISI | H4: BARANG BUKTI | I4: NO. TILANG | J4: DENDA | K4: ONGKOS PERKARA
A5: 1 | B5: 1 | C5: 270 | D5: YOSEP | E5: JL ANDALAS | F5: 2 pasal : Pasal 288 ayat (2) jo Pasal 106 ayat (5) huruf b,Pasal 291 ayat (1) Jo Pasal 106 ayat (8) | G5: DC3233GA | H5: 20|STNK | I5: F7761381 | J5: 149000 | K5: 1000
A6: 2 | B6: 2 | C6: 271 | D6: MUHAMMAD RIZKA | E6: GRIYA FAJAR MAS | F6: 1 pasal : Pasal 287 ayat (1) jo Pasal 106 ayat (4) huruf a dan Pasal 106 ayat (4) huruf b | G6: DD6455RI | H6: 20|STNK | I6: F7761382 | J6: 99000 | K6: 1000
A7: 3 | B7: 3 | C7: 272 | D7: GIAN NUGRAHA | E7: HARTACO INDAH | F7: 1 pasal : Pasal 287 ayat (1) jo Pasal 106 ayat (4) huruf a dan Pasal 106 ayat (4) huruf b | G7: DD1761AN | H7: 20|STNK | I7: F7761388 | J7: 149000 | K7: 1000
A8: 4 | B8: 4 | C8: 273 | D8: SITI NURJANNAH | E8: BAJENG BARAT , GOWA | F8: 1 pasal : Pasal 287 ayat (1) jo Pasal 106 ayat (4) huruf a | G8: DD6475YV | H8: 20|STNK | I8: F7761325 | J8: 99000 | K8: 1000
A9: 5 | B9: 5 | C9: 274 | D9: ARDIYANTO | E9: JL SUNU | F9: 1 pasal : Pasal 287 ayat (1) jo Pasal 106 ayat (4) huruf a | G9: DC1133CT | H9: 20|STNK | I9: F7761369 | J9: 39000 | K9: 1000
A10: 6 | B10: 6 | C10: 275 | D10: NAISYILA | E10: JL COKO NURI | F10: 1 pasal : Pasal 291 ayat (1) Jo Pasal 106 ayat (8) | G10: DD5898QF | H10: 20|STNK | I10: F7761396 | J10: 149000 | K10: 1000
A11: 7 | B11: 7 | C11: 276 | D11: MUH RIDWAN | E11: GOWA | F11: 1 pasal : Pasal 281 jo Pasal 77 ayat (1) | G11: DD4634AD | H11: 20|STNK | I11: F7761335 | J11: 99000 | K11: 1000
A12: 8 | B12: 8 | C12: 277 | D12: M ARIF | E12: GOWA | F12: 1 pasal : Pasal 287 ayat (1) jo Pasal 106 ayat (4) huruf a dan Pasal 106 ayat (4) huruf b | G12: DD4323YQ | H12: 20|STNK | I12: F7760960 | J12: 99000 | K12: 1000
A13: 9 | B13: 9 | C13: 278 | D13: ABD RAHMAN | E13: JL DG RAMANG | F13: 2 pasal : Pasal 280 jo Pasal 68 ayat (1),Pasal 288 ayat (2) jo Pasal 106 ayat (5) huruf b | G13: DD3648KL | H13: 20|STNK | I13: F7758658 | J13: 149000 | K13: 1000
A14: 10 | B14: 10 | C14: 279 | D14: NELIS | E14: SUDIANG | F14: 2 pasal : Pasal 291 ayat (1) Jo Pasal 106 ayat (8),Pasal 291 ayat (2) Jo Pasal 106 ayat (8) | G14: DD2175RC | H14: 20|STNK | I14: F7758659 | J14: 149000 | K14: 1000
A15: 11 | B15: 11 | C15: 280 | D15: RENALDI | E15: JL KANDEA | F15: 1 pasal : Pasal 287 ayat (1) jo Pasal 106 ayat (4) huruf a | G15: DD5790KR | H15: 20|STNK | I15: F7760377 | J15: 99000 | K15: 1000
A16: 12 | B16: 12 | C16: 281 | D16: ST NURFAIKA | E16: MAKASSAR | F16: 1 pasal : Pasal 287 ayat (1) jo Pasal 106 ayat (4) huruf a | G16: DD5094NK | H16: 20|STNK | I16: F7761011 | J16: 99000 | K16: 1000
... A38: 34 | B38: 34 | C38: 303 | D38: MEKSON | E38: MANGGA TIGA | F38: 1 pasal : Pasal 287 ayat (1) jo Pasal 106 ayat (4) huruf a | G38: DD1051AM | H38: 20|STNK | I38: F7761012 | J38: 149000 | K38: 1000
A39: 35 | B39: 35 | C39: 304 | D39: SAMSIR | F39: 1 pasal : Pasal 287 ayat (1) jo Pasal 106 ayat (4) huruf a | G39: DD3854CM | H39: 10|SIM C | I39: F7761005 | J39: 99000 | K39: 1000
A40: 36 | B40: 36 | C40: 305 | D40: SAMSINAR | E40: JL URIP SUMAHARJO | F40: 1 pasal : Pasal 287 ayat (1) jo Pasal 106 ayat (4) huruf a dan Pasal 106 ayat (4) huruf b | G40: DD894P | H40: 11|SIM A | I40: F7760400 | J40: 149000 | K40: 1000
A41: 37 | B41: 37 | C41: 306 | D41: YULIUS MANGNGALIK | E41: KAB LUWU | F41: 1 pasal : Pasal 287 ayat (1) jo Pasal 106 ayat (4) huruf a | G41: DD5420XY | H41: 10|SIM C | I41: F7761377 | J41: 99000 | K41: 1000
A42: 38 | B42: 38 | C42: 307 | D42: LILIK MULYONO | E42: JL BALANG LOMPO | F42: 1 pasal : Pasal 287 ayat (1) jo Pasal 106 ayat (4) huruf a | G42: DD8688RR | H42: 20|STNK | I42: F7761119 | J42: 199000 | K42: 1000
A43: 39 | B43: 39 | C43: 308 | D43: HERI | E43: JL VETRAN SELATAN | F43: 2 pasal : Pasal 281 jo Pasal 77 ayat (1),Pasal 291 ayat (1) Jo Pasal 106 ayat (8) | G43: DD4900UK | H43: 20|STNK | I43: F7761332 | J43: 149000 | K43: 1000
A44: 40 | B44: 40 | C44: 309 | D44: DJUNAIDI SALEHE | E44: JL VETRAN BAKUNG | F44: 1 pasal : Pasal 287 ayat (1) jo Pasal 106 ayat (4) huruf a | G44: DD1868YA | H44: 11|SIM A | I44: F7761435 | J44: 149000 | K44: 1000
A45: 41 | B45: 41 | C45: 310 | D45: ARMAN | E45: JL BALLAPRANG | F45: 1 pasal : Pasal 287 ayat (1) jo Pasal 106 ayat (4) huruf a | G45: DD5032RB | H45: 10|SIM C | I45: F7760865 | J45: 39000 | K45: 1000
A46: 42 | B46: 42 | C46: 311 | D46: ERWIN PURWANSYAH | E46: MAROS | F46: 2 pasal : Pasal 287 ayat (1) jo Pasal 106 ayat (4) huruf a,Pasal 288 ayat (2) jo Pasal 106 ayat (5) huruf b | G46: DD8444SJ | H46: 20|STNK | I46: F7761004 | J46: 174000 | K46: 1000
A47: 43 | B47: 43 | C47: 312 | D47: AMRAN | E47: DUSUN ROMANG | F47: 1 pasal : Pasal 287 ayat (1) jo Pasal 106 ayat (4) huruf a | G47: DD1679XJ | H47: 20|STNK | I47: F7760864 | J47: 149000 | K47: 1000
A48: 44 | B48: 44 | C48: 313 | D48: ANDI AWANG | E48: BUMI PALLANGGA MAS | F48: 1 pasal : Pasal 287 ayat (1) jo Pasal 106 ayat (4) huruf a | G48: DD1239MV | H48: 11|SIM A | I48: F7761181 | J48: 39000 | K48: 1000
A49: 45 | B49: 45 | C49: 314 | D49: FACHRY NUR HISYAM | E49: PELITA | F49: 1 pasal : Pasal 291 ayat (1) Jo Pasal 106 ayat (8) | G49: DD3932BN | H49: 20|STNK | I49: F7761398 | J49: 99000 | K49: 1000
A50: 46 | B50: 46 | C50: 315 | D50: YANTI | E50: ENREKANG | F50: 1 pasal : Pasal 287 ayat (1) jo Pasal 106 ayat (4) huruf a | G50: DD3752PW | H50: 20|STNK | I50: F7761434 | J50: 149000 | K50: 1000
A51: 47 | B51: 47 | C51: 316 | D51: YULIANA | E51: TAKALAR | F51: 1 pasal : Pasal 281 jo Pasal 77 ayat (1) | G51: DD5310PL | H51: 20|STNK | I51: F7761333 | J51: 149000 | K51: 1000
... A91: 87 | B91: 87 | C91: 356 | D91: LINDA SURYANTO | E91: JL SULAWESI | F91: 1 pasal : Pasal 287 ayat (2) jo Pasal 106 ayat (4) huruf c | G91: DD1705RQ | H91: 11|SIM A | I91: F7760836 | J91: 149000 | K91: 1000
A92: 88 | B92: 88 | C92: 357 | D92: ATIKAHSURYANI | E92: BILACADDI TAKALAR | F92: 1 pasal : Pasal 287 ayat (1) jo Pasal 106 ayat (4) huruf a dan Pasal 106 ayat (4) huruf b | G92: DD3110CC | H92: 20|STNK | I92: E7888071 | J92: 149000 | K92: 1000 | L92: E-TLE
A93: 89 | B93: 89 | C93: 358 | D93: M RAFLY WIJAYA | E93: JL SUNGAI SADDANG 1 | F93: 1 pasal : Pasal 287 ayat (1) jo Pasal 106 ayat (4) huruf a dan Pasal 106 ayat (4) huruf b | G93: DD3551MB | H93: 20|STNK | I93: E7888072 | J93: 149000 | K93: 1000 | L93: E-TLE
A94: 90 | B94: 90 | C94: 359 | D94: MUHAMMAD RIDHA | E94: JL SINGA 1 | F94: 1 pasal : Pasal 287 ayat (1) jo Pasal 106 ayat (4) huruf a dan Pasal 106 ayat (4) huruf b | G94: DD4033SK | H94: 20|STNK | I94: E7888073 | J94: 149000 | K94: 1000 | L94: E-TLE
A95: 91 | B95: 91 | C95: 360 | D95: MURSALIM MAKMUR | E95: JL CENDRAWASIH | F95: 1 pasal : Pasal 287 ayat (1) jo Pasal 106 ayat (4) huruf a dan Pasal 106 ayat (4) huruf b | G95: DD5301RV | H95: 20|STNK | I95: E7888074 | J95: 149000 | K95: 1000 | L95: E-TLE
A96: 92 | B96: 92 | C96: 361 | D96: MUHAMMAD SHAHAB | E96: JL DR RATULANGI 150 | F96: 1 pasal : Pasal 287 ayat (1) jo Pasal 106 ayat (4) huruf a dan Pasal 106 ayat (4) huruf b | G96: DD5316SD | H96: 20|STNK | I96: E7888075 | J96: 149000 | K96: 1000 | L96: E-TLE
A97: 93 | B97: 93 | C97: 362 | D97: ABD MUIN | E97: DG TATA HARTACO | F97: 1 pasal : Pasal 287 ayat (1) jo Pasal 106 ayat (4) huruf a dan Pasal 106 ayat (4) huruf b | G97: DD5417SO | H97: 20|STNK | I97: E7888076 | J97: 149000 | K97: 1000 | L97: E-TLE
A98: 94 | B98: 94 | C98: 363 | D98: RISAL HUSAIN | E98: JL GUSUNG TOWA | F98: 1 pasal : Pasal 287 ayat (1) jo Pasal 106 ayat (4) huruf a dan Pasal 106 ayat (4) huruf b | G98: DD6268KV | H98: 20|STNK | I98: E7888077 | J98: 149000 | K98: 1000 | L98: E-TLE
A99: 95 | B99: 95 | C99: 364 | D99: ELISABETH | E99: PERMATA SUYDIANG RAYA | F99: 1 pasal : Pasal 287 ayat (1) jo Pasal 106 ayat (4) huruf a dan Pasal 106 ayat (4) huruf b | G99: DD1298ST | H99: 20|STNK | I99: E7888078 | J99: 249000 | K99: 1000 | L99: E-TLE
A100: 96 | B100: 96 | C100: 365 | D100: DODY ISKANDAR DINATA | E100: JL SYEH YUSUF PERUM GRIYA | F100: 1 pasal : Pasal 287 ayat (1) jo Pasal 106 ayat (4) huruf a dan Pasal 106 ayat (4) huruf b | G100: DD1583YG | H100: 20|STNK | I100: E7888079 | J100: 249000 | K100: 1000 | L100: E-TLE
...

Sheet Tgl. 12.03.2021
A1: PENGADILAN NEGERI MAKASSAR
A2: TANGGAL 12.03.2021
D3: P O L R E S T A B E S
A4: NO. | B4: NO. BULAN | C4: NO. REG | D4: NAMA TERDAKWA/ TERPIDANA | E4: ALAMAT TERDAKWA/ TERPIDANA | F4: PASAL YANG DILANGGAR | G4: NO. POLISI | H4: BARANG BUKTI | I4: NO. TILANG | J4: DENDA | K4: ONGKOS PERKARA
A5: 1 | B5: 230 | C5: 499 | D5: MYLIYANTI | E5: JL. POROS LIMBUNG | F5: 1 pasal : Pasal 291 ayat (2) Jo Pasal 106 ayat (8) | G5: DD4744PY | H5: 20|STNK | I5: F7761407 | J5: 49000 | K5: 1000
A6: 2 | B6: 231 | C6: 500 | D6: RUDI WILIANTO | E6: JL YOS SUDARSO | F6: 1 pasal : Pasal 287 ayat (1) jo Pasal 106 ayat (4) huruf a | G6: DD6349VH | H6: 20|STNK | I6: F7761441 | J6: 99000 | K6: 1000
A7: 3 | B7: 232 | C7: 501 | D7: SYAMSUL RAHMAT | E7: PERUM SINGGASAN | F7: 1 pasal : Pasal 289 jo Pasal 106 ayat (6) | G7: DD---------- | H7: 11|SIM A | I7: F7761120 | J7: 149000 | K7: 1000
A8: 4 | B8: 233 | C8: 502 | D8: EGI | E8: JL PAMPANG | F8: 1 pasal : Pasal 291 ayat (1) Jo Pasal 106 ayat (8) | G8: DD6379RR | H8: 20|STNK | I8: F7761057 | J8: 49000 | K8: 1000
A9: 5 | B9: 234 | C9: 503 | D9: KASMAWATI | E9: JL. GALANGAN KAPAL | F9: 2 pasal : Pasal 291 ayat (2) Jo Pasal 106 ayat (8),Pasal 288 ayat (2) jo Pasal 106 ayat (5) huruf b | G9: DD3042KA | H9: 20|STNK | I9: F7761412 | J9: 149000 | K9: 1000
A10: 6 | B10: 235 | C10: 504 | D10: A. MUH DIRGA WIRANDA. S | E10: JL. CILALLANG JAYA LR 50 | F10: 2 pasal : Pasal 287 ayat (1) jo Pasal 106 ayat (4) huruf a,Pasal 288 ayat (1) jo Pasal 106 ayat (5) huruf a | G10: DD2307LM | H10: 10|SIM C | I10: F7761413 | J10: 49000 | K10: 1000
A11: 7 | B11: 236 | C11: 505 | D11: MUH SYAFA AT | E11: KOMP PERMATA HIJAU PERMAI N2/6 | F11: 2 pasal : Pasal 291 ayat (1) Jo Pasal 106 ayat (8),Pasal 281 jo Pasal 77 ayat (1) | G11: DD5867RA | H11: 50|BUKU KIR | I11: F7757250 | J11: 49000 | K11: 1000
A12: 8 | B12: 237 | C12: 506 | D12: MUH IKHSAN BAHAR | E12: DSN BAWALIPU KAB LUTIM | F12: 1 pasal : Pasal 287 ayat (1) jo Pasal 106 ayat (4) huruf a | G12: DP2415GQ | H12: 20|STNK | I12: F7757249 | J12: 99000 | K12: 1000
A13: 9 | B13: 238 | C13: 507 | D13: FREDIK DALE | E13: JL LAIYA | F13: 1 pasal : Pasal 287 ayat (1) jo Pasal 106 ayat (4) huruf a dan Pasal 106 ayat (4) huruf b | G13: DD1707SB | H13: 20|STNK;30|SIM & STNK | I13: F7761383 | J13: 149000 | K13: 1000
A14: 10 | B14: 239 | C14: 508 | D14: HASRUL | E14: KAB LUWU UTARA | F14: 1 pasal : Pasal 287 ayat (1) jo Pasal 106 ayat (4) huruf a | G14: DD4957RQ | H14: 10|SIM C | I14: F7761371 | J14: 99000 | K14: 1000
A15: 11 | B15: 240 | C15: 509 | D15: MUH FAHRI | E15: MAKASSAR | F15: 1 pasal : Pasal 287 ayat (1) jo Pasal 106 ayat (4) huruf a dan Pasal 106 ayat (4) huruf b | G15: DW6568FV | H15: 20|STNK | I15: F7761059 | J15: 99000 | K15: 1000
A16: 12 | B16: 241 | C16: 510 | D16: NANDA TIARA | E16: KOMP BPH LESTAR | F16: 1 pasal : Pasal 287 ayat (1) jo Pasal 106 ayat (4) huruf a dan Pasal 106 ayat (4) huruf b | G16: DD1891YP | H16: 11|SIM A | I16: F7761060 | J16: 149000 | K16: 1000
... A41: 37 | B41: 266 | C41: 535 | D41: INDRA DWI PUTRA | E41: POLMAN | F41: 1 pasal : Pasal 287 ayat (1) jo Pasal 106 ayat (4) huruf a | G41: DD4874QF | H41: 10|SIM C | I41: F7761270 | J41: 99000 | K41: 1000
L42: =SUM(J5:J41) -> 3888000 | M42: =SUM(K5:K41) -> 37000
J43: T O T A L | L43: =SUM(L42) -> 3888000 | M43: =SUM(M42) -> 37000

Sheet Tgl. 19.03.2021
A1: PENGADILAN NEGERI MAKASSAR
A2: TANGGAL 19.03.2021
D3: P O L R E S T A B E S
A4: NO. | B4: NO. BULAN | C4: NO. REG | D4: NAMA TERDAKWA/ TERPIDANA | E4: ALAMAT TERDAKWA/ TERPIDANA | F4: PASAL YANG DILANGGAR | G4: NO. POLISI | H4: BARANG BUKTI | I4: NO. TILANG | J4: DENDA | K4: ONGKOS PERKARA
A5: 1 | B5: 267 | C5: 536 | D5: ALIF | E5: JL ANDALAS | F5: 1 pasal : Pasal 281 jo Pasal 77 ayat (1) | G5: DD5524MA | H5: 40|KENDARAAN | I5: F7760754 | J5: 149000 | K5: 1000
A6: 2 | B6: 268 | C6: 537 | D6: MUH AKMAL | E6: JL CENDRAWASIH | F6: 2 pasal : Pasal 281 jo Pasal 77 ayat (1),Pasal 285 ayat (1) Jo Pasal 106 ayat (3) | G6: DD5865RN | H6: 40|KENDARAAN | I6: F7760753 | J6: 349000 | K6: 1000
A7: 3 | B7: 269 | C7: 538 | D7: ALIF | E7: JL BARUKANG | F7: 2 pasal : Pasal 287 ayat (2) jo Pasal 106 ayat (4) huruf c,Pasal 281 jo Pasal 77 ayat (1) | G7: DD3514XW | H7: 40|KENDARAAN | I7: F7760752 | J7: 349000 | K7: 1000
A8: 4 | B8: 270 | C8: 539 | D8: - | E8: MAKASSAR | F8: 1 pasal : Pasal 281 jo Pasal 77 ayat (1) | G8: DD3342KJ | H8: 40|KENDARAAN | I8: F7760983 | J8: 349000 | K8: 1000
A9: 5 | B9: 271 | C9: 540 | D9: RIFALDI | E9: SUDIANG | F9: 2 pasal : Pasal 281 jo Pasal 77 ayat (1),Pasal 285 ayat (2) Jo Pasal 106 ayat (3) Jo Pasal 48 ayat (2) | G9: DD2393SO | H9: 40|KENDARAAN | I9: F7760982 | J9: 249000 | K9: 1000
A10: 6 | B10: 272 | C10: 541 | D10: M YASIR | E10: DAYA | F10: 2 pasal : Pasal 285 ayat (1) Jo Pasal 106 ayat (3),Pasal 281 jo Pasal 77 ayat (1) | G10: DD3815VA | H10: 40|KENDARAAN | I10: F7760849 | J10: 349000 | K10: 1000
A11: 7 | B11: 273 | C11: 542 | D11: SUHERWIN | E11: BTP | F11: 2 pasal : Pasal 281 jo Pasal 77 ayat (1),Pasal 288 ayat (1) jo Pasal 106 ayat (5) huruf a | G11: DD6494JA | H11: 40|KENDARAAN | I11: F7761393 | J11: 349000 | K11: 1000
A12: 8 | B12: 274 | C12: 543 | D12: MURSALIM | E12: JL U SUMAHARJO | F12: 1 pasal : Pasal 281 jo Pasal 77 ayat (1) | G12: DD4065UG | H12: 40|KENDARAAN | I12: F7761395 | J12: 249000 | K12: 1000
A13: 9 | B13: 275 | C13: 544 | D13: TEGAR | E13: BTN TAMARUNANG | F13: 1 pasal : Pasal 281 jo Pasal 77 ayat (1) | G13: DD3817MG | H13: 40|KENDARAAN | I13: F7761392 | J13: 349000 | K13: 1000
A14: 10 | B14: 276 | C14: 545 | D14: ZULKIFLI | E14: CILALANG | F14: 2 pasal : Pasal 281 jo Pasal 77 ayat (1),Pasal 285 ayat (1) Jo Pasal 106 ayat (3) | G14: DD5293MD | H14: 40|KENDARAAN | I14: F7760350 | J14: 349000 | K14: 1000
A15: 11 | B15: 277 | C15: 546 | D15: DEDI | E15: PANCIRO | F15: 2 pasal : Pasal 281 jo Pasal 77 ayat (1),Pasal 288 ayat (1) jo Pasal 106 ayat (5) huruf a | G15: DD5580XY | H15: 40|KENDARAAN | I15: F7760410 | J15: 349000 | K15: 1000
A16: 12 | B16: 278 | C16: 547 | D16: ADITYA | E16: JL S SADDANG BARU | F16: 2 pasal : Pasal 280 jo Pasal 68 ayat (1),Pasal 281 jo Pasal 77 ayat (1) | G16: DD---------- | H16: 40|KENDARAAN | I16: F7760407 | J16: 249000 | K16: 1000
... A22: 18 | B22: 284 | C22: 553 | D22: FACHRIANSYAH | E22: BARUKANG | F22: 2 pasal : Pasal 281 jo Pasal 77 ayat (1),Pasal 285 ayat (1) Jo Pasal 106 ayat (3) | G22: DD2464UC | H22: 40|KENDARAAN | I22: F7760809 | J22: 149000 | K22: 1000
A23: 19 | B23: 285 | C23: 554 | D23: CRISTOPER | F23: 1 pasal : Pasal 281 jo Pasal 77 ayat (1) | G23: DD2930RH | H23: 40|KENDARAAN | I23: F7761259 | J23: 249000 | K23: 1000
A24: 20 | B24: 286 | C24: 555 | D24: WAHYU PRATAMA | E24: ADIYAKSA | F24: 2 pasal : Pasal 280 jo Pasal 68 ayat (1),Pasal 281 jo Pasal 77 ayat (1) | G24: DD---------- | H24: 40|KENDARAAN | I24: F7761258 | J24: 349000 | K24: 1000
A25: 21 | B25: 287 | C25: 556 | D25: MUH ISTIQLAS | F25: 1 pasal : Pasal 281 jo Pasal 77 ayat (1) | G25: DD2311NK | H25: 40|KENDARAAN | I25: F7761257 | J25: 349000 | K25: 1000
A26: 22 | B26: 288 | C26: 557 | D26: MUH ARDIANSYAH | E26: TODOPULI | F26: 1 pasal : Pasal 281 jo Pasal 77 ayat (1) | G26: DD2589RS | H26: 40|KENDARAAN | I26: F7761256 | J26: 349000 | K26: 1000
A27: 23 | B27: 289 | C27: 558 | D27: HARDIANUS | E27: SUDIANG | F27: 2 pasal : Pasal 281 jo Pasal 77 ayat (1),Pasal 288 ayat (1) jo Pasal 106 ayat (5) huruf a | G27: DD5996TE | H27: 40|KENDARAAN | I27: F7760808 | J27: 349000 | K27: 1000
A28: 24 | B28: 290 | C28: 559 | D28: RAFLI | E28: PALLANGGA | F28: 1 pasal : Pasal 281 jo Pasal 77 ayat (1) | G28: DD2004XY | H28: 40|KENDARAAN | I28: F7761207 | J28: 149000 | K28: 1000
A29: 25 | B29: 291 | C29: 560 | D29: TAKSIR | E29: PANGKEP | F29: 2 pasal : Pasal 280 jo Pasal 68 ayat (1),Pasal 281 jo Pasal 77 ayat (1) | G29: DD---------- | H29: 40|KENDARAAN | I29: F7761206 | J29: 249000 | K29: 1000
A30: 26 | B30: 292 | C30: 561 | D30: ISMAIL | E30: JL ABD DG SIRUA | F30: 2 pasal : Pasal 281 jo Pasal 77 ayat (1),Pasal 287 ayat (5) jo Pasal 106 ayat (4) huruf g atau Pasal 115 huruf a | G30: DD6843UQ | H30: 40|KENDARAAN | I30: F7761033 | J30: 149000 | K30: 1000
A31: 27 | B31: 293 | C31: 562 | D31: ADE IRFAN | E31: JENEPONTO BANGKALA | F31: 2 pasal : Pasal 280 jo Pasal 68 ayat (1),Pasal 281 jo Pasal 77 ayat (1) | G31: DD4167GQ | H31: 40|KENDARAAN | I31: F7761254 | J31: 249000 | K31: 1000
A32: 28 | B32: 294 | C32: 563 | D32: IRFAN | E32: JL PELITA 3 | F32: 2 pasal : Pasal 280 jo Pasal 68 ayat (1),Pasal 281 jo Pasal 77 ayat (1) | G32: DD6916KU | H32: 40|KENDARAAN | I32: F7761253 | J32: 249000 | K32: 1000
A33: 29 | B33: 295 | C33: 564 | D33: AJAYSAN | E33: JL M UPA | F33: 1 pasal : Pasal 281 jo Pasal 77 ayat (1) | G33: DD5455YD | H33: 40|KENDARAAN | I33: F7761252 | J33: 249000 | K33: 1000
A34: 30 | B34: 296 | C34: 565 | D34: M WAID ALKARNI | E34: JL G LOMPOBATTANG | F34: 2 pasal : Pasal 280 jo Pasal 68 ayat (1),Pasal 287 ayat (5) jo Pasal 106 ayat (4) huruf g atau Pasal 115 huruf a | G34: DD4762VD | H34: 40|KENDARAAN | I34: F7761251 | J34: 249000 | K34: 1000
A35: 31 | B35: 297 | C35: 566 | D35: IKRAR | E35: JL TINUMBU | F35: 1 pasal : Pasal 281 jo Pasal 77 ayat (1) | G35: DD6486XX | H35: 40|KENDARAAN | I35: F7761209 | J35: 249000 | K35: 1000
A36: 32 | B36: 298 | C36: 567 | D36: SAMSUL | E36: JL AB LAMBOGO | F36: 1 pasal : Pasal 281 jo Pasal 77 ayat (1) | G36: DD4508RY | H36: 40|KENDARAAN | I36: F7761250 | J36: 249000 | K36: 1000
A37: 33 | B37: 299 | C37: 568 | D37: ANDI FUAD | E37: JL MUH EMY SAELAN | F37: 1 pasal : Pasal 281 jo Pasal 77 ayat (1) | G37: DN4319LF | H37: 40|KENDARAAN | I37: F7761249 | J37: 149000 | K37: 1000
... A128: 124 | B128: 390 | C128: 659 | D128: MULIYANI | E128: JL MUH YAMIN | F128: 1 pasal : Pasal 291 ayat (1) Jo Pasal 106 ayat (8) | G128: DD5167VH | H128: 20|STNK | I128: F7761502 | J128: 99000 | K128: 1000
A129: 125 | B129: 391 | C129: 660 | D129: MUH SALIM | F129: 2 pasal : Pasal 281 jo Pasal 77 ayat (1),Pasal 288 ayat (1) jo Pasal 106 ayat (5) huruf a | G129: DD2769UL | H129: 40|KENDARAAN | I129: F7759076 | J129: 249000 | K129: 1000
A130: 126 | B130: 392 | C130: 661 | D130: FADLI | E130: ASLOM A 15 | F130: 1 pasal : Pasal 285 ayat (1) Jo Pasal 106 ayat (3) | G130: DD6252KH | H130: 40|KENDARAAN | I130: F7760797 | J130: 249000 | K130: 1000
A131: 127 | B131: 393 | C131: 662 | D131: REZA | E131: TONPOTO PAO GOWA | F131: 1 pasal : Pasal 281 jo Pasal 77 ayat (1) | G131: DD5686UO | H131: 40|KENDARAAN | I131: F7761570 | J131: 249000 | K131: 1000
A132: 128 | B132: 394 | C132: 663 | D132: ANDRI RIFAI | E132: LAMMENG GOWA | F132: 1 pasal : Pasal 285 ayat (1) Jo Pasal 106 ayat (3) | G132: DD3723YS | H132: 40|KENDARAAN | I132: F7761569 | J132: 249000 | K132: 1000
A133: 129 | B133: 395 | C133: 664 | D133: ANGEL | E133: JL MALENGKERI III NO 20 | F133: 1 pasal : Pasal 285 ayat (1) Jo Pasal 106 ayat (3) | G133: DD2250UK | H133: 40|KENDARAAN | I133: F7760915 | J133: 249000 | K133: 1000
A134: 130 | B134: 396 | C134: 665 | D134: IKBAL | E134: JL RAJAWALI | F134: 1 pasal : Pasal 288 ayat (2) jo Pasal 106 ayat (5) huruf b | G134: DD4592CV | H134: 40|KENDARAAN | I134: F7760418 | J134: 249000 | K134: 1000
A135: 131 | B135: 397 | C135: 666 | D135: NURWINDA | E135: MAKASSAR | F135: 1 pasal : Pasal 288 ayat (2) jo Pasal 106 ayat (5) huruf b | G135: DD5234KN | H135: 40|KENDARAAN | I135: F7761374 | J135: 249000 | K135: 1000
...

Sheet Tgl. 26.03.2021
A1: PENGADILAN NEGERI MAKASSAR
A2: TANGGAL 26.03.2021
D3: P O L R E S T A B E S
A4: NO. | B4: NO. BULAN | C4: NO. REG | D4: NAMA TERDAKWA/ TERPIDANA | E4: ALAMAT TERDAKWA/ TERPIDANA | F4: PASAL YANG DILANGGAR | G4: NO. POLISI | H4: BARANG BUKTI | I4: NO. TILANG | J4: DENDA | K4: ONGKOS PERKARA
A5: 1 | B5: 404 | C5: 673 | D5: A MUH ABDULLAH | E5: HARTACO INDAH | F5: 1 pasal : Pasal 291 ayat (1) Jo Pasal 106 ayat (8) | G5: DD6899RV | H5: 20|STNK | I5: F7761557 | J5: 99000 | K5: 1000
A6: 2 | B6: 405 | C6: 674 | D6: HAMDAN | E6: JL UJUNG PANDANG | F6: 1 pasal : Pasal 287 ayat (1) jo Pasal 106 ayat (4) huruf a | G6: DD3270QN | H6: 20|STNK | I6: F7760430 | J6: 99000 | K6: 1000
A7: 3 | B7: 406 | C7: 675 | D7: SYAHRUM | E7: MAKASSAR | F7: 1 pasal : Pasal 291 ayat (1) Jo Pasal 106 ayat (8) | G7: DD2158WR | H7: 20|STNK | I7: F7761564 | J7: 49000 | K7: 1000
A8: 4 | B8: 407 | C8: 676 | D8: ARMAN | E8: JL KANDEA | F8: 1 pasal : Pasal 291 ayat (1) Jo Pasal 106 ayat (8) | G8: DD2913MI | H8: 20|STNK | I8: F7761562 | J8: 49000 | K8: 1000
A9: 5 | B9: 408 | C9: 677 | D9: ABUSYAIM | E9: GOWA | F9: 1 pasal : Pasal 285 ayat (1) Jo Pasal 106 ayat (3) | G9: DD62427YS | H9: 20|STNK | I9: F7761561 | J9: 149000 | K9: 1000
A10: 6 | B10: 409 | C10: 678 | D10: ANGGI | E10: JL ST ALAUDDIN | F10: 2 pasal : Pasal 281 jo Pasal 77 ayat (1),Pasal 288 ayat (1) jo Pasal 106 ayat (5) huruf a | G10: DP2328IK | H10: 20|STNK | I10: F7761592 | J10: 149000 | K10: 1000
A11: 7 | B11: 410 | C11: 679 | D11: FERDINANDUS | E11: JL ANDI TONRO | F11: 1 pasal : Pasal 291 ayat (1) Jo Pasal 106 ayat (8) | G11: DD5729BQ | H11: 20|STNK | I11: F7761593 | J11: 149000 | K11: 1000
A12: 8 | B12: 411 | C12: 680 | D12: ASWAR | E12: JL PANNAMPU | F12: 2 pasal : Pasal 281 jo Pasal 77 ayat (1),Pasal 288 ayat (1) jo Pasal 106 ayat (5) huruf a | G12: DD8965BE | H12: 20|STNK | I12: F7761594 | J12: 149000 | K12: 1000
A13: 9 | B13: 412 | C13: 681 | D13: BILLY | E13: JL METRO T BUNGA | F13: 1 pasal : Pasal 281 jo Pasal 77 ayat (1) | G13: DD4847MG | H13: 20|STNK | I13: F7761021 | J13: 99000 | K13: 1000
A14: 10 | B14: 413 | C14: 682 | D14: IR SUDARNO | E14: JL TIDUNG | F14: 1 pasal : Pasal 287 ayat (1) jo Pasal 106 ayat (4) huruf a | G14: DD8312AN | H14: 12|SIM BI | I14: F7761515 | J14: 49000 | K14: 1000
A15: 11 | B15: 414 | C15: 683 | D15: HENDRA | E15: TAKALAR | F15: 1 pasal : Pasal 281 jo Pasal 77 ayat (1) | G15: DD3261PM | H15: 20|STNK | I15: F7760221 | J15: 99000 | K15: 1000
A16: 12 | B16: 415 | C16: 684 | D16: M NUR HIDAYAT | E16: MAKASSAR | F16: 1 pasal : Pasal 287 ayat (1) jo Pasal 106 ayat (4) huruf a dan Pasal 106 ayat (4) huruf b | G16: DD5197KH | H16: 20|STNK | I16: F7761536 | J16: 49000 | K16: 1000
... A44: 40 | B44: 443 | C44: 712 | D44: MUH SAPRI | E44: KORBAN 40000 | F44: 3 pasal : Pasal 288 ayat (1) jo Pasal 106 ayat (5) huruf a, Pasal 287 ayat (1) jo Pasal 106 ayat (4) huruf a, | G44: DT9652KE | H44: 12|SIM BI | I44: F7756836 | J44: 49000 | K44: 1000
A45: 41 | B45: 444 | C45: 713 | D45: M ZAHNUDDIN | E45: MAKASSAR | F45: 1 pasal : Pasal 288 ayat (3) Jo Pasal 106 ayat (5) huruf c | G45: DP8673CA | H45: 50|BUKU KIR | I45: 1826951 | J45: 149000 | K45: 1000 | L45: DISHUB
A46: 42 | B46: 445 | C46: 714 | D46: OLE | E46: MAKASSAR | F46: 1 pasal : Pasal 288 ayat (3) Jo Pasal 106 ayat (5) huruf c | G46: DD8708XR | H46: 50|BUKU KIR | I46: 1826948 | J46: 149000 | K46: 1000 | L46: DISHUB
A47: 43 | B47: 446 | C47: 715 | D47: SAHARUDDIN | E47: MAKASSAR | F47: 1 pasal : Pasal 288 ayat (3) Jo Pasal 106 ayat (5) huruf c | G47: DD8462XW | H47: 50|BUKU KIR | I47: 1826944 | J47: 149000 | K47: 1000 | L47: DISHUB
A48: 44 | B48: 447 | C48: 716 | D48: ROBUDDIN | E48: MAKASSAR | F48: 1 pasal : Pasal 288 ayat (3) Jo Pasal 106 ayat (5) huruf c | G48: DD1962AO | H48: 50|BUKU KIR | I48: 1826946 | J48: 174000 | K48: 1000 | L48: DISHUB
A49: 45 | B49: 448 | C49: 717 | D49: SULTAN | E49: MAKASSAR | F49: 1 pasal : Pasal 308 huruf a Jo Pasal 173 ayat (1) huruf a] Tanpa Izin dalam Trayek | G49: DD8679MW | H49: 50|BUKU KIR | I49: 1826945 | J49: 149000 | K49: 1000 | L49: DISHUB
A50: 46 | B50: 449 | C50: 718 | D50: ANDI | E50: MAKASSAR | F50: 1 pasal : Pasal 288 ayat (3) Jo Pasal 106 ayat (5) huruf c | G50: DD8199YZ | H50: 50|BUKU KIR | I50: 1826942 | J50: 149000 | K50: 1000 | L50: DISHUB
A51: 47 | B51: 450 | C51: 719 | D51: RUDI | E51: MAKASSAR | F51: 1 pasal : Pasal 308 huruf a Jo Pasal 173 ayat (1) huruf a] Tanpa Izin dalam Trayek | G51: DD8142RF | H51: 50|BUKU KIR | I51: 1826943 | J51: 149000 | K51: 1000 | L51: DISHUB
A52: 48 | B52: 451 | C52: 720 | D52: TUDDING | E52: MAKASSAR | F52: 1 pasal : Pasal 288 ayat (3) Jo Pasal 106 ayat (5) huruf c | G52: DD8669SK | H52: 50|BUKU KIR | I52: 1826955 | J52: 149000 | K52: 1000 | L52: DISHUB
A53: 49 | B53: 452 | C53: 721 | D53: TAJUDDIN | E53: MAKASSAR | F53: 1 pasal : Pasal 288 ayat (3) Jo Pasal 106 ayat (5) huruf c | G53: DD8444UD | H53: 50|BUKU KIR | I53: 1826954 | J53: 149000 | K53: 1000 | L53: DISHUB
A54: 50 | B54: 453 | C54: 722 | D54: ANDI | E54: MAKASSAR | F54: 1 pasal : Pasal 288 ayat (3) Jo Pasal 106 ayat (5) huruf c | G54: DP8996DF | H54: 50|BUKU KIR | I54: 1826953 | J54: 149000 | K54: 1000 | L54: DISHUB
A55: 51 | B55: 454 | C55: 723 | D55: ISMAIL | E55: MAKASSAR | F55: 1 pasal : Pasal 288 ayat (3) Jo Pasal 106 ayat (5) huruf c | G55: DD8763XR | H55: 50|BUKU KIR | I55: 1826971 | J55: 149000 | K55: 1000 | L55: DISHUB
A56: 52 | B56: 455 | C56: 724 | D56: RUSDI | E56: MAKASSAR | F56: 1 pasal : Pasal 288 ayat (3) Jo Pasal 106 ayat (5) huruf c | G56: B9604PCN | H56: 50|BUKU KIR | I56: 1826952 | J56: 74000 | K56: 1000 | L56: DISHUB
... A76: 72 | B76: 475 | C76: 744 | D76: SAIFUL | E76: MAKASSAR | F76: 1 pasal : Pasal 288 ayat (3) Jo Pasal 106 ayat (5) huruf c | G76: DD1585AI | H76: 50|BUKU KIR | I76: 1826932 | J76: 149000 | K76: 1000 | L76: DISHUB
M77: =SUM(J5:J76) -> 9353000 | N77: =SUM(K5:K76) -> 72000
K78: T O T A L | M78: =SUM(M77) -> 9353000 | N78: =SUM(N77) -> 72000

Sheet Lap. Bulan 4
A1: LAPORAN PERKARA LALU LINTAS (TILANG) / PERKARA PIDANA CEPAT (TIPIRING)
A2: BULAN APRIL 2021
A4: NO. | B4: TANGGAL SIDANG | C4: NO. PERKARA | F4: KESATUAN | J4: JUMLAH BERKAS | K4: JUMLAH DENDA | L4: JUMLAH BIAYA PERKARA | M4: KET. BEBAS | N4: HAKIM | O4: PANITERA PENGGANTI | P4: TGL PENYERAHAN KEJAKSAAN
F6: A | G6: B | H6: C | I6: D
A7: 1 | B7: 44295 | C7: =SUM('Tgl. 09.04.2021'!C5) -> 745 | D7: S/D | E7: =SUM('Tgl. 09.04.2021'!C171) -> 911 | F7: ='Tgl. 09.04.2021'!A172 -> 168 | G7: 0 | H7: 0 | I7: 0 | J7: =SUM(F7:I7) -> 168 | K7: =SUM('Tgl. 09.04.2021'!M174) -> 23432000 | L7: =SUM(J7*1000)-(M7*1000) -> 168000 | M7: 0 | N7: HARTO PANCONO,S.H.,M.H. | O7: MUSDALIFAH MUSLIMIN,S.H.,M.H. | P7: 44295
A8: 2 | B8: 44302 | C8: =SUM('Tgl. 16.04.2021'!C5) -> 913 | D8: S/D | E8: =SUM('Tgl. 16.04.2021'!C169) -> 1070 | F8: ='Tgl. 16.04.2021'!A160 -> 156 | G8: ='Tgl. 16.04.2021'!A169 -> 2 | H8: 0 | I8: 0 | J8: =SUM(F8:I8) -> 158 | K8: =SUM('Tgl. 16.04.2021'!M171) -> 24092000 | L8: =SUM(J8*1000)-(M8*1000) -> 158000 | M8: 0 | N8: YAMTO SUSENA,S.H.,M.H. | O8: SABANIA H,S.H.,M.H. | P8: 44302
A9: 3 | B9: 44309 | C9: =SUM('Tgl. 23.04.2021'!C5) -> 1071 | D9: S/D | E9: =SUM('Tgl. 23.04.2021'!C129) -> 1195 | F9: ='Tgl. 23.04.2021'!A129 -> 125 | G9: 0 | H9: 0 | I9: 0 | J9: =SUM(F9:I9) -> 125 | K9: =SUM('Tgl. 23.04.2021'!M131) -> 17975000 | L9: =SUM(J9*1000)-(M9*1000) -> 125000 | M9: 0 | N9: SURATNO,S.H. | O9: H. MUHAMMAD TAUFIK,S.H. | P9: 44309
A10: 4 | B10: 44316 | C10: =SUM('Tgl. 30.04.2021'!C5) -> 1196 | D10: S/D | E10: =SUM('Tgl. 30.04.2021'!C112) -> 1296 | F10: ='Tgl. 30.04.2021'!A104 -> 100 | G10: 0 | H10: 0 | I10: ='Tgl. 30.04.2021'!A112 -> 1 | J10: =SUM(F10:I10) -> 101 | K10: =SUM('Tgl. 30.04.2021'!L114) -> 14049000 | L10: =SUM(J10*1000)-(M10*1000) -> 101000 | M10: 0 | N10: BURHANUDDIN,S.H.,M.H. | O10: Hj. JUSTIAH SAID,S.H.,M.H. | P10: 44316
A11: JUMLAH KESELURUHAN : | F11: =SUM(F7:F10) -> 549 | G11: =SUM(G7:G10) -> 2 | H11: =SUM(H7:H10) -> 0 | I11: =SUM(I7:I10) -> 1 | J11: =SUM(J7:J10) -> 552 | K11: =SUM(K7:K10) -> 79548000 | L11: =SUM(L7:L10) -> 552000 | M11: =SUM(M7:M10) -> 0
A12: KETERANGAN :
A13: A= POLRESTABES | E13: C= PJR
A14: B= PELABUHAN | E14: D= DITLANTAS
A16: TIPIRING | C16: : | D16: 1 BERKAS

Sheet Tgl. 09.04.2021
A1: PENGADILAN NEGERI MAKASSAR
A2: TANGGAL 09.04.2021
D3: P O L R E S T A B E S
A4: NO. | B4: NO. BULAN | C4: NO. REG | D4: NAMA TERDAKWA/ TERPIDANA | E4: ALAMAT TERDAKWA/ TERPIDANA | F4: PASAL YANG DILANGGAR | G4: NO. POLISI | H4: BARANG BUKTI | I4: NO. TILANG | J4: DENDA | K4: ONGKOS PERKARA
A5: 1 | B5: 476 | C5: 745 | D5: MULYADI | E5: JL P KEMERDEKAAN | F5: 1 pasal : Pasal 291 ayat (2) Jo Pasal 106 ayat (8) | G5: DD5698UZ | H5: 20|STNK | I5: F7761641 | J5: 99000 | K5: 1000
A6: 2 | B6: 477 | C6: 746 | D6: SILASERUS | E6: MUDUNG | F6: 1 pasal : Pasal 291 ayat (1) Jo Pasal 106 ayat (8) | G6: DD3641SQ | H6: 10|SIM C | I6: F7761646 | J6: 149000 | K6: 1000
A7: 3 | B7: 478 | C7: 747 | D7: FERDINAND | E7: KAB TANA TORAJA | F7: 1 pasal : Pasal 287 ayat (1) jo Pasal 106 ayat (4) huruf a | G7: DD2589US | H7: 10|SIM C | I7: F7761483 | J7: 99000 | K7: 1000
A8: 4 | B8: 479 | C8: 748 | D8: ALFAKA ABU | E8: KAB GOWA | F8: 1 pasal : Pasal 287 ayat (1) jo Pasal 106 ayat (4) huruf a | G8: DD5069NK | H8: 20|STNK | I8: F7761629 | J8: 99000 | K8: 1000
A9: 5 | B9: 480 | C9: 749 | D9: ALISYA | F9: 1 pasal : Pasal 287 ayat (1) jo Pasal 106 ayat (4) huruf a | G9: DD4267QA | H9: 20|STNK | I9: F7761664 | J9: 149000 | K9: 1000
A10: 6 | B10: 481 | C10: 750 | D10: SUCI | F10: 2 pasal : Pasal 291 ayat (1) Jo Pasal 106 ayat (8),Pasal 291 ayat (2) Jo Pasal 106 ayat (8) | G10: DD6243SD | H10: 20|STNK | I10: F7761622 | J10: 99000 | K10: 1000
A11: 7 | B11: 482 | C11: 751 | D11: ALXIUS | F11: 1 pasal : Pasal 291 ayat (1) Jo Pasal 106 ayat (8) | G11: DD3484YI | H11: 20|STNK | I11: F7761645 | J11: 49000 | K11: 1000
A12: 8 | B12: 483 | C12: 752 | D12: ARYO | E12: JL DG TATA | F12: 1 pasal : Pasal 288 ayat (2) jo Pasal 106 ayat (5) huruf b | G12: DD2015VJ | H12: 20|STNK | I12: F7761624 | J12: 99000 | K12: 1000
A13: 9 | B13: 484 | C13: 753 | D13: AISYAH | E13: JL DAHLIA | F13: 1 pasal : Pasal 291 ayat (1) Jo Pasal 106 ayat (8) | G13: DD2982YI | H13: 20|STNK | I13: F7761623 | J13: 149000 | K13: 1000
A14: 10 | B14: 485 | C14: 754 | D14: HASMAH | E14: JL KESEMPATAN | F14: 1 pasal : Pasal 287 ayat (1) jo Pasal 106 ayat (4) huruf a | G14: DD2022KO | H14: 20|STNK | I14: F7761543 | J14: 49000 | K14: 1000
A15: 11 | B15: 486 | C15: 755 | D15: YUSUF | E15: JL INSPEKSI KANAL | F15: 1 pasal : Pasal 280 jo Pasal 68 ayat (1) | G15: DD6375QY | H15: 10|SIM C | I15: F7761667 | J15: 149000 | K15: 1000
A16: 12 | B16: 487 | C16: 756 | D16: RAMLI | E16: GENTUNGANG GOWA | F16: 1 pasal : Pasal 291 ayat (1) Jo Pasal 106 ayat (8) | G16: DD---------- | H16: 10|SIM C | I16: F7761079 | J16: 99000 | K16: 1000
A17: 13 | B17: 488 | C17: 757 | D17: MUH BAYU | E17: JL MUH JUFRI | F17: 1 pasal : Pasal 291 ayat (1) Jo Pasal 106 ayat (8) | G17: DD5709SJ | H17: 20|STNK | I17: F7761668 | J17: 99000 | K17: 1000
A18: 14 | B18: 489 | C18: 758 | D18: ADRIAN | E18: JL. RAJA DG NAI | F18: 2 pasal : Pasal 281 jo Pasal 77 ayat (1),Pasal 287 ayat (1) jo Pasal 106 ayat (4) huruf a | G18: DD6762LZ | H18: 20|STNK | I18: F7761626 | J18: 49000 | K18: 1000
A19: 15 | B19: 490 | C19: 759 | D19: ANDI | E19: JL IR SUTAMI | F19: 2 pasal : Pasal 287 ayat (1) jo Pasal 106 ayat (4) huruf a dan Pasal 106 ayat (4) huruf b,Pasal 288 ayat (2) jo Pasal 106 ayat (5) huruf b | G19: DD8816RA | H19: 20|STNK | I19: F7760935 | J19: 199000 | K19: 1000
A20: 16 | B20: 491 | C20: 760 | D20: PAULUS | F20: 1 pasal : Pasal 287 ayat (1) jo Pasal 106 ayat (4) huruf a | G20: DD2024UE | H20: 20|STNK | I20: F7761666 | J20: 99000 | K20: 1000
A21: 17 | B21: 492 | C21: 761 | D21: ALIF JULVAINI | E21: JL S ALAUDDIN | F21: 1 pasal : Pasal 287 ayat (1) jo Pasal 106 ayat (4) huruf a | G21: DW2396EU | H21: 20|STNK | I21: F7761665 | J21: 49000 | K21: 1000
A22: 18 | B22: 493 | C22: 762 | D22: JUSMAN | E22: GOWA | F22: 1 pasal : Pasal 285 ayat (1) Jo Pasal 106 ayat (3) | G22: DD5606UE | H22: 20|STNK | I22: F7761619 | J22: 99000 | K22: 1000
